BEGIN:VCALENDAR
VERSION:2.0
PRODID:-//Bodyshop Magazine - ECPv6.15.18//NONSGML v1.0//EN
CALSCALE:GREGORIAN
METHOD:PUBLISH
X-ORIGINAL-URL:https://www.bodyshopmag.com
X-WR-CALDESC:Events for Bodyshop Magazine
REFRESH-INTERVAL;VALUE=DURATION:PT1H
X-Robots-Tag:noindex
X-PUBLISHED-TTL:PT1H
BEGIN:VTIMEZONE
TZID:Europe/London
BEGIN:DAYLIGHT
TZOFFSETFROM:+0000
TZOFFSETTO:+0100
TZNAME:BST
DTSTART:20210328T010000
END:DAYLIGHT
BEGIN:STANDARD
TZOFFSETFROM:+0100
TZOFFSETTO:+0000
TZNAME:GMT
DTSTART:20211031T010000
END:STANDARD
BEGIN:DAYLIGHT
TZOFFSETFROM:+0000
TZOFFSETTO:+0100
TZNAME:BST
DTSTART:20220327T010000
END:DAYLIGHT
BEGIN:STANDARD
TZOFFSETFROM:+0100
TZOFFSETTO:+0000
TZNAME:GMT
DTSTART:20221030T010000
END:STANDARD
BEGIN:DAYLIGHT
TZOFFSETFROM:+0000
TZOFFSETTO:+0100
TZNAME:BST
DTSTART:20230326T010000
END:DAYLIGHT
BEGIN:STANDARD
TZOFFSETFROM:+0100
TZOFFSETTO:+0000
TZNAME:GMT
DTSTART:20231029T010000
END:STANDARD
END:VTIMEZONE
BEGIN:VEVENT
DTSTART;TZID=Europe/London:20221020T090000
DTEND;TZID=Europe/London:20221020T170000
DTSTAMP:20260422T232407
CREATED:20210311T091758Z
LAST-MODIFIED:20221117T163457Z
UID:34701-1666256400-1666285200@www.bodyshopmag.com
SUMMARY:IBIS TURKEY 2022
DESCRIPTION:IBIS Turkey returns to a face-to-face event again in October 2022 at a new home in Istanbul – the Sheraton Hotel Levent. Continuing the IBIS 2022 events theme of “Ready\, Steady\, Grow” that shaped and guided IBISConnect Türkiye last year\, Turkish collision repair industry leaders and influencers from all stakeholders and sectors will meet once again to continue the discussion and debate.
URL:https://www.bodyshopmag.com/events-diary/ibis-turkey/
LOCATION:Sheraton Hotel Levent\, Buyukdere Caddesi No 3-4\, 4 Levent\, Istanbul\, Kagithane\, 34330\, Turkey
CATEGORIES:General Events
ORGANIZER;CN="IBIS Worldwide":MAILTO:suzie@ibisworldwide.com
END:VEVENT
END:VCALENDAR