BEGIN:VCALENDAR
VERSION:2.0
PRODID:-//Bodyshop Magazine - ECPv6.15.18//NONSGML v1.0//EN
CALSCALE:GREGORIAN
METHOD:PUBLISH
X-WR-CALNAME:Bodyshop Magazine
X-ORIGINAL-URL:https://www.bodyshopmag.com
X-WR-CALDESC:Events for Bodyshop Magazine
REFRESH-INTERVAL;VALUE=DURATION:PT1H
X-Robots-Tag:noindex
X-PUBLISHED-TTL:PT1H
BEGIN:VTIMEZONE
TZID:Europe/London
BEGIN:DAYLIGHT
TZOFFSETFROM:+0000
TZOFFSETTO:+0100
TZNAME:BST
DTSTART:20210328T010000
END:DAYLIGHT
BEGIN:STANDARD
TZOFFSETFROM:+0100
TZOFFSETTO:+0000
TZNAME:GMT
DTSTART:20211031T010000
END:STANDARD
BEGIN:DAYLIGHT
TZOFFSETFROM:+0000
TZOFFSETTO:+0100
TZNAME:BST
DTSTART:20220327T010000
END:DAYLIGHT
BEGIN:STANDARD
TZOFFSETFROM:+0100
TZOFFSETTO:+0000
TZNAME:GMT
DTSTART:20221030T010000
END:STANDARD
BEGIN:DAYLIGHT
TZOFFSETFROM:+0000
TZOFFSETTO:+0100
TZNAME:BST
DTSTART:20230326T010000
END:DAYLIGHT
BEGIN:STANDARD
TZOFFSETFROM:+0100
TZOFFSETTO:+0000
TZNAME:GMT
DTSTART:20231029T010000
END:STANDARD
END:VTIMEZONE
BEGIN:VEVENT
DTSTART;TZID=Europe/London:20220714T090000
DTEND;TZID=Europe/London:20220714T170000
DTSTAMP:20260425T151125
CREATED:20210311T091419Z
LAST-MODIFIED:20220706T160846Z
UID:34700-1657789200-1657818000@www.bodyshopmag.com
SUMMARY:IBIS LATIN AMERICA 2022
DESCRIPTION:Continuing the IBIS theme of “Ready. Steady. Grow”\, IBIS Latin America 2022 will be held alongside Automechanika Mexico City at the Centro CitiBanamex. This one-day event will offer a packed agenda including a market update on the Latin American collision repair market\, technical presentations covering the impact of repairing new technology vehicles\, how collision shops need to prepare for the future\, as well as the staff training requirements\, plus industry interviews discussing the digitisation of claims and the appraisal process.
URL:https://www.bodyshopmag.com/events-diary/ibis-latin-america/
LOCATION:Centro Citibanamex (Mexico)\, Conscipto 311\, Mexico City\, Lomas de Sotelo\, 11200\, Mexico
CATEGORIES:General Events
ORGANIZER;CN="IBIS Worldwide":MAILTO:suzie@ibisworldwide.com
END:VEVENT
END:VCALENDAR