BEGIN:VCALENDAR
VERSION:2.0
PRODID:-//Bodyshop Magazine - ECPv6.15.18//NONSGML v1.0//EN
CALSCALE:GREGORIAN
METHOD:PUBLISH
X-WR-CALNAME:Bodyshop Magazine
X-ORIGINAL-URL:https://www.bodyshopmag.com
X-WR-CALDESC:Events for Bodyshop Magazine
REFRESH-INTERVAL;VALUE=DURATION:PT1H
X-Robots-Tag:noindex
X-PUBLISHED-TTL:PT1H
BEGIN:VTIMEZONE
TZID:Europe/London
BEGIN:DAYLIGHT
TZOFFSETFROM:+0000
TZOFFSETTO:+0100
TZNAME:BST
DTSTART:20240331T010000
END:DAYLIGHT
BEGIN:STANDARD
TZOFFSETFROM:+0100
TZOFFSETTO:+0000
TZNAME:GMT
DTSTART:20241027T010000
END:STANDARD
BEGIN:DAYLIGHT
TZOFFSETFROM:+0000
TZOFFSETTO:+0100
TZNAME:BST
DTSTART:20250330T010000
END:DAYLIGHT
BEGIN:STANDARD
TZOFFSETFROM:+0100
TZOFFSETTO:+0000
TZNAME:GMT
DTSTART:20251026T010000
END:STANDARD
BEGIN:DAYLIGHT
TZOFFSETFROM:+0000
TZOFFSETTO:+0100
TZNAME:BST
DTSTART:20260329T010000
END:DAYLIGHT
BEGIN:STANDARD
TZOFFSETFROM:+0100
TZOFFSETTO:+0000
TZNAME:GMT
DTSTART:20261025T010000
END:STANDARD
END:VTIMEZONE
BEGIN:VEVENT
DTSTART;TZID=Europe/London:20250802T180000
DTEND;TZID=Europe/London:20250802T233000
DTSTAMP:20260421T174656
CREATED:20250721T083731Z
LAST-MODIFIED:20250721T095810Z
UID:52537-1754157600-1754177400@www.bodyshopmag.com
SUMMARY:Stellantis Stellar Accident Repair Programme Awards 2025
DESCRIPTION:The second annual Stellantis Stellar Accident Repair Programme Awards will take place in Manchester on Saturday\, 2 August. The finalists have all been nominated by their regional bodyshop development manager and the winning repairers will be selected by the Stellantis Accident Repair Programme management team based on a variety of criteria and each winner’s contribution to the programme.
URL:https://www.bodyshopmag.com/events-diary/stellantis-stellar-accident-repair-programme-awards-2025/
LOCATION:Hilton Manchester Deansgate\, 303 Deansgate\, Manchester\, M3 4LQ\, United Kingdom
CATEGORIES:General Events
ATTACH;FMTTYPE=image/jpeg:https://www.bodyshopmag.com/wp-content/uploads/2024/08/2-BSM_Awards24_partner_Stellantis.jpg
END:VEVENT
BEGIN:VEVENT
DTSTART;TZID=Europe/London:20250805T093000
DTEND;TZID=Europe/London:20250805T170000
DTSTAMP:20260421T174656
CREATED:20250721T082507Z
LAST-MODIFIED:20250721T082508Z
UID:52536-1754386200-1754413200@www.bodyshopmag.com
SUMMARY:BODYSHOP AWARDS 2025 JURY DAY
DESCRIPTION:Bodyshop Magazine’s independent panel of industry experts will meet at the Eyebox Training and Conference Centre in Coventry to decide the finalists and winners of the non-technical categories in this year’s Bodyshop Awards\, which takes place on Monday and Tuesday\, 20-21 October at The Belfry Hotel & Resort near Sutton Coldfield. All the finalists will be announced in the weeks following Jury Day and the winners will be unveiled during the Bodyshop Awards & Expo 2025 gala dinner on 21 October.
URL:https://www.bodyshopmag.com/events-diary/bodyshop-awards-2025-jury-day/
LOCATION:Eyebox Training and Conference Centre\, Spires Industrial Estate\, Ibstock Road\, Longford\, Coventry\, CV6 6JR\, United Kingdom
CATEGORIES:General Events
ATTACH;FMTTYPE=image/jpeg:https://www.bodyshopmag.com/wp-content/uploads/2025/05/BSM_awards_website_graphic_banner-registration_featured_opt.jpg
ORGANIZER;CN="Bodyshop Magazine":MAILTO:info@bodyshopmag.com
END:VEVENT
BEGIN:VEVENT
DTSTART;TZID=Europe/London:20250815T090000
DTEND;TZID=Europe/London:20250817T170000
DTSTAMP:20260421T174656
CREATED:20241001T143306Z
LAST-MODIFIED:20250709T155903Z
UID:49052-1755248400-1755450000@www.bodyshopmag.com
SUMMARY:British Motor Show 2025
DESCRIPTION:The British Motor Show delivers a unique weekend of entertainment\, driving experiences\, technology and live content. The latest cars\, stunt shows\, celebrities on stage\, under-17 driving and test drives all create memorable moments for the estimated 60\,000 visitors who go through the gates at Farnborough International. The show delivers an amazing display of ultra rare supercars\, amazing classic cars\, the latest new cars and EV’s\, plus modified cars\, motorsport and kids rides\, too.
URL:https://www.bodyshopmag.com/events-diary/british-motor-show-2025/
LOCATION:Farnborough International Exhibition and Conference Centre\, Etps Road\, Farnborough\, GU14 6FD\, United Kingdom
CATEGORIES:General Events
ATTACH;FMTTYPE=image/jpeg:https://www.bodyshopmag.com/wp-content/uploads/2024/10/BSM_British_Motor_Show_2025_JUL25.jpg
ORGANIZER;CN="Automotion Events":MAILTO:enquiries@thebritishmotorshow.live
END:VEVENT
BEGIN:VEVENT
DTSTART;TZID=Europe/London:20250822T080000
DTEND;TZID=Europe/London:20250824T170000
DTSTAMP:20260421T174656
CREATED:20241104T091315Z
LAST-MODIFIED:20241104T091315Z
UID:49391-1755849600-1756054800@www.bodyshopmag.com
SUMMARY:Silverstone Festival 2025
DESCRIPTION:Marking the 75th anniversary of the FIA Formula 1 World Championship\, the 2025 Silverstone Festival promises epic track battles\, festival vibes\, three nights of live music\, and much for the whole family over the August Bank Holiday weekend.
URL:https://www.bodyshopmag.com/events-diary/silverstone-festival-2025/
LOCATION:Silverstone Circuit\, Towcester\, Northants\, NN12 8TN\, United Kingdom
CATEGORIES:General Events
END:VEVENT
BEGIN:VEVENT
DTSTART;TZID=Europe/London:20250823T090000
DTEND;TZID=Europe/London:20250826T170000
DTSTAMP:20260421T174656
CREATED:20250114T095235Z
LAST-MODIFIED:20250114T095235Z
UID:49993-1755939600-1756227600@www.bodyshopmag.com
SUMMARY:AutoMotiva 2025 (Uzbekistan)
DESCRIPTION:The third AutoMotiva (also known as Automotive Tashkent) will provide an excellent opportunity to explore the latest innovations and technologies in Central Asia’s fast-growing automotive market. The event will cover all areas of the sector\, including body and paint\, and boasts a broad trade show profile including 20\,000 visitors from 12 countries\, 133 exhibitors\, 400 brands\, and a 25\,000 sqm exhibition space.
URL:https://www.bodyshopmag.com/events-diary/automotiva-2025-uzbekistan/
LOCATION:UzExpo Centre\, 107 Amir Temur Street\, Tashkent\, 100084\, Uzbekistan
CATEGORIES:General Events
ORGANIZER;CN="IntroFair":MAILTO:info@introfair.com
END:VEVENT
BEGIN:VEVENT
DTSTART;TZID=Europe/London:20250827T090000
DTEND;TZID=Europe/London:20250831T170000
DTSTAMP:20260421T174656
CREATED:20250407T115651Z
LAST-MODIFIED:20250407T115651Z
UID:51325-1756285200-1756659600@www.bodyshopmag.com
SUMMARY:Salon Privé
DESCRIPTION:Blenheim Palace provides the perfect backdrop for this unforgettable automotive experience. Add in a line-up of automotive classics and supercars\, rare vintage vehicles and the latest hypercars\, as Salon Privé showcases a curated collection that will delight automotive enthusiasts.
URL:https://www.bodyshopmag.com/events-diary/salon-prive/
LOCATION:Blenheim Palace\, Woodstock\, Oxfordshire\, OX20 1UL\, United Kingdom
CATEGORIES:General Events
ORGANIZER;CN="Performance Events":MAILTO:enquiries@salonprivelondon.com
END:VEVENT
END:VCALENDAR