BEGIN:VCALENDAR
VERSION:2.0
PRODID:-//Bodyshop Magazine - ECPv6.15.18//NONSGML v1.0//EN
CALSCALE:GREGORIAN
METHOD:PUBLISH
X-WR-CALNAME:Bodyshop Magazine
X-ORIGINAL-URL:https://www.bodyshopmag.com
X-WR-CALDESC:Events for Bodyshop Magazine
REFRESH-INTERVAL;VALUE=DURATION:PT1H
X-Robots-Tag:noindex
X-PUBLISHED-TTL:PT1H
BEGIN:VTIMEZONE
TZID:Europe/London
BEGIN:DAYLIGHT
TZOFFSETFROM:+0000
TZOFFSETTO:+0100
TZNAME:BST
DTSTART:20240331T010000
END:DAYLIGHT
BEGIN:STANDARD
TZOFFSETFROM:+0100
TZOFFSETTO:+0000
TZNAME:GMT
DTSTART:20241027T010000
END:STANDARD
BEGIN:DAYLIGHT
TZOFFSETFROM:+0000
TZOFFSETTO:+0100
TZNAME:BST
DTSTART:20250330T010000
END:DAYLIGHT
BEGIN:STANDARD
TZOFFSETFROM:+0100
TZOFFSETTO:+0000
TZNAME:GMT
DTSTART:20251026T010000
END:STANDARD
BEGIN:DAYLIGHT
TZOFFSETFROM:+0000
TZOFFSETTO:+0100
TZNAME:BST
DTSTART:20260329T010000
END:DAYLIGHT
BEGIN:STANDARD
TZOFFSETFROM:+0100
TZOFFSETTO:+0000
TZNAME:GMT
DTSTART:20261025T010000
END:STANDARD
END:VTIMEZONE
BEGIN:VEVENT
DTSTART;TZID=Europe/London:20250703T090000
DTEND;TZID=Europe/London:20250703T170000
DTSTAMP:20260421T162308
CREATED:20250224T190002Z
LAST-MODIFIED:20250224T190002Z
UID:50436-1751533200-1751562000@www.bodyshopmag.com
SUMMARY:The ITAI Crash Day 2025
DESCRIPTION:The Institute of Traffic Accident Investigators’ ever-popular Crash Day is moving to early July this year. This is the ITAI’s successful research day\, where attendees can view multiple staged crashes. Book early to avoid disappointment.
URL:https://www.bodyshopmag.com/events-diary/the-itai-crash-day-2025/
LOCATION:Darley Moor Sports Centre\, Darley Moor\, Ashbourne\, Derbyshire\, DE6 2ET\, United Kingdom
CATEGORIES:General Events
ORGANIZER;CN="Institute of Traffic Accident Investigators (ITAI)":MAILTO:admin@itai.org
END:VEVENT
BEGIN:VEVENT
DTSTART;TZID=Europe/London:20250709T090000
DTEND;TZID=Europe/London:20250710T170000
DTSTAMP:20260421T162308
CREATED:20240726T101104Z
LAST-MODIFIED:20240726T101104Z
UID:47941-1752051600-1752166800@www.bodyshopmag.com
SUMMARY:Advanced Materials Show 2025
DESCRIPTION:The co-located Advanced Materials Show and Advanced Ceramics Show aim to offer insights into current and future materials\, including those used in automotive\, with international experts from all sides of the industry in attendance. The entire global innovation chain will be present at the show\, which is dedicated to the development and application of high-performance materials technology. Also co-located will be the Battery Cells & Systems Expo and Vehicle Electrification Expo\, bringing together four connected industries for two days of networking\, lead generation and education.
URL:https://www.bodyshopmag.com/events-diary/advanced-materials-show-2025/
LOCATION:National Exhibition Centre (NEC)\, North Avenue\, Marston Green\, Birmingham\, B40 1NT\, United Kingdom
CATEGORIES:General Events
ORGANIZER;CN="Event Partners":MAILTO:enquiries@event-partners.org
END:VEVENT
BEGIN:VEVENT
DTSTART;TZID=Europe/London:20250709T180000
DTEND;TZID=Europe/London:20250709T233000
DTSTAMP:20260421T162308
CREATED:20250407T115155Z
LAST-MODIFIED:20250407T115155Z
UID:51324-1752084000-1752103800@www.bodyshopmag.com
SUMMARY:British Insurance Awards
DESCRIPTION:Insurance Post’s British Insurance Awards 2025 aim to celebrate insurance excellence\, while honouring the game-changers\, innovators and stars who are leading the way.
URL:https://www.bodyshopmag.com/events-diary/british-insurance-awards-2/
LOCATION:Royal Albert Hall\, Kensington Gore\, London\, SW7 2AP
CATEGORIES:Awards,General Events
END:VEVENT
BEGIN:VEVENT
DTSTART;TZID=Europe/London:20250710T093000
DTEND;TZID=Europe/London:20250710T153000
DTSTAMP:20260421T162308
CREATED:20250613T130624Z
LAST-MODIFIED:20250613T130624Z
UID:52153-1752139800-1752161400@www.bodyshopmag.com
SUMMARY:Ben Vision Launch Event
DESCRIPTION:For 120 years\, Ben has supported the people powering the automotive industry. At this invitation event in July\, it will unveil its most ambitious roadmap yet\, designed to meet the growing needs of automotive people and a sector that’s changing fast. Ben and leaders from across the industry will share their vision of where Ben is headed\, and how the industry can help shape what comes next.
URL:https://www.bodyshopmag.com/events-diary/ben-vision-launch-event/
LOCATION:British Motor Museum\, Banbury Road\, Gaydon\, Warwickshire\, CV35 0BJ\, United Kingdom
CATEGORIES:General Events
END:VEVENT
BEGIN:VEVENT
DTSTART;TZID=Europe/London:20250716T090000
DTEND;TZID=Europe/London:20250718T170000
DTSTAMP:20260421T162308
CREATED:20241007T102852Z
LAST-MODIFIED:20241007T102852Z
UID:49136-1752656400-1752858000@www.bodyshopmag.com
SUMMARY:INA PAACE Automechanika Mexico 2025
DESCRIPTION:The main platform for the automotive community in Latin America\, INA PAACE Automechanika Mexico offers unparalleled opportunities to connect with new suppliers\, explore cutting-edge product technologies\, and engage in top-tier educational and networking experiences.
URL:https://www.bodyshopmag.com/events-diary/ina-paace-automechanika-mexico-2025/
LOCATION:Centro Citibanamex (Mexico)\, Conscipto 311\, Mexico City\, Lomas de Sotelo\, 11200\, Mexico
CATEGORIES:General Events
END:VEVENT
BEGIN:VEVENT
DTSTART;TZID=Europe/London:20250725T090000
DTEND;TZID=Europe/London:20250726T170000
DTSTAMP:20260421T162308
CREATED:20250109T093309Z
LAST-MODIFIED:20250109T093309Z
UID:49948-1753434000-1753549200@www.bodyshopmag.com
SUMMARY:Concours of Elegance Germany
DESCRIPTION:Following its inaugural event in 2024\, the Concours of Elegance Germany is set to return this July and will once again be held at the Gut Kaltenbrunn on the shores of Lake Tegernsee. Presented by A Lange & Söhne\, with an exclusive auction by RM Sotheby’s\, Germany’s premier international concours event promises to be a supreme celebration of automotive brilliance\, elegance\, and heritage.
URL:https://www.bodyshopmag.com/events-diary/concours-of-elegance-germany/
LOCATION:Gut Kaltenbrunn\, Kaltenbrunn 1\, Gmund am Tegernsee\, 83703\, Germany
CATEGORIES:General Events
ORGANIZER;CN="Thorough Events":MAILTO:iain@thoroughevents.co.uk
END:VEVENT
BEGIN:VEVENT
DTSTART;TZID=Europe/London:20250728T090000
DTEND;TZID=Europe/London:20250730T170000
DTSTAMP:20260421T162308
CREATED:20250426T130545Z
LAST-MODIFIED:20250721T100038Z
UID:51516-1753693200-1753894800@www.bodyshopmag.com
SUMMARY:BODYSHOP AWARDS 2025 TECHNICIAN ASSESSMENTS
DESCRIPTION:The technician assessments for the finalists in all seven Bodyshop Awards 2025 technical categories will take place at the Thatcham Research Automotive Academy from 28-30 July. The technical categories this year are as follows: \n\nPowered by asTech – Bodyshop Thatcham Advanced Technologies Technician of the Year\nPowered by Vizion – Bodyshop Thatcham Panel Technician of the Year\nPowered by Vizion – Bodyshop Thatcham Paint Technician of the Year\nPowered by Vizion – Bodyshop Thatcham Apprentice Panel Technician of the Year\nPowered by Vizion – Bodyshop Thatcham Apprentice Paint Technician of the Year\nBodyshop Thatcham Apprentice MET Technician of the Year\nPowered by IAEA – Bodyshop Thatcham VDA of the Year
URL:https://www.bodyshopmag.com/events-diary/bodyshop-awards-2025-technician-assessments/
LOCATION:Thatcham Research\, Colthrop Way\, Thatcham\, Berkshire\, RG19 4NR\, United Kingdom
CATEGORIES:General Events
ATTACH;FMTTYPE=image/jpeg:https://www.bodyshopmag.com/wp-content/uploads/2025/06/BSM_Thatcham_Research_JUN25.jpg
ORGANIZER;CN="Bodyshop Magazine":MAILTO:info@bodyshopmag.com
END:VEVENT
END:VCALENDAR