BEGIN:VCALENDAR
VERSION:2.0
PRODID:-//Bodyshop Magazine - ECPv6.15.18//NONSGML v1.0//EN
CALSCALE:GREGORIAN
METHOD:PUBLISH
X-ORIGINAL-URL:https://www.bodyshopmag.com
X-WR-CALDESC:Events for Bodyshop Magazine
REFRESH-INTERVAL;VALUE=DURATION:PT1H
X-Robots-Tag:noindex
X-PUBLISHED-TTL:PT1H
BEGIN:VTIMEZONE
TZID:Europe/London
BEGIN:DAYLIGHT
TZOFFSETFROM:+0000
TZOFFSETTO:+0100
TZNAME:BST
DTSTART:20220327T010000
END:DAYLIGHT
BEGIN:STANDARD
TZOFFSETFROM:+0100
TZOFFSETTO:+0000
TZNAME:GMT
DTSTART:20221030T010000
END:STANDARD
BEGIN:DAYLIGHT
TZOFFSETFROM:+0000
TZOFFSETTO:+0100
TZNAME:BST
DTSTART:20230326T010000
END:DAYLIGHT
BEGIN:STANDARD
TZOFFSETFROM:+0100
TZOFFSETTO:+0000
TZNAME:GMT
DTSTART:20231029T010000
END:STANDARD
BEGIN:DAYLIGHT
TZOFFSETFROM:+0000
TZOFFSETTO:+0100
TZNAME:BST
DTSTART:20240331T010000
END:DAYLIGHT
BEGIN:STANDARD
TZOFFSETFROM:+0100
TZOFFSETTO:+0000
TZNAME:GMT
DTSTART:20241027T010000
END:STANDARD
END:VTIMEZONE
BEGIN:VEVENT
DTSTART;TZID=Europe/London:20230830T090000
DTEND;TZID=Europe/London:20230902T170000
DTSTAMP:20260422T033503
CREATED:20230615T100347Z
LAST-MODIFIED:20230615T101252Z
UID:43547-1693386000-1693674000@www.bodyshopmag.com
SUMMARY:Salon Privé Concours 2023
DESCRIPTION:Salon Privé will curate 75 of the rarest and most desirable collector cars in the world\, all vying for the Best of Show adjudged by our esteemed ICJAG Jury. The show field will feature treasures from Edwardian era as well as some of the rarest and most valuable grand tourers\, classic sports racers\, era-defining icons and racing legends\, alongside the world’s latest and greatest supercars and concepts from the present and future.
URL:https://www.bodyshopmag.com/events-diary/salon-prive-concours-2023/
LOCATION:Blenheim Palace\, Woodstock\, Oxfordshire\, OX20 1UL\, United Kingdom
CATEGORIES:General Events
ORGANIZER;CN="Performance Events":MAILTO:enquiries@salonprivelondon.com
END:VEVENT
BEGIN:VEVENT
DTSTART;TZID=Europe/London:20230905T090000
DTEND;TZID=Europe/London:20230907T170000
DTSTAMP:20260422T033503
CREATED:20221109T110510Z
LAST-MODIFIED:20221109T110510Z
UID:41174-1693904400-1694106000@www.bodyshopmag.com
SUMMARY:Automechanika Johannesburg 2023 (South Africa)
DESCRIPTION:South Africa’s leading international trade fair for the automotive service industry targets trade visitors from sub-Saharan Africa and is co-located with Futuroad Expo\, the region’s leading professional event for the truck\, bus\, and commercial vehicle industry.
URL:https://www.bodyshopmag.com/events-diary/automechanika-johannesburg-2023-south-africa/
LOCATION:JHB Expo Centre\, Nasrec\, Johannesburg\, South Africa
CATEGORIES:General Events
END:VEVENT
BEGIN:VEVENT
DTSTART;TZID=Europe/London:20230905T090000
DTEND;TZID=Europe/London:20230910T170000
DTSTAMP:20260422T033503
CREATED:20221109T105939Z
LAST-MODIFIED:20221109T105939Z
UID:41172-1693904400-1694365200@www.bodyshopmag.com
SUMMARY:IAA Mobility 2023 (Germany)
DESCRIPTION:The second edition of Europe’s leading mobility showcase will take place once again in Munich. As the world’s most progressive platform for the future of mobility\, sustainability and technology\, the event aims to connect all companies active in the mobility ecosystem . The focus will be on sustainable and intelligently connected mobility solutions. And as with the 2021 event\, IAA Mobility will continue its “Open Space” approach with multiple outdoor exhibits dotted around Munich’s city centre.
URL:https://www.bodyshopmag.com/events-diary/iaa-mobility-2023-germany/
LOCATION:Munich\, Germany\, Germany
CATEGORIES:General Events
ORGANIZER;CN="German Association of the Automotive Industry (VDA)":MAILTO:info@vda.de
END:VEVENT
BEGIN:VEVENT
DTSTART;TZID=Europe/London:20230906T090000
DTEND;TZID=Europe/London:20230907T170000
DTSTAMP:20260422T033503
CREATED:20230104T111539Z
LAST-MODIFIED:20230811T094228Z
UID:41725-1693990800-1694106000@www.bodyshopmag.com
SUMMARY:Cenex-LCV 2023 + Cenex-CAM 2023
DESCRIPTION:Cenex has confirmed that its combined Low Carbon Vehicle (Cenex-LCV) and Connected Automated Mobility (Cenex-CAM) events will take place in September at Millbrook Proving Ground in Bedfordshire.
URL:https://www.bodyshopmag.com/events-diary/cenex-lcv-2023-cenex-cam-2023/
LOCATION:UTAC Millbrook\, Station Lane\, Bedford\, MK45 2JQ\, United Kingdom
CATEGORIES:General Events
END:VEVENT
BEGIN:VEVENT
DTSTART;TZID=Europe/London:20230907T080000
DTEND;TZID=Europe/London:20230909T170000
DTSTAMP:20260422T033503
CREATED:20221216T084307Z
LAST-MODIFIED:20230301T135456Z
UID:41597-1694073600-1694278800@www.bodyshopmag.com
SUMMARY:AutoRaise Rally 2023
DESCRIPTION:AutoRaise has announced that its AutoRaise Rally 2023 fundraising event will take place 7-9 September\, starting a Lotus Car in Hethel\, Norfolk and journeying along the Norfolk coast\, through Cambridgeshire and into Lincolnshire. Email autoraiserally@autoraise.co.uk to register your interest. Place will be reserved on a first-come\, first-served basis and the deadline for registering is 23 March 2023.
URL:https://www.bodyshopmag.com/events-diary/autoraise-rally-2023/
LOCATION:Lotus Cars\, Potash Lane\, Hethel\, Norfolk\, NR14 8EZ\, United Kingdom
CATEGORIES:General Events
ORGANIZER;CN="AutoRaise":MAILTO:enquiries@autoraise.co.uk
END:VEVENT
BEGIN:VEVENT
DTSTART;TZID=Europe/London:20230907T150000
DTEND;TZID=Europe/London:20230907T160000
DTSTAMP:20260422T033503
CREATED:20230811T094649Z
LAST-MODIFIED:20230811T094650Z
UID:43945-1694098800-1694102400@www.bodyshopmag.com
SUMMARY:Claims in the age of generative AI (webinar)
DESCRIPTION:The rise of generative AI has the potential to turn the claims department on its head\, with claims being handled more efficiently than ever. Get the latest insights from David Fineberg\, head of claims UK\, Corporate and Commercial\, Generali\, on how the role of the claims handler might change as AI and automation improves. He will be joined by ServiceNow’s head of insurance\, Americas\, Chirag Jindal\, who will share his thoughts on how claims leaders can prepare for a new world of generative AI.
URL:https://www.bodyshopmag.com/events-diary/claims-in-the-age-of-generative-ai-webinar/
LOCATION:Webinar
CATEGORIES:General Events
END:VEVENT
BEGIN:VEVENT
DTSTART;TZID=Europe/London:20230912T090000
DTEND;TZID=Europe/London:20230913T170000
DTSTAMP:20260422T033503
CREATED:20230208T071248Z
LAST-MODIFIED:20230208T071248Z
UID:42075-1694509200-1694624400@www.bodyshopmag.com
SUMMARY:CIECA CONNEX 2023
DESCRIPTION:Join CIECA and the North American collision industry at the 15th annual CIECA conference — CONNEX 2023. The event\, which is this year themed “Connected Car\, Connected Industry”\, is being held at the DoubleTree Hotel by Hilton in Bloomington\, Illinois\, and will include: \n\nInsightful and high-profile business and technical speakers.\nNetworking opportunities with all industry segments.\nA National Auto Body Council Recycled Rides vehicle gifting.\nA private factory tour of CIECA member Rivian’s EV plant.\nCIECA’s open annual meeting and board meeting.
URL:https://www.bodyshopmag.com/events-diary/cieca-connex-2023/
LOCATION:DoubleTree by Hilton (Bloomington)\, 7800 Normandale Boulevard\, Minneapolis\, MN\, 55439\, United States
CATEGORIES:General Events
END:VEVENT
BEGIN:VEVENT
DTSTART;TZID=Europe/London:20230914T180000
DTEND;TZID=Europe/London:20230914T233000
DTSTAMP:20260422T033503
CREATED:20230519T113256Z
LAST-MODIFIED:20230519T113256Z
UID:43294-1694714400-1694734200@www.bodyshopmag.com
SUMMARY:NBRA Greener Bodyshop Awards 2023
DESCRIPTION:The National Body Repair Association (NBRA) has announced it will host its Greener Bodyshop Awards for the UK body repair sector on 14 September 2023 at Alton Towers\, Staffordshire.
URL:https://www.bodyshopmag.com/events-diary/nbra-greener-bodyshop-awards-2023/
LOCATION:Alton Towers\, Farley Lane\, Alton\, Stoke-on-Trent\, Staffordshire\, ST10 4DB\, United Kingdom
CATEGORIES:Awards,General Events
ORGANIZER;CN="National Body Repair Association (NBRA)":MAILTO:bodyshops@rmif.co.uk
END:VEVENT
BEGIN:VEVENT
DTSTART;TZID=Europe/London:20230916T100000
DTEND;TZID=Europe/London:20230916T150000
DTSTAMP:20260422T033503
CREATED:20230914T101026Z
LAST-MODIFIED:20230914T101026Z
UID:44203-1694858400-1694876400@www.bodyshopmag.com
SUMMARY:How to run an EV workshop
DESCRIPTION:Cleevely Electric Vehicles is hosting an open day for curious garage and bodyshop owners who want to find out more about running an EV-only workshop. The itinerary will include a detailed tour of the UK’s first independent mechanical-space EV specialist workshop\, along with presentations from Matt Cleevely\, managing director of Cleevely Group\, and Alistair Finch\, one of the country’s top technical trainers. Lunch and refreshments will be provided\, along with a Certificate of Attendance – which counts towards CPD for technicians.
URL:https://www.bodyshopmag.com/events-diary/how-to-run-an-ev-workshop/
LOCATION:Cleevely Motors\, 41a Lansdown Industrial Estate\, Cheltenham\, GL5 18P\, United Kingdom
CATEGORIES:General Events
ORGANIZER;CN="Cleevely Motors":MAILTO:office@cleevelymotors.co.uk
END:VEVENT
BEGIN:VEVENT
DTSTART;TZID=Europe/London:20230919T090000
DTEND;TZID=Europe/London:20230919T090000
DTSTAMP:20260422T033503
CREATED:20230331T092045Z
LAST-MODIFIED:20230331T094944Z
UID:42859-1695114000-1695114000@www.bodyshopmag.com
SUMMARY:IBIS IBERIA 2023 (Ávila\, Spain)
DESCRIPTION:The inaugural IBIS Iberia 2023 will be held in Ávila\, west of Madrid\, on 19 September. Continuing the IBIS theme of “Sustainable Strategies for Success”\, this all-day IBIS Worldwide event will offer a packed agenda including a market update on the Spanish and Portuguese collision repair markets\, technical presentations covering the impact of repairing new technology vehicles\, how collision shops need to prepare for the future\, staff shortages and retention\, and much more.
URL:https://www.bodyshopmag.com/events-diary/ibis-iberia-2023/
LOCATION:Lienzo Norte Conference and Exhibition Centre\, Avenue de Madrid\, 102\, Ávila\, 05001\, Spain
CATEGORIES:General Events
ORGANIZER;CN="IBIS Worldwide":MAILTO:suzie@ibisworldwide.com
END:VEVENT
BEGIN:VEVENT
DTSTART;TZID=Europe/London:20230919T093000
DTEND;TZID=Europe/London:20230921T163000
DTSTAMP:20260422T033503
CREATED:20221110T151118Z
LAST-MODIFIED:20221110T151213Z
UID:41199-1695115800-1695313800@www.bodyshopmag.com
SUMMARY:Professional Recovery Tow Show 2023
DESCRIPTION:The Professional Recovery Tow Show will take place at the Telford International Centre in September 2023. The Tow Show has become the focus of the vehicle recovery industry with around 1\,200 visitors attending from all parts of the UK. It has become a showcase for manufacturers and suppliers to the industry and it is where the vehicle recovery community converges. The show starts with a Business Seminar sponsored by National Highways on set-up day (Tuesday\, 19 September – 11:00 start) when more than a hundred delegates meet to discuss the issues of the day.
URL:https://www.bodyshopmag.com/events-diary/professional-recovery-tow-show-2023/
LOCATION:Telford International Centre\, International Way\, Telford\, TF3 4JH\, Telford\, Shropshire\, TF3 4JH\, United Kingdom
CATEGORIES:General Events
ORGANIZER;CN="PPMedia":MAILTO:nick.phipps@ppmedia.co.uk
END:VEVENT
BEGIN:VEVENT
DTSTART;TZID=Europe/London:20230920T090000
DTEND;TZID=Europe/London:20230920T190000
DTSTAMP:20260422T033503
CREATED:20230911T135030Z
LAST-MODIFIED:20230911T135030Z
UID:44146-1695200400-1695236400@www.bodyshopmag.com
SUMMARY:Women Automotive Summit (Germany)
DESCRIPTION:This event\, hosted by the first global community dedicated to empowering women in the automotive industry – the Women Automotive Network – offers a unique opportunity to connect with like-minded individuals and be inspired by the collective knowledge and expertise present at the event. It’s a chance to expand your network\, gain valuable insights\, and contribute to shaping a more inclusive and successful future for women in the automotive industry.
URL:https://www.bodyshopmag.com/events-diary/women-automotive-summit-germany/
LOCATION:Forum am Schlosspark\, Stuttgarter Strasse 33\, Ludwigsburg\, 71638\, Germany
CATEGORIES:Awards,General Events
END:VEVENT
BEGIN:VEVENT
DTSTART;TZID=Europe/London:20230922T090000
DTEND;TZID=Europe/London:20230924T170000
DTSTAMP:20260422T033503
CREATED:20230714T125043Z
LAST-MODIFIED:20230714T125043Z
UID:43741-1695373200-1695574800@www.bodyshopmag.com
SUMMARY:Screwfix Live 2023
DESCRIPTION:Screwfix Live 2023\, the multichannel retailer’s flagship event dedicated to the tradespeople and DIY enthusiasts\, is returning to Farnborough International Exhibition & Conference Centre to celebrate its 10th edition from 22-24 September 2023. The show aims to attract 170-plus brands under the same roof\, as customers and families enjoy three days of live product demonstrations\, special guests\, entertainment and more.
URL:https://www.bodyshopmag.com/events-diary/screwfix-live-2023/
LOCATION:Farnborough International Exhibition and Conference Centre\, Etps Road\, Farnborough\, GU14 6FD\, United Kingdom
CATEGORIES:General Events
END:VEVENT
BEGIN:VEVENT
DTSTART;TZID=Europe/London:20230922T180000
DTEND;TZID=Europe/London:20230922T230000
DTSTAMP:20260422T033503
CREATED:20221201T135319Z
LAST-MODIFIED:20221201T135319Z
UID:41434-1695405600-1695423600@www.bodyshopmag.com
SUMMARY:British Independent Garage of the Year Awards 2023
DESCRIPTION:The second British Independent Garage of the Year Awards (BIG Awards) will take place on Friday\, 22 September 2023 at Leicester City FC. The BIG Awards aim to bring widespread recognition to Britain’s independent garages by showcasing their outstanding skills\, passion and innovation. \nNominations for the BIG Awards are open now by clicking here. Tickets for the awards evening are available to book at 01788 225 908.
URL:https://www.bodyshopmag.com/events-diary/british-independent-garage-of-the-year-awards-2023/
LOCATION:Leicester City FC\, King Power Stadium\, Filbert Wayy\, Leicester\, LE2 7FL\, United Kingdom
CATEGORIES:Awards,General Events
ORGANIZER;CN="Independent Garage Association (IGA)":MAILTO:enquiries@rmif.co.uk
END:VEVENT
BEGIN:VEVENT
DTSTART;TZID=Europe/London:20230926T090000
DTEND;TZID=Europe/London:20230927T170000
DTSTAMP:20260422T033503
CREATED:20221124T111616Z
LAST-MODIFIED:20221124T160751Z
UID:41326-1695718800-1695834000@www.bodyshopmag.com
SUMMARY:MOVE America 2023 (USA)
DESCRIPTION:MOVE America 2023 is billed as the “number one tech\, mobility and start-up” conference and aims to provide access to more than 600 speakers from across the mobility spectrum\, covering subjects such as EVs\, AVs\, the automotive supply chain\, battery and hydrogen tech\, MaaS\, and automotive design. The MOVE 2023 exhibition aims to provide opportunities to form new partnerships\, see new technologies and assess the direction mobility is taking.
URL:https://www.bodyshopmag.com/events-diary/move-america-2023/
LOCATION:Austin Convention Centre\, 500 East Cesar Chavez Street\, Austin\, TX\, TX 78701\, United States
CATEGORIES:General Events
ORGANIZER;CN="Terrapinn Holdings":MAILTO:enquiry.uk@terrapinn.com
END:VEVENT
BEGIN:VEVENT
DTSTART;TZID=Europe/London:20230927T120000
DTEND;TZID=Europe/London:20230927T130000
DTSTAMP:20260422T033503
CREATED:20230914T084306Z
LAST-MODIFIED:20230914T084306Z
UID:44194-1695816000-1695819600@www.bodyshopmag.com
SUMMARY:From collision to conclusion: Efficient approaches in modern accident analysis (webinar)
DESCRIPTION:In this free webinar Matthias Schmidt\, CEO of AnalyzerPro\, will be discussing how\, in the realm of traffic accident analysis\, professionals often grapple with common scenarios rather than the rarer edge cases. While flying cars and multi-vehicle crashes might capture the imagination\, the reality is that most incidents involve things such as straightforward 1-v-1 collisions or speeding events. Tools such as AnalyzerPro incorporate traditional methods such as kinematics and kinetic simulations\, but they also embrace modern techniques like digital data analysis and machine learning.
URL:https://www.bodyshopmag.com/events-diary/from-collision-to-conclusion-efficient-approaches-in-modern-accident-analysis-webinar/
LOCATION:Webinar
CATEGORIES:General Events
ORGANIZER;CN="Institute of Traffic Accident Investigators (ITAI)":MAILTO:admin@itai.org
END:VEVENT
BEGIN:VEVENT
DTSTART;TZID=Europe/London:20230928T100000
DTEND;TZID=Europe/London:20230929T010000
DTSTAMP:20260422T033503
CREATED:20221222T133143Z
LAST-MODIFIED:20231218T164445Z
UID:41673-1695895200-1695949200@www.bodyshopmag.com
SUMMARY:BODYSHOP AWARDS 2023 + 30 UNDER 30: RISING STARS
DESCRIPTION:The 27th edition of the Bodyshop Awards and 7th staging of #bodyshopmag’s 30 Under 30: Rising Stars will take place alongside a reimagined Bodyshop Expo titled “Bodyshop of the Future”. The all-day event for the UK collision repair industry is also moving back to the Midlands and will take place on Thursday\, 28 September at the Hilton Birmingham Metropole in the grounds of the National Exhibition Centre.
URL:https://www.bodyshopmag.com/events-diary/bodyshop-awards-2023-30-under-30-rising-stars/
LOCATION:Hilton Birmingham Metropole\, Pendigo Way\, Marston Green\, Birmingham\, West Midlands\, B40 1PP
CATEGORIES:Awards,General Events
ORGANIZER;CN="Bodyshop Magazine":MAILTO:info@bodyshopmag.com
END:VEVENT
END:VCALENDAR