BEGIN:VCALENDAR
VERSION:2.0
PRODID:-//Bodyshop Magazine - ECPv6.15.18//NONSGML v1.0//EN
CALSCALE:GREGORIAN
METHOD:PUBLISH
X-ORIGINAL-URL:https://www.bodyshopmag.com
X-WR-CALDESC:Events for Bodyshop Magazine
REFRESH-INTERVAL;VALUE=DURATION:PT1H
X-Robots-Tag:noindex
X-PUBLISHED-TTL:PT1H
BEGIN:VTIMEZONE
TZID:Europe/London
BEGIN:DAYLIGHT
TZOFFSETFROM:+0000
TZOFFSETTO:+0100
TZNAME:BST
DTSTART:20220327T010000
END:DAYLIGHT
BEGIN:STANDARD
TZOFFSETFROM:+0100
TZOFFSETTO:+0000
TZNAME:GMT
DTSTART:20221030T010000
END:STANDARD
BEGIN:DAYLIGHT
TZOFFSETFROM:+0000
TZOFFSETTO:+0100
TZNAME:BST
DTSTART:20230326T010000
END:DAYLIGHT
BEGIN:STANDARD
TZOFFSETFROM:+0100
TZOFFSETTO:+0000
TZNAME:GMT
DTSTART:20231029T010000
END:STANDARD
BEGIN:DAYLIGHT
TZOFFSETFROM:+0000
TZOFFSETTO:+0100
TZNAME:BST
DTSTART:20240331T010000
END:DAYLIGHT
BEGIN:STANDARD
TZOFFSETFROM:+0100
TZOFFSETTO:+0000
TZNAME:GMT
DTSTART:20241027T010000
END:STANDARD
END:VTIMEZONE
BEGIN:VEVENT
DTSTART;TZID=Europe/London:20230412T090000
DTEND;TZID=Europe/London:20230414T170000
DTSTAMP:20260422T063538
CREATED:20221109T094614Z
LAST-MODIFIED:20221109T094614Z
UID:41158-1681290000-1681491600@www.bodyshopmag.com
SUMMARY:Automechanika Astana 2023 (Kazakhstan)
DESCRIPTION:The leading regional trade fair for the automotive service industry targeting trade visitors from Kazakhstan and Central Asia.
URL:https://www.bodyshopmag.com/events-diary/automechanika-astana-2023-kazakhstan/
LOCATION:IEC Expo (Kazakhstan)\, Astana\, Kazakhstan
CATEGORIES:General Events
END:VEVENT
BEGIN:VEVENT
DTSTART;TZID=Europe/London:20230412T093000
DTEND;TZID=Europe/London:20230412T150000
DTSTAMP:20260422T063538
CREATED:20230331T101420Z
LAST-MODIFIED:20230331T101853Z
UID:42865-1681291800-1681311600@www.bodyshopmag.com
SUMMARY:INDASA Experience Roadshow (Peterborough)
DESCRIPTION:The first stop on the new INDASA Experience Roadshow – a series of four training days for technicians\, involving the Refinishing Crew Facebook group members – will be held at Keco Tabs UK’s Peterborough training centre and headquarters on 12 April 2023.
URL:https://www.bodyshopmag.com/events-diary/indasa-experience-roadshow-peterborough/
LOCATION:Keco Tabs UK\, Unit 5\, A1\, Parkway\, Southgate Way\, Orton Southgate\, Peterborough\, PE2 6YN\, United Kingdom
CATEGORIES:General Events
ORGANIZER;CN="INDASA Abrasives UK":MAILTO:office@indasa.co.uk
END:VEVENT
BEGIN:VEVENT
DTSTART;TZID=Europe/London:20230412T120000
DTEND;TZID=Europe/London:20230412T170000
DTSTAMP:20260422T063538
CREATED:20221124T135656Z
LAST-MODIFIED:20221124T135656Z
UID:41340-1681300800-1681318800@www.bodyshopmag.com
SUMMARY:Collision Industry Conference 2023 (Virginia\, USA)
DESCRIPTION:The Collision Industry Conference (CIC) is a forum made up of participants from all bodyshop industry sectors for the express purpose of discussing and exploring today’s issues. The meetings are open to all interested individuals from the collision repair industry\, including repairers\, insurers\, paint and materials companies\, equipment and vehicle manufacturers\, data providers\, representatives of trade associations\, and anyone with an interest in creating a more professional industry.
URL:https://www.bodyshopmag.com/events-diary/collision-industry-conference-2023-virginia-usa/
LOCATION:Richmond Omni\, 100 South 12th Street\, Richmond\, VA\, 23219\, United States
CATEGORIES:General Events
ORGANIZER;CN="Collision Industry Conference (CIC)":MAILTO:info@ciclink.com
END:VEVENT
BEGIN:VEVENT
DTSTART;TZID=Europe/London:20230417T090000
DTEND;TZID=Europe/London:20230418T170000
DTSTAMP:20260422T063538
CREATED:20230126T104110Z
LAST-MODIFIED:20230126T104533Z
UID:41965-1681722000-1681837200@www.bodyshopmag.com
SUMMARY:Insurance Innovators USA
DESCRIPTION:Designed by insurance carriers\, for insurance carriers\, Insurance Innovators USA aims to help the sector drive business growth. Taking place in Nashville in April\, it offers a prime opportunity to network with fellow senior insurance leaders\, hear expert opinions\, and uncover new opportunities for innovation and success.
URL:https://www.bodyshopmag.com/events-diary/insurance-innovators-usa/
LOCATION:Music City Centre\, 201 Rep. John Lewis Way South\, Nashville\, TN\, 37203\, United States
CATEGORIES:General Events
END:VEVENT
BEGIN:VEVENT
DTSTART;TZID=Europe/London:20230418T080000
DTEND;TZID=Europe/London:20230420T170000
DTSTAMP:20260422T063538
CREATED:20221031T164306Z
LAST-MODIFIED:20230126T115956Z
UID:40797-1681804800-1682010000@www.bodyshopmag.com
SUMMARY:The CV Show 2023
DESCRIPTION:Visitor numbers of more than 11\,100 in 2022 reinforced the Commercial Vehicle Show’s position as the UK’s biggest and best annual road transport event in the UK. Organisers say the 2023 event will be bigger and better.
URL:https://www.bodyshopmag.com/events-diary/the-cv-show-2023/
LOCATION:National Exhibition Centre (NEC)\, North Avenue\, Marston Green\, Birmingham\, B40 1NT\, United Kingdom
CATEGORIES:General Events
ORGANIZER;CN="The CV Show":MAILTO:murray@cvshow.com
END:VEVENT
BEGIN:VEVENT
DTSTART;TZID=Europe/London:20230419T090000
DTEND;TZID=Europe/London:20230421T170000
DTSTAMP:20260422T063538
CREATED:20221031T150532Z
LAST-MODIFIED:20230331T094704Z
UID:40789-1681894800-1682096400@www.bodyshopmag.com
SUMMARY:IBIS USA 2023 (Nashville)
DESCRIPTION:IBIS USA 2023 is an invitation-only\, three-day thought leadership conference for the North American automotive collision repair industry. It will be held in Nashville\, Tennessee from 19-21 April 2023.
URL:https://www.bodyshopmag.com/events-diary/ibis-usa-2023/
LOCATION:JW Marriott Nashville\, 201 8th Avenue South\, Nashville\, TN\, 37203\, United States
CATEGORIES:General Events
ORGANIZER;CN="IBIS Worldwide":MAILTO:suzie@ibisworldwide.com
END:VEVENT
BEGIN:VEVENT
DTSTART;TZID=Europe/London:20230419T091500
DTEND;TZID=Europe/London:20230419T160000
DTSTAMP:20260422T063538
CREATED:20221212T140430Z
LAST-MODIFIED:20221212T140602Z
UID:41549-1681895700-1681920000@www.bodyshopmag.com
SUMMARY:ITAI Passive Safety Conference and Workshop
DESCRIPTION:Whether you are very familiar with passive safety design but need a refresher\, or you would just like to learn the basics\, this conference and workshop is for you. The conference will include a hands-on workshop session and will also be integrated with a large exhibition of passive products. and experts from industry will be on hand to explain how their products work.
URL:https://www.bodyshopmag.com/events-diary/itai-passive-safety-conference-and-workshop/
LOCATION:National Exhibition Centre (NEC)\, North Avenue\, Marston Green\, Birmingham\, B40 1NT\, United Kingdom
CATEGORIES:General Events
ORGANIZER;CN="Institute of Traffic Accident Investigators (ITAI)":MAILTO:admin@itai.org
END:VEVENT
BEGIN:VEVENT
DTSTART;TZID=Europe/London:20230419T140000
DTEND;TZID=Europe/London:20230419T150000
DTSTAMP:20260422T063538
CREATED:20230330T093407Z
LAST-MODIFIED:20230330T093407Z
UID:42810-1681912800-1681916400@www.bodyshopmag.com
SUMMARY:Counting Carbon: Rethinking A to B (webinar)
DESCRIPTION:In this Fleet News webinar\, a panel of mobility experts will discuss the importance of looking beyond EVs and offering diverse mobility options to navigate future challenges and leverage opportunities for decarbonisation. The panel will address the hurdles that must be overcome and advise companies on how to ensure their fleet and transport policies remain fit for purpose in this ever-changing environment.
URL:https://www.bodyshopmag.com/events-diary/counting-carbon-rethinking-a-to-b-webinar/
LOCATION:Webinar
CATEGORIES:General Events
END:VEVENT
BEGIN:VEVENT
DTSTART;TZID=Europe/London:20230420T090000
DTEND;TZID=Europe/London:20230420T170000
DTSTAMP:20260422T063538
CREATED:20221124T115559Z
LAST-MODIFIED:20221124T115559Z
UID:41329-1681981200-1682010000@www.bodyshopmag.com
SUMMARY:Manufacturing & Supply Chain Conference & Exhibition 2023
DESCRIPTION:The Manufacturing & Supply Chain Conference & Exhibition will take place on 20 April 2023 at ArenaMK in Milton Keynes. This event will serve as a national forum for manufacturers and operators involved throughout the associated supply chains from across the UK to gather to discuss pressing issues facing the industry. It is now firmly established as a “must-attend” annual event\, which connects key stakeholders across the full spectrum of British manufacturing\, including automotive\, aerospace\, chemical and pharmaceutical\, electronics\, energy\, plastics\, security\, steel\, and textiles.
URL:https://www.bodyshopmag.com/events-diary/manufacturing-supply-chain-conference-exhibition-2023/
LOCATION:Arena MK\, Stadium Way W\, Bletchley\, Milton Keynes\, MK1 1ST\, United Kingdom
CATEGORIES:General Events
ORGANIZER;CN="Manufacturing Technologies Association (MTA)":MAILTO:info@mta.org.uk
END:VEVENT
BEGIN:VEVENT
DTSTART;TZID=Europe/London:20230420T100000
DTEND;TZID=Europe/London:20230422T180000
DTSTAMP:20260422T063538
CREATED:20221109T113553Z
LAST-MODIFIED:20221109T113553Z
UID:41179-1681984800-1682186400@www.bodyshopmag.com
SUMMARY:Salon Privé London 2023
DESCRIPTION:Salon Privé London returns to The Royal Hospital Chelsea where more than 16\,000 visitors turned up last time to see 12 of the 27 vehicle manufacturers launch new models and 50 classic cars displayed for sale.
URL:https://www.bodyshopmag.com/events-diary/salon-prive-london-2023/
LOCATION:The Royal Hospital Chelsea\, Royal Hospital Road\, London\, SW3 4SR\, United Kingdom
CATEGORIES:General Events
ORGANIZER;CN="Performance Events":MAILTO:enquiries@salonprivelondon.com
END:VEVENT
BEGIN:VEVENT
DTSTART;TZID=Europe/London:20230420T190000
DTEND;TZID=Europe/London:20230420T200000
DTSTAMP:20260422T063538
CREATED:20230331T090628Z
LAST-MODIFIED:20230331T090628Z
UID:42857-1682017200-1682020800@www.bodyshopmag.com
SUMMARY:CIECAst webinar: Open API Development Best Practices & Lessons Learned
DESCRIPTION:The Collision Industry Electronic Commerce Association (CIECA) has announced that a special guest speaker — Darrel Miller\, API Architect at Microsoft — will present during the next CIECA technical webinar. The presentation\, Open API Development Best Practices & Lessons Learned\, will also provide an update about CIECA API Standards and share information about the first standards release of the year – the 2023R1.
URL:https://www.bodyshopmag.com/events-diary/ciecast-webinar-open-api-development-best-practices-lessons-learned/
LOCATION:Webinar
CATEGORIES:General Events
END:VEVENT
BEGIN:VEVENT
DTSTART;TZID=Europe/London:20230425T090000
DTEND;TZID=Europe/London:20230425T170000
DTSTAMP:20260422T063538
CREATED:20221109T095802Z
LAST-MODIFIED:20221109T095802Z
UID:41159-1682413200-1682442000@www.bodyshopmag.com
SUMMARY:Great British Fleet Event 2023
DESCRIPTION:With a new improved format building on previous successes\, an expanded exhibition and new location\, GBFE 2023 is being billed as “so much more than a one-day event” showcasing all that is great in the UK fleet market.
URL:https://www.bodyshopmag.com/events-diary/great-british-fleet-event-2023/
LOCATION:Marshall Arena\, Stadium Way\, West Bletchley\, Milton Keynes\, Bucks\, MK1 1ST\, United Kingdom
CATEGORIES:Awards,General Events
ORGANIZER;CN="Fleet World Group":MAILTO:darren@fleetworldgroup.co.uk
END:VEVENT
BEGIN:VEVENT
DTSTART;TZID=Europe/London:20230427T090000
DTEND;TZID=Europe/London:20230427T170000
DTSTAMP:20260422T063538
CREATED:20230330T083848Z
LAST-MODIFIED:20230330T083849Z
UID:42806-1682586000-1682614800@www.bodyshopmag.com
SUMMARY:Vans Today 2023
DESCRIPTION:Logistics UK’s popular Vans Today event is returning for 2023 with a line-up of speakers that includes experts from National Highways\, the SMMT and Aviva. The half-day briefing\, which aims to outline potential solutions to some of the key operational challenges currently facing van fleet operators\, will focus on operating vans during the current cost-of-living crisis\, with key topics under discussion including updates on EVs\, ways to optimise van operations\, van-focused compliance challenges and the importance of maintaining van security.
URL:https://www.bodyshopmag.com/events-diary/vans-today-2023/
LOCATION:Leicester City FC\, King Power Stadium\, Filbert Wayy\, Leicester\, LE2 7FL\, United Kingdom
CATEGORIES:General Events
END:VEVENT
BEGIN:VEVENT
DTSTART;TZID=Europe/London:20230427T090000
DTEND;TZID=Europe/London:20230428T170000
DTSTAMP:20260422T063538
CREATED:20230324T094103Z
LAST-MODIFIED:20230324T094103Z
UID:42663-1682586000-1682701200@www.bodyshopmag.com
SUMMARY:2nd AI Automotive Summit (hybrid)
DESCRIPTION:AI is enhancing self-driving cars and AI’s wider role in the automotive industry is one of the trendiest topics today\, and the further development of autonomous cars will be one of the main focuses of the 2nd AI Automotive Summit. Join the key players and experts in the field when they get together in Munich and online to explore the next-generation AI for automated and self-driving cars.
URL:https://www.bodyshopmag.com/events-diary/2nd-ai-automotive-summit-hybrid/
LOCATION:Webinar
CATEGORIES:General Events
ORGANIZER;CN="Vonlanthen Group":MAILTO:summits@vonlanthengroup.com
END:VEVENT
BEGIN:VEVENT
DTSTART;TZID=Europe/London:20230428T090000
DTEND;TZID=Europe/London:20230430T170000
DTSTAMP:20260422T063538
CREATED:20221031T164910Z
LAST-MODIFIED:20221130T110441Z
UID:40798-1682672400-1682874000@www.bodyshopmag.com
SUMMARY:Fully Charged Live 2023 (Farnborough)
DESCRIPTION:The UK’s number one clean energy and electric vehicle show is returning to Farnborough (28-30 April) and Harrogate (19-21 May)  in 2023 and is aiming to be bigger and better. Both events will showcase a host of quality indoor and outdoor exhibits and attractions.
URL:https://www.bodyshopmag.com/events-diary/fully-charged-live-2023-farnborough/
LOCATION:Farnborough International Exhibition and Conference Centre\, Etps Road\, Farnborough\, GU14 6FD\, United Kingdom
CATEGORIES:General Events
END:VEVENT
END:VCALENDAR