BEGIN:VCALENDAR
VERSION:2.0
PRODID:-//Bodyshop Magazine - ECPv6.15.18//NONSGML v1.0//EN
CALSCALE:GREGORIAN
METHOD:PUBLISH
X-WR-CALNAME:Bodyshop Magazine
X-ORIGINAL-URL:https://www.bodyshopmag.com
X-WR-CALDESC:Events for Bodyshop Magazine
REFRESH-INTERVAL;VALUE=DURATION:PT1H
X-Robots-Tag:noindex
X-PUBLISHED-TTL:PT1H
BEGIN:VTIMEZONE
TZID:Europe/London
BEGIN:DAYLIGHT
TZOFFSETFROM:+0000
TZOFFSETTO:+0100
TZNAME:BST
DTSTART:20220327T010000
END:DAYLIGHT
BEGIN:STANDARD
TZOFFSETFROM:+0100
TZOFFSETTO:+0000
TZNAME:GMT
DTSTART:20221030T010000
END:STANDARD
BEGIN:DAYLIGHT
TZOFFSETFROM:+0000
TZOFFSETTO:+0100
TZNAME:BST
DTSTART:20230326T010000
END:DAYLIGHT
BEGIN:STANDARD
TZOFFSETFROM:+0100
TZOFFSETTO:+0000
TZNAME:GMT
DTSTART:20231029T010000
END:STANDARD
BEGIN:DAYLIGHT
TZOFFSETFROM:+0000
TZOFFSETTO:+0100
TZNAME:BST
DTSTART:20240331T010000
END:DAYLIGHT
BEGIN:STANDARD
TZOFFSETFROM:+0100
TZOFFSETTO:+0000
TZNAME:GMT
DTSTART:20241027T010000
END:STANDARD
END:VTIMEZONE
BEGIN:VEVENT
DTSTART;TZID=Europe/London:20230105T090000
DTEND;TZID=Europe/London:20230108T170000
DTSTAMP:20260424T124134
CREATED:20221209T124449Z
LAST-MODIFIED:20221209T124449Z
UID:41541-1672909200-1673197200@www.bodyshopmag.com
SUMMARY:CES 2023 (USA hybrid)
DESCRIPTION:CES is the most influential tech event in the world — a proving ground for breakthrough technologies and global innovators. It is where some of the world’s biggest brands\, including automotive\, do business and meet new partners\, and the sharpest innovators take to the stage. Owned and produced by the Consumer Technology Association\, CES features every aspect of the tech sector\, with the 2023 keynote being delivered by Stellantis CEO Carlos Tavares.
URL:https://www.bodyshopmag.com/events-diary/ces-2023-usa-hybrid/
LOCATION:Las Vegas Convention Centre\, 3150 Paradise Road\, Las Vegas\, NV\, 89109\, United States
CATEGORIES:Awards,General Events
END:VEVENT
BEGIN:VEVENT
DTSTART;TZID=Europe/London:20230112T090000
DTEND;TZID=Europe/London:20230115T170000
DTSTAMP:20260424T124134
CREATED:20221109T111411Z
LAST-MODIFIED:20221109T111411Z
UID:41176-1673514000-1673802000@www.bodyshopmag.com
SUMMARY:Autosport International 2023
DESCRIPTION:Autosport International is a four-day motorsport event that includes a two-day trade show for industry professionals and a two-day event open to the public.
URL:https://www.bodyshopmag.com/events-diary/autosport-international-2023/
LOCATION:National Exhibition Centre (NEC)\, North Avenue\, Marston Green\, Birmingham\, B40 1NT\, United Kingdom
CATEGORIES:General Events
ORGANIZER;CN="Autosport International":MAILTO:autosport.international@autosport.com
END:VEVENT
BEGIN:VEVENT
DTSTART;TZID=Europe/London:20230112T100000
DTEND;TZID=Europe/London:20230112T110000
DTSTAMP:20260424T124134
CREATED:20221208T165233Z
LAST-MODIFIED:20221208T165233Z
UID:41520-1673517600-1673521200@www.bodyshopmag.com
SUMMARY:Impact of powertrain technology change on the aftermarket (webinar)
DESCRIPTION:In this webinar we will analyse the impact that the electrification of the vehicle parc could have on the aftersales revenues of OEM franchised workshops\, both in terms of labour and parts. \nWe will also try to estimate the knock-on effect that this could have on the car manufacturers’ spare parts sales business to their networks.
URL:https://www.bodyshopmag.com/events-diary/impact-of-powertrain-technology-change-on-the-aftermarket-webinar/
LOCATION:Webinar
CATEGORIES:General Events
END:VEVENT
BEGIN:VEVENT
DTSTART;TZID=Europe/London:20230114T090000
DTEND;TZID=Europe/London:20230122T170000
DTSTAMP:20260424T124134
CREATED:20230104T114651Z
LAST-MODIFIED:20230104T120008Z
UID:41730-1673686800-1674406800@www.bodyshopmag.com
SUMMARY:100th Brussels Motor Show (Belgium)
DESCRIPTION:Cars\, light utility vehicles\, two-wheelers (with and without engines)\, plus sports and racing vehicles will share the exhibition stands and honours at this 100th Brussels Motor Show.
URL:https://www.bodyshopmag.com/events-diary/100th-brussels-motor-show/
LOCATION:Brussels Exhibition Centre (Brussels Expo)\, Place de Belgique 1\, Bruxelles\, 1020\, Belgium
CATEGORIES:General Events
END:VEVENT
BEGIN:VEVENT
DTSTART;TZID=Europe/London:20230118T100000
DTEND;TZID=Europe/London:20230118T110000
DTSTAMP:20260424T124134
CREATED:20230109T093517Z
LAST-MODIFIED:20230109T093827Z
UID:41774-1674036000-1674039600@www.bodyshopmag.com
SUMMARY:Automotive Industry Priorities 2023 (SMMT webinar)
DESCRIPTION:Society of Motor Manufacturers and Traders (SMMT) chief executive Mike Hawes will discuss the automotive industry’s priorities for 2023 and outline the SMMT’s business plan and priorities in responding to some of the key issues expected in the forthcoming year. \nTopics\, followed by a Q&A\, will include: \n\nPolitical and economic landscape.\nTrade and investment.\nIndustry and environmental challenges.\nTechnology and the changing shape of industry.\nBusiness development opportunities.
URL:https://www.bodyshopmag.com/events-diary/smmt_auto_industry_priorities_2023/
LOCATION:Webinar
CATEGORIES:General Events
ORGANIZER;CN="Society of Motor Manufacturers and Traders (SMMT)":MAILTO:smmtsummit@smmt.co.uk
END:VEVENT
BEGIN:VEVENT
DTSTART;TZID=Europe/London:20230118T113000
DTEND;TZID=Europe/London:20230118T123000
DTSTAMP:20260424T124134
CREATED:20221209T090637Z
LAST-MODIFIED:20230109T093503Z
UID:41524-1674041400-1674045000@www.bodyshopmag.com
SUMMARY:Injury reconstruction with the new Biofidelic Dummy (ITAI webinar)
DESCRIPTION:In this presentation for ITAI\, Peter Schimmelpfennig – an engineering graduate for automotive technology and the managing partner of CrashTest-Service in Münster\, Germany – will be discussing the case of a precise reconstruction of motion sequences\, damage or injuries using biofidelic dummies. These Biofidelic dummies are constantly being developed in co-operation with the HTW Dresden and are produced according to the latest state of art technology in a specially designed dummy factory at CTS.
URL:https://www.bodyshopmag.com/events-diary/injury-reconstruction-with-the-new-biofidelic-dummy/
LOCATION:Webinar
CATEGORIES:General Events
ORGANIZER;CN="Institute of Traffic Accident Investigators (ITAI)":MAILTO:admin@itai.org
END:VEVENT
BEGIN:VEVENT
DTSTART;TZID=Europe/London:20230119T090000
DTEND;TZID=Europe/London:20230119T170000
DTSTAMP:20260424T124134
CREATED:20221124T135142Z
LAST-MODIFIED:20221124T135748Z
UID:41337-1674118800-1674147600@www.bodyshopmag.com
SUMMARY:Collision Industry Conference 2023 (California\, USA)
DESCRIPTION:The Collision Industry Conference (CIC) is a forum made up of participants from all bodyshop industry sectors for the express purpose of discussing and exploring today’s issues. The meetings are open to all interested individuals from the collision repair industry\, including repairers\, insurers\, paint and materials companies\, equipment and vehicle manufacturers\, data providers\, representatives of trade associations\, and anyone with an interest in creating a more professional industry.
URL:https://www.bodyshopmag.com/events-diary/collision-industry-conference-2023-usa/
LOCATION:Hilton Palm Springs\, 400 East Tahquitz Canyon Way\, Palm Springs\, CA\, 92262\, United States
CATEGORIES:General Events
ORGANIZER;CN="Collision Industry Conference (CIC)":MAILTO:info@ciclink.com
END:VEVENT
BEGIN:VEVENT
DTSTART;TZID=Europe/London:20230123T190000
DTEND;TZID=Europe/London:20230123T193000
DTSTAMP:20260424T124134
CREATED:20230117T165312Z
LAST-MODIFIED:20230117T165519Z
UID:41856-1674500400-1674502200@www.bodyshopmag.com
SUMMARY:Data not dogma (webinar)
DESCRIPTION:A frequently aired objection to improvement and change is that data can’t replace intuition. The fact is\, it’s the other way around – intuition cannot replace data. This webinar\, presented by James Clifford from ARC Support Services\, is the story of how a skilled technician disregarded the accurate instructions contained within a job card\, ignoring the data that had been used to compile the safe and appropriate repair specification\, required to reinstate the vehicle. Sign up clicking here.
URL:https://www.bodyshopmag.com/events-diary/data-not-dogma-webinar/
LOCATION:Webinar
CATEGORIES:General Events
ORGANIZER;CN="ARC Support Services":MAILTO:james@arcsupportservices.co.uk
END:VEVENT
BEGIN:VEVENT
DTSTART;TZID=Europe/London:20230124T090000
DTEND;TZID=Europe/London:20230126T170000
DTSTAMP:20260424T124134
CREATED:20221124T121011Z
LAST-MODIFIED:20221124T121011Z
UID:41330-1674550800-1674752400@www.bodyshopmag.com
SUMMARY:Automotive Tyre Technology 2023 (Germany)
DESCRIPTION:Automotive IQ’s Tyre Technology returns to Düsseldorf\, Germany in January\, with an agenda reflecting exactly where the automotive industry is right now\, recognising the evolving role of the tyre and the vehicle ecosystem as connectivity\, electrification and sustainability become major drivers for vehicle manufacturers.
URL:https://www.bodyshopmag.com/events-diary/automotive-tyre-technology-2023-germany/
LOCATION:Radisson Blu Conference Hotel (Dusseldorf)\, Karl-Arnold Platz 5\, Dusseldorf\, 40474\, Germany
ORGANIZER;CN="Automotive iQ":MAILTO:enquire@iqpc.co.uk
END:VEVENT
BEGIN:VEVENT
DTSTART;TZID=Europe/London:20230125T170000
DTEND;TZID=Europe/London:20230125T220000
DTSTAMP:20260424T124134
CREATED:20220825T105409Z
LAST-MODIFIED:20230103T145447Z
UID:40185-1674666000-1674684000@www.bodyshopmag.com
SUMMARY:Garage Wire's EV Ready
DESCRIPTION:With almost every vehicle manufacturer now offering an EV line-up\, it’s a car parc that’s fast growing and is increasingly being serviced by independent workshops. Helping garage owners navigate the latest trends\, Garage Wire’s EV Ready event aims to showcase the very latest tools\, equipment and services for workshops to cater for EVs\, plus expert opinion and business advice.
URL:https://www.bodyshopmag.com/events-diary/ev-ready/
LOCATION:Brighton Racecourse\, Freshfield Road\, Brighton\, BN2 9XZ\, United Kingdom
CATEGORIES:General Events
ORGANIZER;CN="Garage Wire":MAILTO:editor@garagewire.co.uk
END:VEVENT
BEGIN:VEVENT
DTSTART;TZID=Europe/London:20230126T200000
DTEND;TZID=Europe/London:20230126T210000
DTSTAMP:20260424T124134
CREATED:20230105T091956Z
LAST-MODIFIED:20230109T094016Z
UID:41746-1674763200-1674766800@www.bodyshopmag.com
SUMMARY:The New\, New Normal and the Impact on the Claims and Collision Industry (CIECAST webinar)
DESCRIPTION:This Collision Industry Electronic Commerce Association (CIECA) webinar\, titled “The New\, New Normal and the Impact on the Claims and Collision Industry”\, will feature Sean Carey\, president of SCG Management Consultants. During the live broadcast\, Carey will talk about the cost of Covid-19 to the US claims and collision repair industry\, how the industry is handling the “long tail of Covid-19”\, and the lagging consequences to the market. He will also discuss how the new\, new normal will be around for a very long time and have a lasting impact on the industry.
URL:https://www.bodyshopmag.com/events-diary/ciecast-webinar-the-new-new-normal-and-the-impact-on-the-claims-and-collision-industry/
LOCATION:Webinar
CATEGORIES:General Events
END:VEVENT
END:VCALENDAR