BEGIN:VCALENDAR
VERSION:2.0
PRODID:-//Bodyshop Magazine - ECPv6.15.18//NONSGML v1.0//EN
CALSCALE:GREGORIAN
METHOD:PUBLISH
X-WR-CALNAME:Bodyshop Magazine
X-ORIGINAL-URL:https://www.bodyshopmag.com
X-WR-CALDESC:Events for Bodyshop Magazine
REFRESH-INTERVAL;VALUE=DURATION:PT1H
X-Robots-Tag:noindex
X-PUBLISHED-TTL:PT1H
BEGIN:VTIMEZONE
TZID:Europe/London
BEGIN:DAYLIGHT
TZOFFSETFROM:+0000
TZOFFSETTO:+0100
TZNAME:BST
DTSTART:20220327T010000
END:DAYLIGHT
BEGIN:STANDARD
TZOFFSETFROM:+0100
TZOFFSETTO:+0000
TZNAME:GMT
DTSTART:20221030T010000
END:STANDARD
BEGIN:DAYLIGHT
TZOFFSETFROM:+0000
TZOFFSETTO:+0100
TZNAME:BST
DTSTART:20230326T010000
END:DAYLIGHT
BEGIN:STANDARD
TZOFFSETFROM:+0100
TZOFFSETTO:+0000
TZNAME:GMT
DTSTART:20231029T010000
END:STANDARD
BEGIN:DAYLIGHT
TZOFFSETFROM:+0000
TZOFFSETTO:+0100
TZNAME:BST
DTSTART:20240331T010000
END:DAYLIGHT
BEGIN:STANDARD
TZOFFSETFROM:+0100
TZOFFSETTO:+0000
TZNAME:GMT
DTSTART:20241027T010000
END:STANDARD
END:VTIMEZONE
BEGIN:VEVENT
DTSTART;TZID=Europe/London:20230316T080000
DTEND;TZID=Europe/London:20230318T170000
DTSTAMP:20260423T154936
CREATED:20211220T092800Z
LAST-MODIFIED:20211220T092812Z
UID:37657-1678953600-1679158800@www.bodyshopmag.com
SUMMARY:Automechanika Kuala Lumpur 2023
DESCRIPTION:Automechanika Kuala Lumpur is billed as the gateway to the ASEAN aftermarket. Last time out in 2019\, the event\, which is held once every two years\, welcomed more exhibitors and visitors to Malaysia than ever before: 293 companies from 16 countries and regions were on hand to present their latest products and innovations to 7\,033 visitors from 58 countries and regions.\n\nThis event was originally scheduled to take place in March 2021 but was postponed because of the coronavirus pandemic.
URL:https://www.bodyshopmag.com/events-diary/37657/
LOCATION:Kuala Lumpur Convention Centre\, Jalan Pinang\, Kuala Lumpur\,  Wilayah Persekutuan\, 50088 Kuala Lumpur\, Malaysia
CATEGORIES:General Events
END:VEVENT
BEGIN:VEVENT
DTSTART;TZID=Europe/London:20230316T090000
DTEND;TZID=Europe/London:20230316T170000
DTSTAMP:20260423T154936
CREATED:20230302T145420Z
LAST-MODIFIED:20230302T145420Z
UID:42353-1678957200-1678986000@www.bodyshopmag.com
SUMMARY:A1 Motor Stores Trade Show
DESCRIPTION:The A1 Motor Stores Trade Show will this year take place on 16 March at the East Midlands Conference Centre in Nottingham.
URL:https://www.bodyshopmag.com/events-diary/a1-motor-stores-trade-show/
LOCATION:East Midlands Conference Centre\, Beeston Lane\, Nottingham\, Notts\, NG7 2RJ\, United Kingdom
CATEGORIES:General Events
ORGANIZER;CN="A1 Automotive Group (A1 Motor Factors & A1 Motor Stores)":MAILTO:admin@a1ag.co.uk
END:VEVENT
BEGIN:VEVENT
DTSTART;TZID=Europe/London:20230316T093000
DTEND;TZID=Europe/London:20230316T170000
DTSTAMP:20260423T154936
CREATED:20221212T142741Z
LAST-MODIFIED:20230331T094741Z
UID:41556-1678959000-1678986000@www.bodyshopmag.com
SUMMARY:IBIS ASEAN 2023 (Kuala Lumpur\, Malaysia)
DESCRIPTION:Continuing the IBIS theme of “Sustainable Strategies for Success”\, the very first IBIS ASEAN conference will be held alongside Automechanika Kuala Lumpur in the Malaysian capital. This one-day event will offer a packed agenda including a market update covering many of the Association of South East Asian Nations (ASEAN) member countries\, technical presentations covering the impact of repairing new technology vehicles\, how collision shops need to prepare for the future\, staff shortages and retention\, and much more.
URL:https://www.bodyshopmag.com/events-diary/ibis-asean-2023/
LOCATION:Kuala Lumpur Convention Centre\, Jalan Pinang\, Kuala Lumpur\,  Wilayah Persekutuan\, 50088 Kuala Lumpur\, Malaysia
CATEGORIES:General Events
ORGANIZER;CN="IBIS Worldwide":MAILTO:suzie@ibisworldwide.com
END:VEVENT
END:VCALENDAR