BEGIN:VCALENDAR
VERSION:2.0
PRODID:-//Bodyshop Magazine - ECPv6.15.18//NONSGML v1.0//EN
CALSCALE:GREGORIAN
METHOD:PUBLISH
X-WR-CALNAME:Bodyshop Magazine
X-ORIGINAL-URL:https://www.bodyshopmag.com
X-WR-CALDESC:Events for Bodyshop Magazine
REFRESH-INTERVAL;VALUE=DURATION:PT1H
X-Robots-Tag:noindex
X-PUBLISHED-TTL:PT1H
BEGIN:VTIMEZONE
TZID:Europe/London
BEGIN:DAYLIGHT
TZOFFSETFROM:+0000
TZOFFSETTO:+0100
TZNAME:BST
DTSTART:20220327T010000
END:DAYLIGHT
BEGIN:STANDARD
TZOFFSETFROM:+0100
TZOFFSETTO:+0000
TZNAME:GMT
DTSTART:20221030T010000
END:STANDARD
BEGIN:DAYLIGHT
TZOFFSETFROM:+0000
TZOFFSETTO:+0100
TZNAME:BST
DTSTART:20230326T010000
END:DAYLIGHT
BEGIN:STANDARD
TZOFFSETFROM:+0100
TZOFFSETTO:+0000
TZNAME:GMT
DTSTART:20231029T010000
END:STANDARD
BEGIN:DAYLIGHT
TZOFFSETFROM:+0000
TZOFFSETTO:+0100
TZNAME:BST
DTSTART:20240331T010000
END:DAYLIGHT
BEGIN:STANDARD
TZOFFSETFROM:+0100
TZOFFSETTO:+0000
TZNAME:GMT
DTSTART:20241027T010000
END:STANDARD
END:VTIMEZONE
BEGIN:VEVENT
DTSTART;TZID=Europe/London:20230215T090000
DTEND;TZID=Europe/London:20230218T170000
DTSTAMP:20260423T154747
CREATED:20230103T091426Z
LAST-MODIFIED:20230103T145836Z
UID:41710-1676451600-1676739600@www.bodyshopmag.com
SUMMARY:Automechanika Shanghai - Shenzhen Edition 2022 (China)
DESCRIPTION:The 17th edition of Automechanika Shanghai\, which was originally postponed to December 2022 and moved to the Shenzhen World Exhibition and Convention Centre near Hong Kong as a special arrangement\, will now take place 15-18 February 2023 following the recent relaxation of Covid restrictions by the Chinese government. The relocation provides participants with more flexibility in their planning and will allow the fair to meet the industry’s expectations for in-person trade and business encounters.
URL:https://www.bodyshopmag.com/events-diary/automechanika-shanghai-shenzhen-edition-2022-china/
LOCATION:Shenzhen World Exhibition and Convention Centre\, Baoan\, Shenzhen\, Guangdong\, 518103\, China
CATEGORIES:General Events
END:VEVENT
END:VCALENDAR