BEGIN:VCALENDAR
VERSION:2.0
PRODID:-//Bodyshop Magazine - ECPv6.15.18//NONSGML v1.0//EN
CALSCALE:GREGORIAN
METHOD:PUBLISH
X-ORIGINAL-URL:https://www.bodyshopmag.com
X-WR-CALDESC:Events for Bodyshop Magazine
REFRESH-INTERVAL;VALUE=DURATION:PT1H
X-Robots-Tag:noindex
X-PUBLISHED-TTL:PT1H
BEGIN:VTIMEZONE
TZID:Europe/London
BEGIN:DAYLIGHT
TZOFFSETFROM:+0000
TZOFFSETTO:+0100
TZNAME:BST
DTSTART:20220327T010000
END:DAYLIGHT
BEGIN:STANDARD
TZOFFSETFROM:+0100
TZOFFSETTO:+0000
TZNAME:GMT
DTSTART:20221030T010000
END:STANDARD
BEGIN:DAYLIGHT
TZOFFSETFROM:+0000
TZOFFSETTO:+0100
TZNAME:BST
DTSTART:20230326T010000
END:DAYLIGHT
BEGIN:STANDARD
TZOFFSETFROM:+0100
TZOFFSETTO:+0000
TZNAME:GMT
DTSTART:20231029T010000
END:STANDARD
BEGIN:DAYLIGHT
TZOFFSETFROM:+0000
TZOFFSETTO:+0100
TZNAME:BST
DTSTART:20240331T010000
END:DAYLIGHT
BEGIN:STANDARD
TZOFFSETFROM:+0100
TZOFFSETTO:+0000
TZNAME:GMT
DTSTART:20241027T010000
END:STANDARD
END:VTIMEZONE
BEGIN:VEVENT
DTSTART;TZID=Europe/London:20230206T090000
DTEND;TZID=Europe/London:20230212T170000
DTSTAMP:20260423T142736
CREATED:20230104T101548Z
LAST-MODIFIED:20230104T101548Z
UID:41716-1675674000-1676221200@www.bodyshopmag.com
SUMMARY:National Apprenticeship Week 2023
DESCRIPTION:Schools\, colleges\, employers\, career advisers and thousands of students come together online to celebrate apprenticeships in support of the government-run National Apprenticeship Week. Throughout the week\, top employers and organisations come together to showcase their opportunities to thousands of attendees\, who are actively seeking an apprenticeship.
URL:https://www.bodyshopmag.com/events-diary/national-apprenticeship-week-2023/
LOCATION:Webinar
CATEGORIES:General Events
END:VEVENT
BEGIN:VEVENT
DTSTART;TZID=Europe/London:20230209T123000
DTEND;TZID=Europe/London:20230209T150000
DTSTAMP:20260423T142736
CREATED:20230113T165635Z
LAST-MODIFIED:20230113T165636Z
UID:41825-1675945800-1675954800@www.bodyshopmag.com
SUMMARY:CAT Awards 2023
DESCRIPTION:The Car Aftermarket Trader (CAT) magazine networking lunch and CAT Awards 2023 are returning to the Lowry Hotel in Manchester on 9 February. The CAT Awards celebrate the best in the UK automotive aftermarket in three categories – Industry Partner Award\, Supplier of the Year\, and Garage Concept of the Year.
URL:https://www.bodyshopmag.com/events-diary/cat-awards-2023/
LOCATION:The Lowry Hotel\, 50 Dearmans Place\, Salford\, Manchester\, M3 5LH\, United Kingdom
CATEGORIES:Awards,General Events
END:VEVENT
END:VCALENDAR