BEGIN:VCALENDAR
VERSION:2.0
PRODID:-//Bodyshop Magazine - ECPv6.15.18//NONSGML v1.0//EN
CALSCALE:GREGORIAN
METHOD:PUBLISH
X-WR-CALNAME:Bodyshop Magazine
X-ORIGINAL-URL:https://www.bodyshopmag.com
X-WR-CALDESC:Events for Bodyshop Magazine
REFRESH-INTERVAL;VALUE=DURATION:PT1H
X-Robots-Tag:noindex
X-PUBLISHED-TTL:PT1H
BEGIN:VTIMEZONE
TZID:Europe/London
BEGIN:DAYLIGHT
TZOFFSETFROM:+0000
TZOFFSETTO:+0100
TZNAME:BST
DTSTART:20210328T010000
END:DAYLIGHT
BEGIN:STANDARD
TZOFFSETFROM:+0100
TZOFFSETTO:+0000
TZNAME:GMT
DTSTART:20211031T010000
END:STANDARD
BEGIN:DAYLIGHT
TZOFFSETFROM:+0000
TZOFFSETTO:+0100
TZNAME:BST
DTSTART:20220327T010000
END:DAYLIGHT
BEGIN:STANDARD
TZOFFSETFROM:+0100
TZOFFSETTO:+0000
TZNAME:GMT
DTSTART:20221030T010000
END:STANDARD
BEGIN:DAYLIGHT
TZOFFSETFROM:+0000
TZOFFSETTO:+0100
TZNAME:BST
DTSTART:20230326T010000
END:DAYLIGHT
BEGIN:STANDARD
TZOFFSETFROM:+0100
TZOFFSETTO:+0000
TZNAME:GMT
DTSTART:20231029T010000
END:STANDARD
END:VTIMEZONE
BEGIN:VEVENT
DTSTART;TZID=Europe/London:20221123T090000
DTEND;TZID=Europe/London:20221123T170000
DTSTAMP:20260425T151658
CREATED:20220707T103116Z
LAST-MODIFIED:20221117T163230Z
UID:39693-1669194000-1669222800@www.bodyshopmag.com
SUMMARY:IBIS BAHRAIN NATIONAL FORUM
DESCRIPTION:The IBIS Bahrain National Forum 2022 will take place on the 23 November at the VIP Paddock Club at the Bahrain International Circuit. This one-day event will be the first of the new IBIS National Forums to be held anywhere in the world. Delegates will include industry thought leaders\, influencers and stakeholders who are business owners and senior executives from Bahrain based vehicle manufacturers\, product manufacturers\, agencies\, insurance companies\, bodyshops\, supply chains\, consultants\, training organisations and others.
URL:https://www.bodyshopmag.com/events-diary/ibis-bahrain-national-forum/
LOCATION:Bahrain International Circuit\, Gulf of Bahrain Avenue Umm Jidar\, Sakhir\, 1062\, Bahrain
CATEGORIES:General Events
ORGANIZER;CN="IBIS Worldwide":MAILTO:suzie@ibisworldwide.com
END:VEVENT
BEGIN:VEVENT
DTSTART;TZID=Europe/London:20221123T190000
DTEND;TZID=Europe/London:20221123T230000
DTSTAMP:20260425T151658
CREATED:20221017T110845Z
LAST-MODIFIED:20221017T110845Z
UID:40692-1669230000-1669244400@www.bodyshopmag.com
SUMMARY:Motor Trader Industry Awards 2022
DESCRIPTION:The Motor Trader Industry Awards 2022 will take place at Grosvenor House\, Park Lane\, London on Wednesday\, 23 November. Now in their 32nd year\, these awards recognise the highest levels of professionalism and excellence in the sector.
URL:https://www.bodyshopmag.com/events-diary/motor-trader-industry-awards-2022/
LOCATION:JW Marriott Grosvenor House\, 86-90 Park Lane\, London\, W1K 7TN\, United Kingdom
CATEGORIES:Awards,General Events
END:VEVENT
END:VCALENDAR