BEGIN:VCALENDAR
VERSION:2.0
PRODID:-//Bodyshop Magazine - ECPv6.15.18//NONSGML v1.0//EN
CALSCALE:GREGORIAN
METHOD:PUBLISH
X-WR-CALNAME:Bodyshop Magazine
X-ORIGINAL-URL:https://www.bodyshopmag.com
X-WR-CALDESC:Events for Bodyshop Magazine
REFRESH-INTERVAL;VALUE=DURATION:PT1H
X-Robots-Tag:noindex
X-PUBLISHED-TTL:PT1H
BEGIN:VTIMEZONE
TZID:Europe/London
BEGIN:DAYLIGHT
TZOFFSETFROM:+0000
TZOFFSETTO:+0100
TZNAME:BST
DTSTART:20210328T010000
END:DAYLIGHT
BEGIN:STANDARD
TZOFFSETFROM:+0100
TZOFFSETTO:+0000
TZNAME:GMT
DTSTART:20211031T010000
END:STANDARD
BEGIN:DAYLIGHT
TZOFFSETFROM:+0000
TZOFFSETTO:+0100
TZNAME:BST
DTSTART:20220327T010000
END:DAYLIGHT
BEGIN:STANDARD
TZOFFSETFROM:+0100
TZOFFSETTO:+0000
TZNAME:GMT
DTSTART:20221030T010000
END:STANDARD
BEGIN:DAYLIGHT
TZOFFSETFROM:+0000
TZOFFSETTO:+0100
TZNAME:BST
DTSTART:20230326T010000
END:DAYLIGHT
BEGIN:STANDARD
TZOFFSETFROM:+0100
TZOFFSETTO:+0000
TZNAME:GMT
DTSTART:20231029T010000
END:STANDARD
END:VTIMEZONE
BEGIN:VEVENT
DTSTART;TZID=Europe/London:20221011T090000
DTEND;TZID=Europe/London:20221014T170000
DTSTAMP:20260423T154927
CREATED:20210113T093529Z
LAST-MODIFIED:20220705T123649Z
UID:34104-1665478800-1665766800@www.bodyshopmag.com
SUMMARY:Automechanika Buenos Aires 2022
DESCRIPTION:Automechanika Buenos Aires has developed into a leading aftermarket event in South America. The show has proved to be a reliable partner for the market even in times of economic difficulty. The biannual trade fair celebrated its 10th edition in 2018\, where about 400 exhibitors and 30\,000 visitors are expected to showcase their products on 35\,000 sqm. \nThis biennial four-day event\, was originally scheduled to run in November 2020 but was delayed due to the coronavirus pandemic.
URL:https://www.bodyshopmag.com/events-diary/automechanika-buenos-aires-2022/
LOCATION:La Rural Trade Center\, Av. Sarmiento 2704\, Buenos Aires\, Caballito\, CABA 1425\, Argentina
CATEGORIES:General Events
END:VEVENT
BEGIN:VEVENT
DTSTART;TZID=Europe/London:20221012T090000
DTEND;TZID=Europe/London:20221017T170000
DTSTAMP:20260423T154927
CREATED:20210203T104826Z
LAST-MODIFIED:20220922T111541Z
UID:34322-1665565200-1666026000@www.bodyshopmag.com
SUMMARY:CANCELLED: WorldSkills Competition 2022 (China)
DESCRIPTION:The 46th WorldSkills Competition\, previously scheduled for September 2021 and then 12–17 October 2022\, has been cancelled because of mainland China Covid restrictions. \nTo ensure that the decision to change the date will not impact participants\, the WorldSkills General Assembly unanimously approved a one-time change in the age eligibility criteria for the competition. If a competitor was age-eligible for the WorldSkills Competition 2021\, then they will also be eligible for 2022. \nIt was also agreed that the WorldSkills Conference\, which runs parallel to the competition bringing together leaders in education\, government\, business\, and industry from around the globe\, will take place 13-14 October.
URL:https://www.bodyshopmag.com/events-diary/worldskills-competition-2022/
LOCATION:National Exhibition and Convention Centre (Shanghai)\, 333 Songze Avenue Road\, Shanghai\, Qingpu District\, China
CATEGORIES:General Events
END:VEVENT
BEGIN:VEVENT
DTSTART;TZID=Europe/London:20221014T090000
DTEND;TZID=Europe/London:20221014T170000
DTSTAMP:20260423T154927
CREATED:20220801T085215Z
LAST-MODIFIED:20220801T085215Z
UID:39997-1665738000-1665766800@www.bodyshopmag.com
SUMMARY:Passive Safety Conference 2022
DESCRIPTION:Tickets for the 2022 Passive Safety Conference are now on sale. Whether you are very familiar with passive safety design in vehicles but need updating\, or you would just like to learn the basics\, this is the conference for you. This event is endorsed by The Institute of Highway Engineers\, the Chartered Institution of Highways & Transportation and by National Highways\, and a full day of CPD credit is available. It will be integrated with a large exhibition of passive safety products and experts from industry will be on hand to explain how their products work.
URL:https://www.bodyshopmag.com/events-diary/passive-safety-conference-2022/
LOCATION:National Exhibition Centre (NEC)\, North Avenue\, Marston Green\, Birmingham\, B40 1NT\, United Kingdom
CATEGORIES:General Events
ORGANIZER;CN="Institute of Traffic Accident Investigators (ITAI)":MAILTO:admin@itai.org
END:VEVENT
END:VCALENDAR