BEGIN:VCALENDAR
VERSION:2.0
PRODID:-//Bodyshop Magazine - ECPv6.15.18//NONSGML v1.0//EN
CALSCALE:GREGORIAN
METHOD:PUBLISH
X-WR-CALNAME:Bodyshop Magazine
X-ORIGINAL-URL:https://www.bodyshopmag.com
X-WR-CALDESC:Events for Bodyshop Magazine
REFRESH-INTERVAL;VALUE=DURATION:PT1H
X-Robots-Tag:noindex
X-PUBLISHED-TTL:PT1H
BEGIN:VTIMEZONE
TZID:Europe/London
BEGIN:DAYLIGHT
TZOFFSETFROM:+0000
TZOFFSETTO:+0100
TZNAME:BST
DTSTART:20210328T010000
END:DAYLIGHT
BEGIN:STANDARD
TZOFFSETFROM:+0100
TZOFFSETTO:+0000
TZNAME:GMT
DTSTART:20211031T010000
END:STANDARD
BEGIN:DAYLIGHT
TZOFFSETFROM:+0000
TZOFFSETTO:+0100
TZNAME:BST
DTSTART:20220327T010000
END:DAYLIGHT
BEGIN:STANDARD
TZOFFSETFROM:+0100
TZOFFSETTO:+0000
TZNAME:GMT
DTSTART:20221030T010000
END:STANDARD
BEGIN:DAYLIGHT
TZOFFSETFROM:+0000
TZOFFSETTO:+0100
TZNAME:BST
DTSTART:20230326T010000
END:DAYLIGHT
BEGIN:STANDARD
TZOFFSETFROM:+0100
TZOFFSETTO:+0000
TZNAME:GMT
DTSTART:20231029T010000
END:STANDARD
END:VTIMEZONE
BEGIN:VEVENT
DTSTART;TZID=Europe/London:20221011T080000
DTEND;TZID=Europe/London:20221012T170000
DTSTAMP:20260423T141520
CREATED:20220606T083347Z
LAST-MODIFIED:20220606T083347Z
UID:39365-1665475200-1665594000@www.bodyshopmag.com
SUMMARY:Fleet & Mobility Live
DESCRIPTION:The UK’s biggest and most important show for fleet decision-makers.
URL:https://www.bodyshopmag.com/events-diary/fleet-mobility-live-2/
LOCATION:National Exhibition Centre (NEC)\, North Avenue\, Marston Green\, Birmingham\, B40 1NT\, United Kingdom
CATEGORIES:General Events
END:VEVENT
BEGIN:VEVENT
DTSTART;TZID=Europe/London:20221011T090000
DTEND;TZID=Europe/London:20221014T170000
DTSTAMP:20260423T141520
CREATED:20210113T093529Z
LAST-MODIFIED:20220705T123649Z
UID:34104-1665478800-1665766800@www.bodyshopmag.com
SUMMARY:Automechanika Buenos Aires 2022
DESCRIPTION:Automechanika Buenos Aires has developed into a leading aftermarket event in South America. The show has proved to be a reliable partner for the market even in times of economic difficulty. The biannual trade fair celebrated its 10th edition in 2018\, where about 400 exhibitors and 30\,000 visitors are expected to showcase their products on 35\,000 sqm. \nThis biennial four-day event\, was originally scheduled to run in November 2020 but was delayed due to the coronavirus pandemic.
URL:https://www.bodyshopmag.com/events-diary/automechanika-buenos-aires-2022/
LOCATION:La Rural Trade Center\, Av. Sarmiento 2704\, Buenos Aires\, Caballito\, CABA 1425\, Argentina
CATEGORIES:General Events
END:VEVENT
END:VCALENDAR