BEGIN:VCALENDAR
VERSION:2.0
PRODID:-//Bodyshop Magazine - ECPv6.15.18//NONSGML v1.0//EN
CALSCALE:GREGORIAN
METHOD:PUBLISH
X-ORIGINAL-URL:https://www.bodyshopmag.com
X-WR-CALDESC:Events for Bodyshop Magazine
REFRESH-INTERVAL;VALUE=DURATION:PT1H
X-Robots-Tag:noindex
X-PUBLISHED-TTL:PT1H
BEGIN:VTIMEZONE
TZID:Europe/London
BEGIN:DAYLIGHT
TZOFFSETFROM:+0000
TZOFFSETTO:+0100
TZNAME:BST
DTSTART:20210328T010000
END:DAYLIGHT
BEGIN:STANDARD
TZOFFSETFROM:+0100
TZOFFSETTO:+0000
TZNAME:GMT
DTSTART:20211031T010000
END:STANDARD
BEGIN:DAYLIGHT
TZOFFSETFROM:+0000
TZOFFSETTO:+0100
TZNAME:BST
DTSTART:20220327T010000
END:DAYLIGHT
BEGIN:STANDARD
TZOFFSETFROM:+0100
TZOFFSETTO:+0000
TZNAME:GMT
DTSTART:20221030T010000
END:STANDARD
BEGIN:DAYLIGHT
TZOFFSETFROM:+0000
TZOFFSETTO:+0100
TZNAME:BST
DTSTART:20230326T010000
END:DAYLIGHT
BEGIN:STANDARD
TZOFFSETFROM:+0100
TZOFFSETTO:+0000
TZNAME:GMT
DTSTART:20231029T010000
END:STANDARD
END:VTIMEZONE
BEGIN:VEVENT
DTSTART;TZID=Europe/London:20220923T090000
DTEND;TZID=Europe/London:20220925T170000
DTSTAMP:20260425T152747
CREATED:20220704T151821Z
LAST-MODIFIED:20220704T151821Z
UID:39588-1663923600-1664125200@www.bodyshopmag.com
SUMMARY:Screwfix Live
DESCRIPTION:Screwfix Live is back in-person. After two years of bringing the largest trade and DIY exhibition to the world virtually\, Screwfix will welcome its customers back in person to this hugely popular event. Participants who register and visit the event will have the chance to put their hands on exclusive deals and a free goody bag. The free-to-enter show is returning to Farnborough International Exhibition & Conference Centre from Friday\, 23 September to Sunday\, 25 September 2022 with all the best brands\, loved by tradespeople.
URL:https://www.bodyshopmag.com/events-diary/screwfix-live/
LOCATION:Farnborough International Exhibition and Conference Centre\, Etps Road\, Farnborough\, GU14 6FD\, United Kingdom
CATEGORIES:General Events
END:VEVENT
END:VCALENDAR