BEGIN:VCALENDAR
VERSION:2.0
PRODID:-//Bodyshop Magazine - ECPv6.15.18//NONSGML v1.0//EN
CALSCALE:GREGORIAN
METHOD:PUBLISH
X-WR-CALNAME:Bodyshop Magazine
X-ORIGINAL-URL:https://www.bodyshopmag.com
X-WR-CALDESC:Events for Bodyshop Magazine
REFRESH-INTERVAL;VALUE=DURATION:PT1H
X-Robots-Tag:noindex
X-PUBLISHED-TTL:PT1H
BEGIN:VTIMEZONE
TZID:Europe/London
BEGIN:DAYLIGHT
TZOFFSETFROM:+0000
TZOFFSETTO:+0100
TZNAME:BST
DTSTART:20210328T010000
END:DAYLIGHT
BEGIN:STANDARD
TZOFFSETFROM:+0100
TZOFFSETTO:+0000
TZNAME:GMT
DTSTART:20211031T010000
END:STANDARD
BEGIN:DAYLIGHT
TZOFFSETFROM:+0000
TZOFFSETTO:+0100
TZNAME:BST
DTSTART:20220327T010000
END:DAYLIGHT
BEGIN:STANDARD
TZOFFSETFROM:+0100
TZOFFSETTO:+0000
TZNAME:GMT
DTSTART:20221030T010000
END:STANDARD
BEGIN:DAYLIGHT
TZOFFSETFROM:+0000
TZOFFSETTO:+0100
TZNAME:BST
DTSTART:20230326T010000
END:DAYLIGHT
BEGIN:STANDARD
TZOFFSETFROM:+0100
TZOFFSETTO:+0000
TZNAME:GMT
DTSTART:20231029T010000
END:STANDARD
END:VTIMEZONE
BEGIN:VEVENT
DTSTART;TZID=Europe/London:20220913T090000
DTEND;TZID=Europe/London:20220917T170000
DTSTAMP:20260423T154926
CREATED:20211125T140710Z
LAST-MODIFIED:20211125T140710Z
UID:37484-1663059600-1663434000@www.bodyshopmag.com
SUMMARY:Automechanika Frankfurt 2022
DESCRIPTION:Automechanika Frankfurt will return on 13-17 September 2022 and will be characterised by new themes and a clearly structured portfolio\, split into 10 product segments featuring body and paint\, tyres and wheels\, diagnostics and repair\, and much more.
URL:https://www.bodyshopmag.com/events-diary/automechanika-frankfurt-2022/
LOCATION:Messe Frankfurt\, Fairground of Messe Frankfurt\, Frankfurt am Main\, Hesse\, 60327\, Germany
CATEGORIES:General Events
END:VEVENT
BEGIN:VEVENT
DTSTART;TZID=Europe/London:20220917T120000
DTEND;TZID=Europe/London:20220917T233000
DTSTAMP:20260423T154926
CREATED:20220707T090152Z
LAST-MODIFIED:20220928T080401Z
UID:39688-1663416000-1663457400@www.bodyshopmag.com
SUMMARY:POSTPONED: The IAEA 90th Anniversary Conference and Awards Dinner
DESCRIPTION:The Institute of Automotive Engineer Assessors’ 90th Anniversary Conference and Awards Dinner was postponed out of respect for the passing of Queen Elizabeth II. A new date is yet to be confirmed
URL:https://www.bodyshopmag.com/events-diary/the-iaea-90th-anniversary-conference-and-awards-dinner/
LOCATION:Crowne Plaza Hotel\, Bridgefoot\, Stratford-Upon-Avon\, CV37 6YR\, United Kingdom
CATEGORIES:Awards,General Events
END:VEVENT
END:VCALENDAR