BEGIN:VCALENDAR
VERSION:2.0
PRODID:-//Bodyshop Magazine - ECPv6.15.18//NONSGML v1.0//EN
CALSCALE:GREGORIAN
METHOD:PUBLISH
X-WR-CALNAME:Bodyshop Magazine
X-ORIGINAL-URL:https://www.bodyshopmag.com
X-WR-CALDESC:Events for Bodyshop Magazine
REFRESH-INTERVAL;VALUE=DURATION:PT1H
X-Robots-Tag:noindex
X-PUBLISHED-TTL:PT1H
BEGIN:VTIMEZONE
TZID:Europe/London
BEGIN:DAYLIGHT
TZOFFSETFROM:+0000
TZOFFSETTO:+0100
TZNAME:BST
DTSTART:20210328T010000
END:DAYLIGHT
BEGIN:STANDARD
TZOFFSETFROM:+0100
TZOFFSETTO:+0000
TZNAME:GMT
DTSTART:20211031T010000
END:STANDARD
BEGIN:DAYLIGHT
TZOFFSETFROM:+0000
TZOFFSETTO:+0100
TZNAME:BST
DTSTART:20220327T010000
END:DAYLIGHT
BEGIN:STANDARD
TZOFFSETFROM:+0100
TZOFFSETTO:+0000
TZNAME:GMT
DTSTART:20221030T010000
END:STANDARD
BEGIN:DAYLIGHT
TZOFFSETFROM:+0000
TZOFFSETTO:+0100
TZNAME:BST
DTSTART:20230326T010000
END:DAYLIGHT
BEGIN:STANDARD
TZOFFSETFROM:+0100
TZOFFSETTO:+0000
TZNAME:GMT
DTSTART:20231029T010000
END:STANDARD
END:VTIMEZONE
BEGIN:VEVENT
DTSTART;TZID=Europe/London:20220728T190000
DTEND;TZID=Europe/London:20220728T200000
DTSTAMP:20260422T231351
CREATED:20220707T084752Z
LAST-MODIFIED:20220707T084752Z
UID:39687-1659034800-1659038400@www.bodyshopmag.com
SUMMARY:CIECAST webinar: New Technologies in Paint and Coatings
DESCRIPTION:The Collision Industry Electronic Commerce Association’s next CIECAST webinar will take place on Thursday\, 28 July from 19:00 (BST). The one-hour webinar\, titled “New Technologies in Paint and Coatings”\, will feature Daniel Benton\, global product director of colour marketing at Axalta Coating Systems; Andy Hysi\, eBusiness manager at AkzoNobel; and Jeff Wildman\, BASF’s North American manager of OEM & Industry Relations. During the live broadcast\, Benton\, Hysi and Wildman will talk about new technologies in the paint and coatings industry and the impacts on vehicle repair\, ADAS\, Lidar and other new vehicle technologies.
URL:https://www.bodyshopmag.com/events-diary/ciecast-webinar-new-technologies-in-paint-and-coatings/
LOCATION:Webinar
CATEGORIES:General Events
END:VEVENT
END:VCALENDAR