BEGIN:VCALENDAR
VERSION:2.0
PRODID:-//Bodyshop Magazine - ECPv6.15.18//NONSGML v1.0//EN
CALSCALE:GREGORIAN
METHOD:PUBLISH
X-ORIGINAL-URL:https://www.bodyshopmag.com
X-WR-CALDESC:Events for Bodyshop Magazine
REFRESH-INTERVAL;VALUE=DURATION:PT1H
X-Robots-Tag:noindex
X-PUBLISHED-TTL:PT1H
BEGIN:VTIMEZONE
TZID:Europe/London
BEGIN:DAYLIGHT
TZOFFSETFROM:+0000
TZOFFSETTO:+0100
TZNAME:BST
DTSTART:20210328T010000
END:DAYLIGHT
BEGIN:STANDARD
TZOFFSETFROM:+0100
TZOFFSETTO:+0000
TZNAME:GMT
DTSTART:20211031T010000
END:STANDARD
BEGIN:DAYLIGHT
TZOFFSETFROM:+0000
TZOFFSETTO:+0100
TZNAME:BST
DTSTART:20220327T010000
END:DAYLIGHT
BEGIN:STANDARD
TZOFFSETFROM:+0100
TZOFFSETTO:+0000
TZNAME:GMT
DTSTART:20221030T010000
END:STANDARD
BEGIN:DAYLIGHT
TZOFFSETFROM:+0000
TZOFFSETTO:+0100
TZNAME:BST
DTSTART:20230326T010000
END:DAYLIGHT
BEGIN:STANDARD
TZOFFSETFROM:+0100
TZOFFSETTO:+0000
TZNAME:GMT
DTSTART:20231029T010000
END:STANDARD
END:VTIMEZONE
BEGIN:VEVENT
DTSTART;TZID=Europe/London:20220706T180000
DTEND;TZID=Europe/London:20220706T233000
DTSTAMP:20260422T214709
CREATED:20220519T141229Z
LAST-MODIFIED:20220519T141229Z
UID:39136-1657130400-1657150200@www.bodyshopmag.com
SUMMARY:British Insurance Awards
DESCRIPTION:Attracting 2\,000-plus guests from all over the UK\, the Insurance Post magazine’s BIAs are a night for the whole insurance community. 28 categories cover general insurance\, SMEs\, claims specialists\, brokers\, underwriters and companies that provide services to the UK insurance sector.
URL:https://www.bodyshopmag.com/events-diary/british-insurance-awards/
LOCATION:Royal Albert Hall\, Kensington Gore\, London\, SW7 2AP
CATEGORIES:General Events
END:VEVENT
END:VCALENDAR