BEGIN:VCALENDAR
VERSION:2.0
PRODID:-//Bodyshop Magazine - ECPv6.15.18//NONSGML v1.0//EN
CALSCALE:GREGORIAN
METHOD:PUBLISH
X-WR-CALNAME:Bodyshop Magazine
X-ORIGINAL-URL:https://www.bodyshopmag.com
X-WR-CALDESC:Events for Bodyshop Magazine
REFRESH-INTERVAL;VALUE=DURATION:PT1H
X-Robots-Tag:noindex
X-PUBLISHED-TTL:PT1H
BEGIN:VTIMEZONE
TZID:Europe/London
BEGIN:DAYLIGHT
TZOFFSETFROM:+0000
TZOFFSETTO:+0100
TZNAME:BST
DTSTART:20210328T010000
END:DAYLIGHT
BEGIN:STANDARD
TZOFFSETFROM:+0100
TZOFFSETTO:+0000
TZNAME:GMT
DTSTART:20211031T010000
END:STANDARD
BEGIN:DAYLIGHT
TZOFFSETFROM:+0000
TZOFFSETTO:+0100
TZNAME:BST
DTSTART:20220327T010000
END:DAYLIGHT
BEGIN:STANDARD
TZOFFSETFROM:+0100
TZOFFSETTO:+0000
TZNAME:GMT
DTSTART:20221030T010000
END:STANDARD
BEGIN:DAYLIGHT
TZOFFSETFROM:+0000
TZOFFSETTO:+0100
TZNAME:BST
DTSTART:20230326T010000
END:DAYLIGHT
BEGIN:STANDARD
TZOFFSETFROM:+0100
TZOFFSETTO:+0000
TZNAME:GMT
DTSTART:20231029T010000
END:STANDARD
END:VTIMEZONE
BEGIN:VEVENT
DTSTART;TZID=Europe/London:20220629T080000
DTEND;TZID=Europe/London:20220630T170000
DTSTAMP:20260422T183538
CREATED:20210617T081817Z
LAST-MODIFIED:20210617T081817Z
UID:35600-1656489600-1656608400@www.bodyshopmag.com
SUMMARY:Battery Cells and Systems Expo and Vehicle Electrification Expo
DESCRIPTION:Battery Cells and Systems Expo and Vehicle Electrification Expo 2021 will now take place on 29-30 June 2022 at The National Exhibition Centre (NEC)\, Birmingham. (Previously scheduled for 7-8 July 2021). \nThe conferences and exhibitions will bring together the entire supply chain involved in electric and hybrid vehicle development and will showcase the latest technologies for this rapidly growing market.
URL:https://www.bodyshopmag.com/events-diary/battery-cells-and-systems-expo-and-vehicle-electrification-expo/
LOCATION:National Exhibition Centre (NEC)\, North Avenue\, Marston Green\, Birmingham\, B40 1NT\, United Kingdom
CATEGORIES:General Events
ORGANIZER;CN="Event Partners":MAILTO:enquiries@event-partners.org
END:VEVENT
END:VCALENDAR