BEGIN:VCALENDAR
VERSION:2.0
PRODID:-//Bodyshop Magazine - ECPv6.15.18//NONSGML v1.0//EN
CALSCALE:GREGORIAN
METHOD:PUBLISH
X-WR-CALNAME:Bodyshop Magazine
X-ORIGINAL-URL:https://www.bodyshopmag.com
X-WR-CALDESC:Events for Bodyshop Magazine
REFRESH-INTERVAL;VALUE=DURATION:PT1H
X-Robots-Tag:noindex
X-PUBLISHED-TTL:PT1H
BEGIN:VTIMEZONE
TZID:Europe/London
BEGIN:DAYLIGHT
TZOFFSETFROM:+0000
TZOFFSETTO:+0100
TZNAME:BST
DTSTART:20210328T010000
END:DAYLIGHT
BEGIN:STANDARD
TZOFFSETFROM:+0100
TZOFFSETTO:+0000
TZNAME:GMT
DTSTART:20211031T010000
END:STANDARD
BEGIN:DAYLIGHT
TZOFFSETFROM:+0000
TZOFFSETTO:+0100
TZNAME:BST
DTSTART:20220327T010000
END:DAYLIGHT
BEGIN:STANDARD
TZOFFSETFROM:+0100
TZOFFSETTO:+0000
TZNAME:GMT
DTSTART:20221030T010000
END:STANDARD
BEGIN:DAYLIGHT
TZOFFSETFROM:+0000
TZOFFSETTO:+0100
TZNAME:BST
DTSTART:20230326T010000
END:DAYLIGHT
BEGIN:STANDARD
TZOFFSETFROM:+0100
TZOFFSETTO:+0000
TZNAME:GMT
DTSTART:20231029T010000
END:STANDARD
END:VTIMEZONE
BEGIN:VEVENT
DTSTART;TZID=Europe/London:20220628T080000
DTEND;TZID=Europe/London:20220629T170000
DTSTAMP:20260422T183528
CREATED:20220107T143450Z
LAST-MODIFIED:20220518T082859Z
UID:37775-1656403200-1656522000@www.bodyshopmag.com
SUMMARY:Reuters Events: Automotive Europe 2022
DESCRIPTION:Reuters Events Automotive Europe 2022 is the global meeting to unite CEOs and board members from European OEMs to take to the stage and set the automotive industry agenda for years to come. Reaching a European audience\, this event will shape the future strategies across business-critical topics including electrification\, connectivity\, autonomous vehicles\, sustainability\, supply chain\, and customer-first strategies including retail and marketing.
URL:https://www.bodyshopmag.com/events-diary/reuters-events-automotive-europe-2022/
LOCATION:Hilton Munich Park\, München\, Germany
CATEGORIES:General Events
END:VEVENT
BEGIN:VEVENT
DTSTART;TZID=Europe/London:20220628T090000
DTEND;TZID=Europe/London:20220628T170000
DTSTAMP:20260422T183528
CREATED:20220610T141346Z
LAST-MODIFIED:20220610T141346Z
UID:39419-1656406800-1656435600@www.bodyshopmag.com
SUMMARY:Hydrogen and Fuel Cells - Here and Now Conference
DESCRIPTION:The 18th UK Hydrogen & Fuel Cells conference from Climate Change Solutions will be taking place on 28 June at the NEC.  It will look\, as always\, at both the hydrogen economy and  the range of applications for fuel cells. Sessions will focus on the production\, distribution and use of hydrogen. Market demand for hydrogen will cover transport applications as well as remote and stationary power.
URL:https://www.bodyshopmag.com/events-diary/hydrogen-and-fuel-cells-here-and-now-conference/
LOCATION:National Exhibition Centre (NEC)\, North Avenue\, Marston Green\, Birmingham\, B40 1NT\, United Kingdom
CATEGORIES:General Events
ORGANIZER;CN="Climate Change Solutions":MAILTO:jacqui.staunton@climate-change-solutions.co.uk
END:VEVENT
END:VCALENDAR