BEGIN:VCALENDAR
VERSION:2.0
PRODID:-//Bodyshop Magazine - ECPv6.15.18//NONSGML v1.0//EN
CALSCALE:GREGORIAN
METHOD:PUBLISH
X-WR-CALNAME:Bodyshop Magazine
X-ORIGINAL-URL:https://www.bodyshopmag.com
X-WR-CALDESC:Events for Bodyshop Magazine
REFRESH-INTERVAL;VALUE=DURATION:PT1H
X-Robots-Tag:noindex
X-PUBLISHED-TTL:PT1H
BEGIN:VTIMEZONE
TZID:Europe/London
BEGIN:DAYLIGHT
TZOFFSETFROM:+0000
TZOFFSETTO:+0100
TZNAME:BST
DTSTART:20210328T010000
END:DAYLIGHT
BEGIN:STANDARD
TZOFFSETFROM:+0100
TZOFFSETTO:+0000
TZNAME:GMT
DTSTART:20211031T010000
END:STANDARD
BEGIN:DAYLIGHT
TZOFFSETFROM:+0000
TZOFFSETTO:+0100
TZNAME:BST
DTSTART:20220327T010000
END:DAYLIGHT
BEGIN:STANDARD
TZOFFSETFROM:+0100
TZOFFSETTO:+0000
TZNAME:GMT
DTSTART:20221030T010000
END:STANDARD
BEGIN:DAYLIGHT
TZOFFSETFROM:+0000
TZOFFSETTO:+0100
TZNAME:BST
DTSTART:20230326T010000
END:DAYLIGHT
BEGIN:STANDARD
TZOFFSETFROM:+0100
TZOFFSETTO:+0000
TZNAME:GMT
DTSTART:20231029T010000
END:STANDARD
END:VTIMEZONE
BEGIN:VEVENT
DTSTART;TZID=Europe/London:20220623T090000
DTEND;TZID=Europe/London:20220626T170000
DTSTAMP:20260422T232912
CREATED:20220211T092442Z
LAST-MODIFIED:20220211T092637Z
UID:38052-1655974800-1656262800@www.bodyshopmag.com
SUMMARY:Automechanika Astana (Kazakhstan)
DESCRIPTION:The leading regional trade fair for the automotive service industry targeting trade visitors from Kazakhstan and Central Asia. Automechanika Astana is an international exhibition of spare parts\, automotive components\, equipment and vehicle maintenance products.
URL:https://www.bodyshopmag.com/events-diary/automechanika-astana-kazakhstan/
LOCATION:IEC Expo (Kazakhstan)\, Astana\, Kazakhstan
CATEGORIES:General Events
END:VEVENT
END:VCALENDAR