BEGIN:VCALENDAR
VERSION:2.0
PRODID:-//Bodyshop Magazine - ECPv6.15.18//NONSGML v1.0//EN
CALSCALE:GREGORIAN
METHOD:PUBLISH
X-WR-CALNAME:Bodyshop Magazine
X-ORIGINAL-URL:https://www.bodyshopmag.com
X-WR-CALDESC:Events for Bodyshop Magazine
REFRESH-INTERVAL;VALUE=DURATION:PT1H
X-Robots-Tag:noindex
X-PUBLISHED-TTL:PT1H
BEGIN:VTIMEZONE
TZID:Europe/London
BEGIN:DAYLIGHT
TZOFFSETFROM:+0000
TZOFFSETTO:+0100
TZNAME:BST
DTSTART:20210328T010000
END:DAYLIGHT
BEGIN:STANDARD
TZOFFSETFROM:+0100
TZOFFSETTO:+0000
TZNAME:GMT
DTSTART:20211031T010000
END:STANDARD
BEGIN:DAYLIGHT
TZOFFSETFROM:+0000
TZOFFSETTO:+0100
TZNAME:BST
DTSTART:20220327T010000
END:DAYLIGHT
BEGIN:STANDARD
TZOFFSETFROM:+0100
TZOFFSETTO:+0000
TZNAME:GMT
DTSTART:20221030T010000
END:STANDARD
BEGIN:DAYLIGHT
TZOFFSETFROM:+0000
TZOFFSETTO:+0100
TZNAME:BST
DTSTART:20230326T010000
END:DAYLIGHT
BEGIN:STANDARD
TZOFFSETFROM:+0100
TZOFFSETTO:+0000
TZNAME:GMT
DTSTART:20231029T010000
END:STANDARD
END:VTIMEZONE
BEGIN:VEVENT
DTSTART;TZID=Europe/London:20220607T090000
DTEND;TZID=Europe/London:20220609T170000
DTSTAMP:20260422T170632
CREATED:20201020T094843Z
LAST-MODIFIED:20211220T094252Z
UID:33521-1654592400-1654794000@www.bodyshopmag.com
SUMMARY:POSTPONED: Automechanika Birmingham
DESCRIPTION:The UK’s leading trade exhibition for the automotive aftermarket and supply chain sector targeting trade visitors from the UK. Because Automechanika Frankfurt was moved to 2021 as a result of the coronavirus pandemic\, and to keep alternating between the UK and Frankfurt events\, Automechanika Birmingham will now take place in June 2023.
URL:https://www.bodyshopmag.com/events-diary/automechanika-birmingham-3/
LOCATION:National Exhibition Centre (NEC)\, North Avenue\, Marston Green\, Birmingham\, B40 1NT\, United Kingdom
CATEGORIES:General Events
END:VEVENT
BEGIN:VEVENT
DTSTART;TZID=Europe/London:20220607T090000
DTEND;TZID=Europe/London:20220610T170000
DTSTAMP:20260422T170632
CREATED:20220519T135342Z
LAST-MODIFIED:20220519T135342Z
UID:39130-1654592400-1654880400@www.bodyshopmag.com
SUMMARY:Automechanika Johannesburg (South Africa)
DESCRIPTION:South Africa’s leading international trade fair for the automotive service industry targeting trade visitors from the sub-Saharan region is set to return to the Johannesburg Expo Centre\, Nasrec\, from 7-10 June 2022. Automechanika Johannesburg is co-located with Futuroad Expo\, sub-Saharan Africa’s leading professional event for the truck\, bus\, and commercial vehicle industry.
URL:https://www.bodyshopmag.com/events-diary/automechanika-johannesburg-south-africa/
LOCATION:JHB Expo Centre\, Nasrec\, Johannesburg\, South Africa
CATEGORIES:General Events
END:VEVENT
BEGIN:VEVENT
DTSTART;TZID=Europe/London:20220607T180000
DTEND;TZID=Europe/London:20220607T235900
DTSTAMP:20260422T170632
CREATED:20220413T121552Z
LAST-MODIFIED:20220427T132025Z
UID:38710-1654624800-1654646340@www.bodyshopmag.com
SUMMARY:bodyshop Magazine #UKGBE2022 Launch Party
DESCRIPTION:bodyshop magazine is inviting the UK collision repair industry to join us at a brand-new networking occasion on 7 June to kick-off the inaugural UK Garage & Bodyshop Event presented by Automechanika Birmingham which runs 8-9 June at the National Exhibition Centre. \nThe bodyshop magazine launch party will take place at the exclusive Forest of Arden Marriott Hotel & Country Club\, just eight minutes from the NEC\, and will run from 6:00pm to midnight. \nIt will include a mouth-watering BBQ dinner\, an inspirational guest speaker and plenty of face-to-face networking time with leading bodyshop owners and managers\, supply chain stakeholders and the many hundreds of repairers who will be attending the bodyshopmag-sponsored #UKGBE2022. \nAnd all this for only £95 per head (+VAT). Click here to sign up and book your ticket(s) today: https://www.bodyshopmag.com/bodyshop-magazine-ukgbe2022-launch-party/. \nClick here to book a room at the Forest of Arden Marriott at discount rates: https://www.marriott.com/event-reservations/reservation-link.mi?id=1649952056318&key=GRP.
URL:https://www.bodyshopmag.com/events-diary/bodyshopbbq-to-launch-ukgbe2022/
LOCATION:Delta Hotels by Marriott Forest of Arden Hotel & Country Club\, Maxstoke Lane\, Meriden\, Coventry\, CV7 7HR\, United Kingdom
CATEGORIES:General Events
ORGANIZER;CN="Bodyshop Magazine":MAILTO:info@bodyshopmag.com
END:VEVENT
END:VCALENDAR