BEGIN:VCALENDAR
VERSION:2.0
PRODID:-//Bodyshop Magazine - ECPv6.15.18//NONSGML v1.0//EN
CALSCALE:GREGORIAN
METHOD:PUBLISH
X-ORIGINAL-URL:https://www.bodyshopmag.com
X-WR-CALDESC:Events for Bodyshop Magazine
REFRESH-INTERVAL;VALUE=DURATION:PT1H
X-Robots-Tag:noindex
X-PUBLISHED-TTL:PT1H
BEGIN:VTIMEZONE
TZID:Europe/London
BEGIN:DAYLIGHT
TZOFFSETFROM:+0000
TZOFFSETTO:+0100
TZNAME:BST
DTSTART:20210328T010000
END:DAYLIGHT
BEGIN:STANDARD
TZOFFSETFROM:+0100
TZOFFSETTO:+0000
TZNAME:GMT
DTSTART:20211031T010000
END:STANDARD
BEGIN:DAYLIGHT
TZOFFSETFROM:+0000
TZOFFSETTO:+0100
TZNAME:BST
DTSTART:20220327T010000
END:DAYLIGHT
BEGIN:STANDARD
TZOFFSETFROM:+0100
TZOFFSETTO:+0000
TZNAME:GMT
DTSTART:20221030T010000
END:STANDARD
BEGIN:DAYLIGHT
TZOFFSETFROM:+0000
TZOFFSETTO:+0100
TZNAME:BST
DTSTART:20230326T010000
END:DAYLIGHT
BEGIN:STANDARD
TZOFFSETFROM:+0100
TZOFFSETTO:+0000
TZNAME:GMT
DTSTART:20231029T010000
END:STANDARD
END:VTIMEZONE
BEGIN:VEVENT
DTSTART;TZID=Europe/London:20220426T083000
DTEND;TZID=Europe/London:20220428T180000
DTSTAMP:20260420T200505
CREATED:20220207T155239Z
LAST-MODIFIED:20220207T160733Z
UID:38011-1650961800-1651168800@www.bodyshopmag.com
SUMMARY:Automotive Sensors & Electronics + Automotive AI summits (Germany/hybrid)
DESCRIPTION:Join the experts to explore the advanced development of sensor and electronics technology (26-27 April) and automotive AI (27-28 April)\, and their components and applications to enrich vehicle performance\, safety and driver experience. Two summits\, three days\, one physical venue and online.
URL:https://www.bodyshopmag.com/events-diary/automotive-sensors-electronics-automotive-ai-summits-hybrid/
LOCATION:Munich\, Germany\, Germany
CATEGORIES:General Events
ORGANIZER;CN="Vonlanthen Group":MAILTO:summits@vonlanthengroup.com
END:VEVENT
BEGIN:VEVENT
DTSTART;TZID=Europe/London:20220426T090000
DTEND;TZID=Europe/London:20220429T170000
DTSTAMP:20260420T200505
CREATED:20220211T094050Z
LAST-MODIFIED:20220211T094058Z
UID:38054-1650963600-1651251600@www.bodyshopmag.com
SUMMARY:PaintExpo (Germany)
DESCRIPTION:PaintExpo Karlsruhe is a showcase exhibition for innovations\, applications\, future technologies and trends covering all aspects of industrial coatings. The trade fair spans the entire range of international products and services\, including automotive\, in the supply chain for industrial coating technology. The wide spectrum of products extends from spray guns\, equipment and materials to automation technology.
URL:https://www.bodyshopmag.com/events-diary/paintexpo-germany/
LOCATION:Exhibition Centre Karlsruhe\, Messe Karlsruhe\, Messeallee 1\, Rheinstetten\, D-76287\, Germany
CATEGORIES:General Events
END:VEVENT
BEGIN:VEVENT
DTSTART;TZID=Europe/London:20220428T090000
DTEND;TZID=Europe/London:20220428T170000
DTSTAMP:20260420T200505
CREATED:20220215T103859Z
LAST-MODIFIED:20220215T103859Z
UID:38070-1651136400-1651165200@www.bodyshopmag.com
SUMMARY:Vans Today (London)
DESCRIPTION:Logistics UK’s ever-popular Van Operational Briefings are relaunching in 2022 as Vans Today\, free-to-attend events taking place in Sheffield on 26 April 2022 and London on 28 April 2022. Boasting “an unrivalled line-up of speakers” and networking opportunities\, Vans Today aims to give companies the opportunity to discuss the role of compliance\, driver well-being and the technological challenges facing their businesses.
URL:https://www.bodyshopmag.com/events-diary/vans-today-london/
LOCATION:Radisson Red London Heathrow\, Heathrow\, UB7 ODU\, United Kingdom
CATEGORIES:General Events
END:VEVENT
BEGIN:VEVENT
DTSTART;TZID=Europe/London:20220428T190000
DTEND;TZID=Europe/London:20220428T200000
DTSTAMP:20260420T200505
CREATED:20220421T125517Z
LAST-MODIFIED:20220421T125517Z
UID:38814-1651172400-1651176000@www.bodyshopmag.com
SUMMARY:CIECA Technical Series: CIECA 2022R1 Release (webinar)
DESCRIPTION:Agenda at a glance: \n\nOverview of 2022R1\nAPI Standards (CAPIS) initiative\nCustom Tooling including Stoplight Studio\nCIECA Simplified standards project
URL:https://www.bodyshopmag.com/events-diary/cieca-technical-series-cieca-2022r1-release-webinar/
LOCATION:Webinar
CATEGORIES:General Events
END:VEVENT
END:VCALENDAR