BEGIN:VCALENDAR
VERSION:2.0
PRODID:-//Bodyshop Magazine - ECPv6.15.18//NONSGML v1.0//EN
CALSCALE:GREGORIAN
METHOD:PUBLISH
X-ORIGINAL-URL:https://www.bodyshopmag.com
X-WR-CALDESC:Events for Bodyshop Magazine
REFRESH-INTERVAL;VALUE=DURATION:PT1H
X-Robots-Tag:noindex
X-PUBLISHED-TTL:PT1H
BEGIN:VTIMEZONE
TZID:Europe/London
BEGIN:DAYLIGHT
TZOFFSETFROM:+0000
TZOFFSETTO:+0100
TZNAME:BST
DTSTART:20210328T010000
END:DAYLIGHT
BEGIN:STANDARD
TZOFFSETFROM:+0100
TZOFFSETTO:+0000
TZNAME:GMT
DTSTART:20211031T010000
END:STANDARD
BEGIN:DAYLIGHT
TZOFFSETFROM:+0000
TZOFFSETTO:+0100
TZNAME:BST
DTSTART:20220327T010000
END:DAYLIGHT
BEGIN:STANDARD
TZOFFSETFROM:+0100
TZOFFSETTO:+0000
TZNAME:GMT
DTSTART:20221030T010000
END:STANDARD
BEGIN:DAYLIGHT
TZOFFSETFROM:+0000
TZOFFSETTO:+0100
TZNAME:BST
DTSTART:20230326T010000
END:DAYLIGHT
BEGIN:STANDARD
TZOFFSETFROM:+0100
TZOFFSETTO:+0000
TZNAME:GMT
DTSTART:20231029T010000
END:STANDARD
END:VTIMEZONE
BEGIN:VEVENT
DTSTART;TZID=Europe/London:20220407T100000
DTEND;TZID=Europe/London:20220409T180000
DTSTAMP:20260420T164007
CREATED:20200914T072119Z
LAST-MODIFIED:20220211T095116Z
UID:33200-1649325600-1649527200@www.bodyshopmag.com
SUMMARY:Collision Repair Expo and Australian Auto Aftermarket Expo
DESCRIPTION:The Collision Repair Expo is Australia’s largest exhibition for the collision repair industry. Co-located with the Australian Auto Aftermarket Expo\, the combined event is the only comprehensive exhibition for Australia’s A$25bn aftermarket industry. The expo will bring together the industry’s best and brightest\, and showcase the country’s leading brands.
URL:https://www.bodyshopmag.com/events-diary/australian-automotive-aftermarket-and-collision-repair-expo/
LOCATION:Melbourne Convention and Exhibition Centre (MCEC)\, South Wharf\, Melbourne\, Victoria\, Australia
CATEGORIES:General Events
END:VEVENT
END:VCALENDAR