BEGIN:VCALENDAR
VERSION:2.0
PRODID:-//Bodyshop Magazine - ECPv6.15.18//NONSGML v1.0//EN
CALSCALE:GREGORIAN
METHOD:PUBLISH
X-ORIGINAL-URL:https://www.bodyshopmag.com
X-WR-CALDESC:Events for Bodyshop Magazine
REFRESH-INTERVAL;VALUE=DURATION:PT1H
X-Robots-Tag:noindex
X-PUBLISHED-TTL:PT1H
BEGIN:VTIMEZONE
TZID:Europe/London
BEGIN:DAYLIGHT
TZOFFSETFROM:+0000
TZOFFSETTO:+0100
TZNAME:BST
DTSTART:20210328T010000
END:DAYLIGHT
BEGIN:STANDARD
TZOFFSETFROM:+0100
TZOFFSETTO:+0000
TZNAME:GMT
DTSTART:20211031T010000
END:STANDARD
BEGIN:DAYLIGHT
TZOFFSETFROM:+0000
TZOFFSETTO:+0100
TZNAME:BST
DTSTART:20220327T010000
END:DAYLIGHT
BEGIN:STANDARD
TZOFFSETFROM:+0100
TZOFFSETTO:+0000
TZNAME:GMT
DTSTART:20221030T010000
END:STANDARD
BEGIN:DAYLIGHT
TZOFFSETFROM:+0000
TZOFFSETTO:+0100
TZNAME:BST
DTSTART:20230326T010000
END:DAYLIGHT
BEGIN:STANDARD
TZOFFSETFROM:+0100
TZOFFSETTO:+0000
TZNAME:GMT
DTSTART:20231029T010000
END:STANDARD
END:VTIMEZONE
BEGIN:VEVENT
DTSTART;TZID=Europe/London:20220323T083000
DTEND;TZID=Europe/London:20220323T163000
DTSTAMP:20260420T132655
CREATED:20220106T112005Z
LAST-MODIFIED:20220106T140116Z
UID:37752-1648024200-1648053000@www.bodyshopmag.com
SUMMARY:SMMT Electrified 2022
DESCRIPTION:SMMT Electrified 2022 will focus on how industry\, stakeholders\, and government can join forces to accelerate the transition to zero-emission mobility. The event will bring together 300 senior-level representatives from automotive\, charging infrastructure\, battery supply chain\, energy\, fleets\, logistics\, government\, and consumer groups.
URL:https://www.bodyshopmag.com/events-diary/smmt-electrified-2022/
LOCATION:Queen Elizabeth II (QEII) Centre\, Broad Sanctuary\, London\, SW1P 3EE\, United Kingdom
CATEGORIES:General Events
ORGANIZER;CN="Society of Motor Manufacturers and Traders (SMMT)":MAILTO:smmtsummit@smmt.co.uk
END:VEVENT
BEGIN:VEVENT
DTSTART;TZID=Europe/London:20220323T090000
DTEND;TZID=Europe/London:20220323T130000
DTSTAMP:20260420T132655
CREATED:20220309T075303Z
LAST-MODIFIED:20220309T075303Z
UID:38235-1648026000-1648040400@www.bodyshopmag.com
SUMMARY:Talent Recharge
DESCRIPTION:Spaces are still available for this new event which will see leaders from all across the automotive aftermarket come together to drive forward the skills conversation and help organisations devise and deploy successful long term talent strategies. Hosted by Autotech Group\, the inaugural Talent Recharge event is free to attend and will be held the Red Bull Technology Campus in Milton Keynes.
URL:https://www.bodyshopmag.com/events-diary/talent-recharge/
LOCATION:Red Bull MK-7\, Red Bull Technology Campus\, Building\, 2 Bradbourne Drive\, Tilbrook\, Milton Keynes\, Bucks\, MK7 8AT\, United Kingdom
CATEGORIES:General Events
ORGANIZER;CN="Autotech Group":MAILTO:hello@autotechrecruit.co.uk
END:VEVENT
END:VCALENDAR