BEGIN:VCALENDAR
VERSION:2.0
PRODID:-//Bodyshop Magazine - ECPv6.15.18//NONSGML v1.0//EN
CALSCALE:GREGORIAN
METHOD:PUBLISH
X-WR-CALNAME:Bodyshop Magazine
X-ORIGINAL-URL:https://www.bodyshopmag.com
X-WR-CALDESC:Events for Bodyshop Magazine
REFRESH-INTERVAL;VALUE=DURATION:PT1H
X-Robots-Tag:noindex
X-PUBLISHED-TTL:PT1H
BEGIN:VTIMEZONE
TZID:Europe/London
BEGIN:DAYLIGHT
TZOFFSETFROM:+0000
TZOFFSETTO:+0100
TZNAME:BST
DTSTART:20210328T010000
END:DAYLIGHT
BEGIN:STANDARD
TZOFFSETFROM:+0100
TZOFFSETTO:+0000
TZNAME:GMT
DTSTART:20211031T010000
END:STANDARD
BEGIN:DAYLIGHT
TZOFFSETFROM:+0000
TZOFFSETTO:+0100
TZNAME:BST
DTSTART:20220327T010000
END:DAYLIGHT
BEGIN:STANDARD
TZOFFSETFROM:+0100
TZOFFSETTO:+0000
TZNAME:GMT
DTSTART:20221030T010000
END:STANDARD
BEGIN:DAYLIGHT
TZOFFSETFROM:+0000
TZOFFSETTO:+0100
TZNAME:BST
DTSTART:20230326T010000
END:DAYLIGHT
BEGIN:STANDARD
TZOFFSETFROM:+0100
TZOFFSETTO:+0000
TZNAME:GMT
DTSTART:20231029T010000
END:STANDARD
END:VTIMEZONE
BEGIN:VEVENT
DTSTART;TZID=Europe/London:20220202T103000
DTEND;TZID=Europe/London:20220202T113000
DTSTAMP:20260420T134732
CREATED:20220131T152614Z
LAST-MODIFIED:20220131T152614Z
UID:37951-1643797800-1643801400@www.bodyshopmag.com
SUMMARY:SMMT: Cyber security for automotive SMEs
DESCRIPTION:A representative from the National Cyber Security Centre (NCSC)\, the UK’s technical authority for cyber threats\, will discuss the measures SMEs in the automotive sector can take to boost their cyber resilience\, including the range of resources offered by the NCSC.
URL:https://www.bodyshopmag.com/events-diary/smmt-cyber-security-for-automotive-smes/
LOCATION:Webinar
CATEGORIES:General Events
ORGANIZER;CN="Society of Motor Manufacturers and Traders (SMMT)":MAILTO:smmtsummit@smmt.co.uk
END:VEVENT
END:VCALENDAR