BEGIN:VCALENDAR
VERSION:2.0
PRODID:-//Bodyshop Magazine - ECPv6.15.18//NONSGML v1.0//EN
CALSCALE:GREGORIAN
METHOD:PUBLISH
X-WR-CALNAME:Bodyshop Magazine
X-ORIGINAL-URL:https://www.bodyshopmag.com
X-WR-CALDESC:Events for Bodyshop Magazine
REFRESH-INTERVAL;VALUE=DURATION:PT1H
X-Robots-Tag:noindex
X-PUBLISHED-TTL:PT1H
BEGIN:VTIMEZONE
TZID:Europe/London
BEGIN:DAYLIGHT
TZOFFSETFROM:+0000
TZOFFSETTO:+0100
TZNAME:BST
DTSTART:20200329T010000
END:DAYLIGHT
BEGIN:STANDARD
TZOFFSETFROM:+0100
TZOFFSETTO:+0000
TZNAME:GMT
DTSTART:20201025T010000
END:STANDARD
BEGIN:DAYLIGHT
TZOFFSETFROM:+0000
TZOFFSETTO:+0100
TZNAME:BST
DTSTART:20210328T010000
END:DAYLIGHT
BEGIN:STANDARD
TZOFFSETFROM:+0100
TZOFFSETTO:+0000
TZNAME:GMT
DTSTART:20211031T010000
END:STANDARD
BEGIN:DAYLIGHT
TZOFFSETFROM:+0000
TZOFFSETTO:+0100
TZNAME:BST
DTSTART:20220327T010000
END:DAYLIGHT
BEGIN:STANDARD
TZOFFSETFROM:+0100
TZOFFSETTO:+0000
TZNAME:GMT
DTSTART:20221030T010000
END:STANDARD
END:VTIMEZONE
BEGIN:VEVENT
DTSTART;TZID=Europe/London:20211217T180000
DTEND;TZID=Europe/London:20211217T233000
DTSTAMP:20260420T091023
CREATED:20210922T132050Z
LAST-MODIFIED:20211220T092242Z
UID:36622-1639764000-1639783800@www.bodyshopmag.com
SUMMARY:POSTPONED: bodyshop Awards 2021 + 30 under 30: rising stars
DESCRIPTION:The bodyshop Awards scheduled to take place on 17 December at ICC Wales have been postponed until 7 April 2022 at the same venue because of the ongoing coronavirus pandemic.
URL:https://www.bodyshopmag.com/events-diary/bodyshop-awards-2021-30-under-30-rising-stars/
LOCATION:ICC Wales\, The Coldra\, Catsash Road\, Caerleon\, Newport\, Wales\, NP18 1HQ\, United Kingdom
CATEGORIES:Awards,General Events
ORGANIZER;CN="Bodyshop Magazine":MAILTO:info@bodyshopmag.com
END:VEVENT
END:VCALENDAR