BEGIN:VCALENDAR
VERSION:2.0
PRODID:-//Bodyshop Magazine - ECPv6.15.18//NONSGML v1.0//EN
CALSCALE:GREGORIAN
METHOD:PUBLISH
X-WR-CALNAME:Bodyshop Magazine
X-ORIGINAL-URL:https://www.bodyshopmag.com
X-WR-CALDESC:Events for Bodyshop Magazine
REFRESH-INTERVAL;VALUE=DURATION:PT1H
X-Robots-Tag:noindex
X-PUBLISHED-TTL:PT1H
BEGIN:VTIMEZONE
TZID:Europe/London
BEGIN:DAYLIGHT
TZOFFSETFROM:+0000
TZOFFSETTO:+0100
TZNAME:BST
DTSTART:20200329T010000
END:DAYLIGHT
BEGIN:STANDARD
TZOFFSETFROM:+0100
TZOFFSETTO:+0000
TZNAME:GMT
DTSTART:20201025T010000
END:STANDARD
BEGIN:DAYLIGHT
TZOFFSETFROM:+0000
TZOFFSETTO:+0100
TZNAME:BST
DTSTART:20210328T010000
END:DAYLIGHT
BEGIN:STANDARD
TZOFFSETFROM:+0100
TZOFFSETTO:+0000
TZNAME:GMT
DTSTART:20211031T010000
END:STANDARD
BEGIN:DAYLIGHT
TZOFFSETFROM:+0000
TZOFFSETTO:+0100
TZNAME:BST
DTSTART:20220327T010000
END:DAYLIGHT
BEGIN:STANDARD
TZOFFSETFROM:+0100
TZOFFSETTO:+0000
TZNAME:GMT
DTSTART:20221030T010000
END:STANDARD
END:VTIMEZONE
BEGIN:VEVENT
DTSTART;TZID=Europe/London:20211005T090000
DTEND;TZID=Europe/London:20211006T170000
DTSTAMP:20260420T134708
CREATED:20210720T144416Z
LAST-MODIFIED:20210920T071727Z
UID:35996-1633424400-1633539600@www.bodyshopmag.com
SUMMARY:Fleet and Mobility Live 2021
DESCRIPTION:Two days of strategic insight that will help you prepare your fleet for the future\, covering the following topics:\n\nHow the responsibilities of fleet decision-makers are expanding beyond automotive.\nHow to improve your car\, van and truck operations.\nWhat transport decarbonisation means for fleets.\nHow to bring electric vehicles (EVs) onto your fleet policy and establish a workplace charging infrastructure.\nFuture tax predictions\, driver training and risk assessment challenges\, brought about by Covid-19.\nGetting the most out telematics.\nDriver and staff recruitment.\nHow companies are preparing for the business mobility as a service (MaaS) revolution.\nAlternative fuels.\nAutonomous technology and implementing eMobility strategies.
URL:https://www.bodyshopmag.com/events-diary/fleet-and-mobility-live-2021/
LOCATION:National Exhibition Centre (NEC)\, North Avenue\, Marston Green\, Birmingham\, B40 1NT\, United Kingdom
CATEGORIES:General Events
END:VEVENT
END:VCALENDAR