BEGIN:VCALENDAR
VERSION:2.0
PRODID:-//Bodyshop Magazine - ECPv6.15.18//NONSGML v1.0//EN
CALSCALE:GREGORIAN
METHOD:PUBLISH
X-WR-CALNAME:Bodyshop Magazine
X-ORIGINAL-URL:https://www.bodyshopmag.com
X-WR-CALDESC:Events for Bodyshop Magazine
REFRESH-INTERVAL;VALUE=DURATION:PT1H
X-Robots-Tag:noindex
X-PUBLISHED-TTL:PT1H
BEGIN:VTIMEZONE
TZID:Europe/London
BEGIN:DAYLIGHT
TZOFFSETFROM:+0000
TZOFFSETTO:+0100
TZNAME:BST
DTSTART:20190331T010000
END:DAYLIGHT
BEGIN:STANDARD
TZOFFSETFROM:+0100
TZOFFSETTO:+0000
TZNAME:GMT
DTSTART:20191027T010000
END:STANDARD
BEGIN:DAYLIGHT
TZOFFSETFROM:+0000
TZOFFSETTO:+0100
TZNAME:BST
DTSTART:20200329T010000
END:DAYLIGHT
BEGIN:STANDARD
TZOFFSETFROM:+0100
TZOFFSETTO:+0000
TZNAME:GMT
DTSTART:20201025T010000
END:STANDARD
BEGIN:DAYLIGHT
TZOFFSETFROM:+0000
TZOFFSETTO:+0100
TZNAME:BST
DTSTART:20210328T010000
END:DAYLIGHT
BEGIN:STANDARD
TZOFFSETFROM:+0100
TZOFFSETTO:+0000
TZNAME:GMT
DTSTART:20211031T010000
END:STANDARD
END:VTIMEZONE
BEGIN:VEVENT
DTSTART;TZID=Europe/London:20200507T160000
DTEND;TZID=Europe/London:20200507T170000
DTSTAMP:20260419T153245
CREATED:20200506T134225Z
LAST-MODIFIED:20200506T134226Z
UID:32034-1588867200-1588870800@www.bodyshopmag.com
SUMMARY:Solera webinar: A deeper dive into digital transformation
DESCRIPTION:Join Solera’s global industry experts for the second in its global webinar series. Find out more about the touch-less claims journey of the future\, its role in social distancing and the technology at play for a safe and seamless experience. \nPanellists will discuss the technologies at our fingertips across the globe today and the journey we have ahead to a friction-less\, touch-less modern workflow.
URL:https://www.bodyshopmag.com/events-diary/solera-webinar-a-deeper-dive-into-digital-transformation/
LOCATION:Webinar
CATEGORIES:General Events
END:VEVENT
END:VCALENDAR