BEGIN:VCALENDAR
VERSION:2.0
PRODID:-//Bodyshop Magazine - ECPv6.15.18//NONSGML v1.0//EN
CALSCALE:GREGORIAN
METHOD:PUBLISH
X-ORIGINAL-URL:https://www.bodyshopmag.com
X-WR-CALDESC:Events for Bodyshop Magazine
REFRESH-INTERVAL;VALUE=DURATION:PT1H
X-Robots-Tag:noindex
X-PUBLISHED-TTL:PT1H
BEGIN:VTIMEZONE
TZID:Europe/London
BEGIN:DAYLIGHT
TZOFFSETFROM:+0000
TZOFFSETTO:+0100
TZNAME:BST
DTSTART:20210328T010000
END:DAYLIGHT
BEGIN:STANDARD
TZOFFSETFROM:+0100
TZOFFSETTO:+0000
TZNAME:GMT
DTSTART:20211031T010000
END:STANDARD
BEGIN:DAYLIGHT
TZOFFSETFROM:+0000
TZOFFSETTO:+0100
TZNAME:BST
DTSTART:20220327T010000
END:DAYLIGHT
BEGIN:STANDARD
TZOFFSETFROM:+0100
TZOFFSETTO:+0000
TZNAME:GMT
DTSTART:20221030T010000
END:STANDARD
BEGIN:DAYLIGHT
TZOFFSETFROM:+0000
TZOFFSETTO:+0100
TZNAME:BST
DTSTART:20230326T010000
END:DAYLIGHT
BEGIN:STANDARD
TZOFFSETFROM:+0100
TZOFFSETTO:+0000
TZNAME:GMT
DTSTART:20231029T010000
END:STANDARD
END:VTIMEZONE
BEGIN:VEVENT
DTSTART;TZID=Europe/London:20221129T090000
DTEND;TZID=Europe/London:20221201T170000
DTSTAMP:20260423T154753
CREATED:20220707T110637Z
LAST-MODIFIED:20220707T110637Z
UID:39696-1669712400-1669914000@www.bodyshopmag.com
SUMMARY:The London EV Show 2022
DESCRIPTION:The London EV Show 2022 aims to provide a platform for “influential voices and important players from the entire EV spectrum to convene at the highest level\, exchange trailblazing ideas and strategise on advancing EV adoption”. Alongside this conference\, the show will host a massive exhibition at ExCeL London for leading EV businesses to exhibit the latest models\, next-gen electrification technology\, and innovative products and solutions. The three-day exhibition will provide an excellent opportunity for EV enthusiasts to witness the latest the industry has to offer – from e-bikes\, cars\, buses\, trucks\, scooters\, vans\, eVTOL/UAMs\, home and commercial charging systems to disruptive innovations.
URL:https://www.bodyshopmag.com/events-diary/the-london-ev-show-2022/
LOCATION:ExCel London\, Royal Victoria Dock\, 1 Western Gateway\, London\, E16 1XL\, United Kingdom
CATEGORIES:General Events
END:VEVENT
BEGIN:VEVENT
DTSTART;VALUE=DATE:20221201
DTEND;VALUE=DATE:20221202
DTSTAMP:20260423T154753
CREATED:20221121T110905Z
LAST-MODIFIED:20221121T111804Z
UID:41278-1669852800-1669939199@www.bodyshopmag.com
SUMMARY:ENTRIES OPEN FOR BODYSHOP AWARDS 2023 + 30 UNDER 30
DESCRIPTION:Nominations open on this date for the bodyshop Awards 2023 and 30 Under 30: Rising Stars. We will accept entries in all awards categories and the 30 Under 30 until 31 March 2023.
URL:https://www.bodyshopmag.com/events-diary/nominations-open-bodyshop-awards-30-under-30/
LOCATION:Warwickshire
CATEGORIES:Awards,General Events
ORGANIZER;CN="Bodyshop Magazine":MAILTO:info@bodyshopmag.com
END:VEVENT
BEGIN:VEVENT
DTSTART;TZID=Europe/London:20221205T190000
DTEND;TZID=Europe/London:20221205T193000
DTSTAMP:20260423T154753
CREATED:20221130T150723Z
LAST-MODIFIED:20221130T150743Z
UID:41417-1670266800-1670268600@www.bodyshopmag.com
SUMMARY:The cost of fail (webinar)
DESCRIPTION:In the assessing function\, the net productivity of the VDA\, is the balance between productive and unproductive forces. The story behind this webinar is about a repairer\, who was oblivious to the chaos being caused in his repair process as he unwittingly allowed his staff to define their own productive and organisational involvement\, in the goal of profitability. Sound familiar? Then this is a must-attend webinar for you. Sign up here.
URL:https://www.bodyshopmag.com/events-diary/the-cost-of-fail-webinar/
LOCATION:Webinar
CATEGORIES:General Events
ORGANIZER;CN="ARC Support Services":MAILTO:james@arcsupportservices.co.uk
END:VEVENT
BEGIN:VEVENT
DTSTART;TZID=Europe/London:20221207T091500
DTEND;TZID=Europe/London:20221208T163000
DTSTAMP:20260423T154753
CREATED:20221123T100924Z
LAST-MODIFIED:20221123T100924Z
UID:41309-1670404500-1670517000@www.bodyshopmag.com
SUMMARY:CoMoUK Shared Transport Conference 2022
DESCRIPTION:The 2022 Shared Transport Conference\, organised by Collaborative Mobility UK (CoMoUK)\, will be opened by Active Travel England’s chief executive Danny Williams\, and will hear from a range of different shared mobility scheme operators. The online event aims to bring together politicians\, transport officials\, and academics and operators to explore ways in which shared transport schemes and a wider behavioural change can save people money and help governments meet climate change targets.
URL:https://www.bodyshopmag.com/events-diary/comouk-shared-transport-conference-2022/
LOCATION:Webinar
CATEGORIES:General Events
ORGANIZER;CN="Collaborative Mobility UK (CoMoUK)":MAILTO:info@como.org.uk
END:VEVENT
BEGIN:VEVENT
DTSTART;TZID=Europe/London:20221207T100000
DTEND;TZID=Europe/London:20221207T170000
DTSTAMP:20260423T154753
CREATED:20221124T112813Z
LAST-MODIFIED:20221124T112813Z
UID:41327-1670407200-1670432400@www.bodyshopmag.com
SUMMARY:Future of Technology: Are self-driving vehicles still a fantasy?
DESCRIPTION:The Future of Technology Series conferences aim to illuminate the challenges and opportunities facing the global automotive industry. This event will explore the dynamic Connected and Automated Mobility industry\, with a specific focus on self-driving vehicles. It aims to myth-bust questions around the ethical and security aspects of connected and automated technology\, and look at how this market will disrupt the automotive industry and its traditional business models.
URL:https://www.bodyshopmag.com/events-diary/future-of-technology-are-self-driving-vehicles-still-a-fantasy/
LOCATION:30 Euston Square\, London NW1 2FB
CATEGORIES:General Events
ORGANIZER;CN="Advanced Propulsion Centre (APC)":MAILTO:info@apcuk.co.uk
END:VEVENT
BEGIN:VEVENT
DTSTART;TZID=Europe/London:20221207T170000
DTEND;TZID=Europe/London:20221207T230000
DTSTAMP:20260423T154753
CREATED:20220330T084933Z
LAST-MODIFIED:20221123T101007Z
UID:38399-1670432400-1670454000@www.bodyshopmag.com
SUMMARY:Ben Ball 2022
DESCRIPTION:Ben\, the automotive industry charity\, has announced that its annual flagship black-tie event – Ben Ball – will be held this year on Wednesday\, 7 December. It will move across London to a new home at Old Billingsgate Market\, where it promises to deliver another fantastic opportunity to celebrate the year with your automotive family.
URL:https://www.bodyshopmag.com/events-diary/ben-ball-2022/
LOCATION:Old Billingsgate Market\, 1 Old Billingsgate Walk\, London\, City of London\, EC3R 6DX \, United Kingdom
CATEGORIES:General Events
END:VEVENT
BEGIN:VEVENT
DTSTART;TZID=Europe/London:20221208T090000
DTEND;TZID=Europe/London:20221208T233000
DTSTAMP:20260423T154753
CREATED:20220625T134753Z
LAST-MODIFIED:20221123T101058Z
UID:39517-1670490000-1670542200@www.bodyshopmag.com
SUMMARY:IAAF Conference and Awards Dinner 2022
DESCRIPTION:The Independent Automotive Aftermarket Federation Annual Awards Dinner and Conference will take place at DoubleTree by Hilton\, Milton Keynes on Thursday\, 8 December. With a theme of celebrating the aftermarket\, following a two-year absence due to the coronavirus pandemic\, the IAAF AFTERmarket Party will include an evening of entertainment and will follow the IAAF’s 2022 conference which aims to tackle the big issues facing the trade.
URL:https://www.bodyshopmag.com/events-diary/iaaf-conference-and-awards-dinner/
LOCATION:DoubleTree by Hilton (Milton Keynes)\, Stadium Way West\, Milton Keynes\, Buckinghamshire\, MK1 1ST\, United Kingdom
CATEGORIES:Awards,General Events
END:VEVENT
BEGIN:VEVENT
DTSTART;TZID=Europe/London:20221208T180000
DTEND;TZID=Europe/London:20221208T233000
DTSTAMP:20260423T154753
CREATED:20221017T113615Z
LAST-MODIFIED:20221017T113615Z
UID:40700-1670522400-1670542200@www.bodyshopmag.com
SUMMARY:Insurance Times Awards 2022
DESCRIPTION:The Insurance Times Awards are the flagship awards of the magazine and are designed to recognise and celebrate excellence and innovation across the breadth of UK general insurance. Judged by independent panels of experts from across the sector\, they shine a light on outstanding achievement and honour the year’s best and brightest in insurance.
URL:https://www.bodyshopmag.com/events-diary/insurance-times-awards-2022/
LOCATION:JW Marriott Grosvenor House\, 86-90 Park Lane\, London\, W1K 7TN\, United Kingdom
CATEGORIES:Awards,General Events
END:VEVENT
BEGIN:VEVENT
DTSTART;TZID=Europe/London:20221209T110000
DTEND;TZID=Europe/London:20221210T170000
DTSTAMP:20260423T154753
CREATED:20221124T125156Z
LAST-MODIFIED:20221124T125156Z
UID:41336-1670583600-1670691600@www.bodyshopmag.com
SUMMARY:International Conference on Automobile Engineering and Road Transport 2022
DESCRIPTION:The International Conference on Automobile Engineering and Road Transport 2022 aims to bring together leading academic scientists\, researchers and research scholars to exchange and share their experiences and research results on all aspects of automobile engineering and road transport. It also provides a premier interdisciplinary platform for researchers\, practitioners and educators to present and discuss the most recent innovations\, trends\, and concerns as well as practical challenges encountered and solutions adopted in the fields of automobile engineering and road transport.
URL:https://www.bodyshopmag.com/events-diary/international-conference-on-automobile-engineering-and-road-transport-2022/
LOCATION:Webinar
CATEGORIES:General Events
END:VEVENT
BEGIN:VEVENT
DTSTART;TZID=Europe/London:20221220T090000
DTEND;TZID=Europe/London:20221223T170000
DTSTAMP:20260423T154753
CREATED:20211206T084546Z
LAST-MODIFIED:20221130T094708Z
UID:37568-1671526800-1671814800@www.bodyshopmag.com
SUMMARY:POSTPONED: Automechanika Shanghai - Shenzhen Edition 2022 (China)
DESCRIPTION:The 17th edition of Automechanika Shanghai\, which was was moved to the Shenzhen World Exhibition and Convention Centre near Hong Kong from 20-23 December 2022 as a special arrangement\, has been postponed with new dates to be confirmed.
URL:https://www.bodyshopmag.com/events-diary/automechanika-shanghai-2022/
LOCATION:Shenzhen World Exhibition and Convention Centre\, Baoan\, Shenzhen\, Guangdong\, 518103\, China
CATEGORIES:General Events
END:VEVENT
END:VCALENDAR