BEGIN:VCALENDAR
VERSION:2.0
PRODID:-//Bodyshop Magazine - ECPv6.15.18//NONSGML v1.0//EN
CALSCALE:GREGORIAN
METHOD:PUBLISH
X-ORIGINAL-URL:https://www.bodyshopmag.com
X-WR-CALDESC:Events for Bodyshop Magazine
REFRESH-INTERVAL;VALUE=DURATION:PT1H
X-Robots-Tag:noindex
X-PUBLISHED-TTL:PT1H
BEGIN:VTIMEZONE
TZID:Europe/London
BEGIN:DAYLIGHT
TZOFFSETFROM:+0000
TZOFFSETTO:+0100
TZNAME:BST
DTSTART:20210328T010000
END:DAYLIGHT
BEGIN:STANDARD
TZOFFSETFROM:+0100
TZOFFSETTO:+0000
TZNAME:GMT
DTSTART:20211031T010000
END:STANDARD
BEGIN:DAYLIGHT
TZOFFSETFROM:+0000
TZOFFSETTO:+0100
TZNAME:BST
DTSTART:20220327T010000
END:DAYLIGHT
BEGIN:STANDARD
TZOFFSETFROM:+0100
TZOFFSETTO:+0000
TZNAME:GMT
DTSTART:20221030T010000
END:STANDARD
BEGIN:DAYLIGHT
TZOFFSETFROM:+0000
TZOFFSETTO:+0100
TZNAME:BST
DTSTART:20230326T010000
END:DAYLIGHT
BEGIN:STANDARD
TZOFFSETFROM:+0100
TZOFFSETTO:+0000
TZNAME:GMT
DTSTART:20231029T010000
END:STANDARD
END:VTIMEZONE
BEGIN:VEVENT
DTSTART;TZID=Europe/London:20221101T090000
DTEND;TZID=Europe/London:20221103T170000
DTSTAMP:20260425T132525
CREATED:20221103T082604Z
LAST-MODIFIED:20221103T083136Z
UID:41096-1667293200-1667494800@www.bodyshopmag.com
SUMMARY:AAPEX 2022 (USA)
DESCRIPTION:AAPEX is a trade-only event for the automotive aftermarket. AAPEX is co-owned by the Auto Care Association and AASA\, the Light Vehicle Aftermarket Division of MEMA.
URL:https://www.bodyshopmag.com/events-diary/aapex-2022/
LOCATION:The Venetian Expo\, 201 Sands Avenue\, Las Vegas\, NV\, 89169\, United States
CATEGORIES:General Events
END:VEVENT
BEGIN:VEVENT
DTSTART;TZID=Europe/London:20221101T090000
DTEND;TZID=Europe/London:20221104T170000
DTSTAMP:20260425T132525
CREATED:20220606T091415Z
LAST-MODIFIED:20221031T170110Z
UID:39370-1667293200-1667581200@www.bodyshopmag.com
SUMMARY:The SEMA Show 2022 (USA)
DESCRIPTION:The SEMA Show takes place 1-4 November at the Las Vegas Convention Centre. On show will be thousands of product innovations \, the latest product and custom vehicle trends\, 70-plus free professional skill-enhancing education sessions\, and the opportunity to connect with peers\, leaders\, and celebrities at the industry’s most anticipated in-person networking event.
URL:https://www.bodyshopmag.com/events-diary/the-sema-show/
LOCATION:Las Vegas Convention Centre\, 3150 Paradise Road\, Las Vegas\, NV\, 89109\, United States
CATEGORIES:General Events
ORGANIZER;CN="Specialty Equipment Market Association (SEMA)":MAILTO:semashow@sema.org
END:VEVENT
BEGIN:VEVENT
DTSTART;TZID=Europe/London:20221104T180000
DTEND;TZID=Europe/London:20221104T230000
DTSTAMP:20260425T132525
CREATED:20220920T170138Z
LAST-MODIFIED:20220920T170242Z
UID:40391-1667584800-1667602800@www.bodyshopmag.com
SUMMARY:Vehicle Recycling Excellence Awards
DESCRIPTION:This year’s Vehicle Recycling Excellence Awards\, hosted in association with ATF Professional and Auto Recycling World\, will combine a reception\, dinner\, entertainment and awards ceremony at the National Motorcycle Museum in Birmingham.
URL:https://www.bodyshopmag.com/events-diary/vehicle-recycling-excellence-awards/
LOCATION:National Conference Centre\, National Motorcycle Museum\, Bickenhill\, B92 0EJ\, United Kingdom
CATEGORIES:Awards,General Events
END:VEVENT
BEGIN:VEVENT
DTSTART;TZID=Europe/London:20221108T100000
DTEND;TZID=Europe/London:20221108T170000
DTSTAMP:20260425T132525
CREATED:20221028T121011Z
LAST-MODIFIED:20221028T121428Z
UID:40775-1667901600-1667926800@www.bodyshopmag.com
SUMMARY:IGA Industry Update (Bury St Edmunds)
DESCRIPTION:Designed to keep independent garages up to date with the latest industry news and MOT information\, these free-to-attend IGA events are open to all independent garages\, including non-IGA members. They give garages the opportunity to learn about up-to-the-minute essential industry updates\, how to avoid the latest scams and news about any legislation changes\, as well as finding out how the IGA can support their garage businesses. Topics explored at the event include Motor Vehicle Block Exemption\, access to technical information\, garage work provision and more. \nThe DVSA will also be there to share the latest MOT training news and discuss recent changes to the MOT system\, connected equipment and future developments being considered within the MOT scheme.
URL:https://www.bodyshopmag.com/events-diary/iga-industry-update/
LOCATION:Bury St Edmunds RUFC\, Southgate Green\, Bury St Edmunds\, IP33 2BL\, United Kingdom
CATEGORIES:General Events
ORGANIZER;CN="Independent Garage Association (IGA)":MAILTO:enquiries@rmif.co.uk
END:VEVENT
BEGIN:VEVENT
DTSTART;TZID=Europe/London:20221110T090000
DTEND;TZID=Europe/London:20221110T170000
DTSTAMP:20260425T132525
CREATED:20221017T105812Z
LAST-MODIFIED:20221017T105812Z
UID:40689-1668070800-1668099600@www.bodyshopmag.com
SUMMARY:Automotive Management Live
DESCRIPTION:Automotive Management Live welcomes motor retail professionals from across the UK to shape the future of the industry and network with peers and suppliers.
URL:https://www.bodyshopmag.com/events-diary/automotive-management-live-2/
LOCATION:National Exhibition Centre (NEC)\, North Avenue\, Marston Green\, Birmingham\, B40 1NT\, United Kingdom
CATEGORIES:General Events
ORGANIZER;CN="Automotive Management (AM Online)":MAILTO:https://www.am-online.com/contact-us/
END:VEVENT
BEGIN:VEVENT
DTSTART;TZID=Europe/London:20221110T110000
DTEND;TZID=Europe/London:20221110T110000
DTSTAMP:20260425T132525
CREATED:20221017T104300Z
LAST-MODIFIED:20221017T104300Z
UID:40684-1668078000-1668078000@www.bodyshopmag.com
SUMMARY:How to recreate OEM-standard bodywork seams (webinar)
DESCRIPTION:Every bodyshop technician knows that a high-quality seam also provides the best possible foundation for a high quality paint finish. In this webinar on the subject\, Henkel will give delegates the benefits of its wide expertise.  Over many years\, the company has worked closely with OEMs in vehicle design\, manufacture and the aftermarket to develop products that maximise vehicle reliability. \nThe 60-minutes presentation will cover the function of seam sealing technology and its interior and exterior applications.  The Henkel experts will explain the science behind the technology and the testing processes that are applied.  Delegates will also be introduced to the different types of sealing adhesives available and the respective merits of physical and chemical curing.
URL:https://www.bodyshopmag.com/events-diary/how-to-recreate-oem-standard-bodywork-seams-webinar/
LOCATION:Webinar
CATEGORIES:General Events
END:VEVENT
BEGIN:VEVENT
DTSTART;TZID=Europe/London:20221111T090000
DTEND;TZID=Europe/London:20221111T170000
DTSTAMP:20260425T132525
CREATED:20221017T112107Z
LAST-MODIFIED:20221017T112107Z
UID:40697-1668157200-1668186000@www.bodyshopmag.com
SUMMARY:NEC Classic Motor Show
DESCRIPTION:The Lancaster Insurance Classic Motor Show brings together an array of classic car and motorcycle clubs along with their iconic classic and vintage cars and motorbikes. This is the ultimate season finale for any classic car/bike owner\, collector\, enthusiast\, club member\, or simply anyone with an interest in classic vehicles.
URL:https://www.bodyshopmag.com/events-diary/nec-classic-motor-show-2/
LOCATION:National Exhibition Centre (NEC)\, North Avenue\, Marston Green\, Birmingham\, B40 1NT\, United Kingdom
CATEGORIES:General Events
END:VEVENT
BEGIN:VEVENT
DTSTART;TZID=Europe/London:20221114T090000
DTEND;TZID=Europe/London:20221118T170000
DTSTAMP:20260425T132525
CREATED:20221117T151830Z
LAST-MODIFIED:20221117T151843Z
UID:41267-1668416400-1668790800@www.bodyshopmag.com
SUMMARY:IMI WorldSkills UK Competition Finals
DESCRIPTION:The IMI World Skills UK Competition Finals are the culmination of tough qualifying events in Automotive Technology\, Body Repair\, Refinishing\, and Heavy Vehicle Technology\, and are taking place this week at the Cardiff & Vale College in South Wales.
URL:https://www.bodyshopmag.com/events-diary/imi-world-skills-uk-competition-finals/
LOCATION:Cardiff & Vale College\, City Centre Campus\, Dumballs Road\, Cardiff\, Wales\, CF10 5FE\, United Kingdom
CATEGORIES:General Events
ORGANIZER;CN="WorldSkills UK":MAILTO:enquiries@worldskillsuk.org
END:VEVENT
BEGIN:VEVENT
DTSTART;TZID=Europe/London:20221115T090000
DTEND;TZID=Europe/London:20221116T170000
DTSTAMP:20260425T132525
CREATED:20220723T081908Z
LAST-MODIFIED:20220723T081908Z
UID:39788-1668502800-1668618000@www.bodyshopmag.com
SUMMARY:AutoTech: Europe 2022
DESCRIPTION:AutoTech: Europe 2022\, formerly known as TU-Automotive Europe is returning to Munich\, Germany on 15-16 November. This year’s show will champion the future of AutoTech in Europe by examining the trends behind the industry’s unprecedented paradigm shift. The agenda will cover connectivity\, cybersecurity\, 5G\, infotainment\, and digitalisation\, as well as electrification\, decarbonisation\, sustainability and new software technologies.
URL:https://www.bodyshopmag.com/events-diary/autotech-europe-2022/
LOCATION:Leonardo Royal Hotel\, Moosacher Strasse 90\, Munich\, 80809\, Germany
CATEGORIES:General Events
ORGANIZER;CN="Autotech Group":MAILTO:hello@autotechrecruit.co.uk
END:VEVENT
BEGIN:VEVENT
DTSTART;TZID=Europe/London:20221116T090000
DTEND;TZID=Europe/London:20221117T170000
DTSTAMP:20260425T132525
CREATED:20220526T095729Z
LAST-MODIFIED:20220526T095813Z
UID:39229-1668589200-1668704400@www.bodyshopmag.com
SUMMARY:Insurance Innovators Summit
DESCRIPTION:The Insurance Innovators Summit will be back as an in-person event on the 16-17 November at the QEII Centre in London. The organisers aim to bring together 850-plus attendees and 100-plus speakers from the most innovative incumbents to the freshest insurtechs\, “to chart the future of the industry and to set the priorities for the year ahead”.
URL:https://www.bodyshopmag.com/events-diary/insurance-innovator-summit/
LOCATION:Queen Elizabeth II (QEII) Centre\, Broad Sanctuary\, London\, SW1P 3EE\, United Kingdom
CATEGORIES:General Events
END:VEVENT
BEGIN:VEVENT
DTSTART;TZID=Europe/London:20221122T090000
DTEND;TZID=Europe/London:20221122T170000
DTSTAMP:20260425T132525
CREATED:20221026T082601Z
LAST-MODIFIED:20221026T082601Z
UID:40752-1669107600-1669136400@www.bodyshopmag.com
SUMMARY:Vehicle Remarketing Association Seminar 2022
DESCRIPTION:The VRA Annual Seminar\, the first to be held since the start of the pandemic\, will take place on Tuesday\, 22 November at The Slate\, Warwick University\, with the theme “2023: The Year Ahead in Remarketing” and will be looking at current and new issues affecting the sector.
URL:https://www.bodyshopmag.com/events-diary/vehicle-remarketing-association-seminar-2022/
LOCATION:The Slate\, Warwick University\, Coventry\, Warwickshire\, CV4 7SH\, United Kingdom
CATEGORIES:General Events
ORGANIZER;CN="Vehicle Recyclers' Association (VRA)":MAILTO:contact@thevra.co.uk
END:VEVENT
BEGIN:VEVENT
DTSTART;TZID=Europe/London:20221122T100000
DTEND;TZID=Europe/London:20221122T170000
DTSTAMP:20260425T132525
CREATED:20221028T121345Z
LAST-MODIFIED:20221028T121345Z
UID:40777-1669111200-1669136400@www.bodyshopmag.com
SUMMARY:IGA Industry Update (Havant)
DESCRIPTION:Designed to keep independent garages up to date with the latest industry news and MOT information\, these free-to-attend events are open to all independent garages\, including non-IGA members. They give garages the opportunity to learn about up-to-the-minute essential industry updates\, how to avoid the latest scams and news about any legislation changes\, as well as finding out how the IGA can support their garage businesses. Topics explored at the event include the Motor Vehicle Block Exemption\, access to technical information\, garage work provision and more. \nThe DVSA will also be there to share the latest MOT training news and discuss recent changes to the MOT system\, connected equipment and future developments being considered within the MOT scheme.
URL:https://www.bodyshopmag.com/events-diary/iga-industry-update-havant/
LOCATION:Havant RFC\, Fraser Road\, Havant\, PO9 3EJ\, United Kingdom
CATEGORIES:General Events
ORGANIZER;CN="Independent Garage Association (IGA)":MAILTO:enquiries@rmif.co.uk
END:VEVENT
BEGIN:VEVENT
DTSTART;TZID=Europe/London:20221123T090000
DTEND;TZID=Europe/London:20221123T170000
DTSTAMP:20260425T132525
CREATED:20220707T103116Z
LAST-MODIFIED:20221117T163230Z
UID:39693-1669194000-1669222800@www.bodyshopmag.com
SUMMARY:IBIS BAHRAIN NATIONAL FORUM
DESCRIPTION:The IBIS Bahrain National Forum 2022 will take place on the 23 November at the VIP Paddock Club at the Bahrain International Circuit. This one-day event will be the first of the new IBIS National Forums to be held anywhere in the world. Delegates will include industry thought leaders\, influencers and stakeholders who are business owners and senior executives from Bahrain based vehicle manufacturers\, product manufacturers\, agencies\, insurance companies\, bodyshops\, supply chains\, consultants\, training organisations and others.
URL:https://www.bodyshopmag.com/events-diary/ibis-bahrain-national-forum/
LOCATION:Bahrain International Circuit\, Gulf of Bahrain Avenue Umm Jidar\, Sakhir\, 1062\, Bahrain
CATEGORIES:General Events
ORGANIZER;CN="IBIS Worldwide":MAILTO:suzie@ibisworldwide.com
END:VEVENT
BEGIN:VEVENT
DTSTART;TZID=Europe/London:20221123T190000
DTEND;TZID=Europe/London:20221123T230000
DTSTAMP:20260425T132525
CREATED:20221017T110845Z
LAST-MODIFIED:20221017T110845Z
UID:40692-1669230000-1669244400@www.bodyshopmag.com
SUMMARY:Motor Trader Industry Awards 2022
DESCRIPTION:The Motor Trader Industry Awards 2022 will take place at Grosvenor House\, Park Lane\, London on Wednesday\, 23 November. Now in their 32nd year\, these awards recognise the highest levels of professionalism and excellence in the sector.
URL:https://www.bodyshopmag.com/events-diary/motor-trader-industry-awards-2022/
LOCATION:JW Marriott Grosvenor House\, 86-90 Park Lane\, London\, W1K 7TN\, United Kingdom
CATEGORIES:Awards,General Events
END:VEVENT
BEGIN:VEVENT
DTSTART;TZID=Europe/London:20221129T090000
DTEND;TZID=Europe/London:20221129T170000
DTSTAMP:20260425T132525
CREATED:20221124T150146Z
LAST-MODIFIED:20221124T150146Z
UID:41347-1669712400-1669741200@www.bodyshopmag.com
SUMMARY:Brooklands Innovation Academy
DESCRIPTION:Engineers and scientists from 17 organisations – including McLaren F1\, Bayer\, Airbus\, the NHS and Haleon – will be joined by more than 400 students for the first-ever Brooklands Innovation Academy held at the iconic Brooklands Museum\, the home of British motorsport and aviation. Part of Professor Brian Cox CBE and Lord Andrew Mawson OBE’s National Science Summer School programme\, the all-day event will celebrate innovation\, human endeavour and entrepreneurialism and inspire students to become the next generation of scientists and engineers. More than 20 engineers and scientists will host 21 different workshops with a STEM focus\, alongside speakers like World Land Speed Record holder Andy Green OBE and Kirsty Murphy MBE\, the first female Red Arrow pilot. The activities will be very hands-on and engaging\, with many fantastic interview and photo opportunities.
URL:https://www.bodyshopmag.com/events-diary/brooklands-innovation-academy/
LOCATION:Brooklands Museum\, Brooklands Drive\, Weybridge\, Surrey\, KT13 0SL\, United Kingdom
CATEGORIES:General Events
ORGANIZER;CN="Brooklands Museum":MAILTO:info@brooklandsmuseum.com
END:VEVENT
BEGIN:VEVENT
DTSTART;TZID=Europe/London:20221129T090000
DTEND;TZID=Europe/London:20221201T170000
DTSTAMP:20260425T132525
CREATED:20220707T110637Z
LAST-MODIFIED:20220707T110637Z
UID:39696-1669712400-1669914000@www.bodyshopmag.com
SUMMARY:The London EV Show 2022
DESCRIPTION:The London EV Show 2022 aims to provide a platform for “influential voices and important players from the entire EV spectrum to convene at the highest level\, exchange trailblazing ideas and strategise on advancing EV adoption”. Alongside this conference\, the show will host a massive exhibition at ExCeL London for leading EV businesses to exhibit the latest models\, next-gen electrification technology\, and innovative products and solutions. The three-day exhibition will provide an excellent opportunity for EV enthusiasts to witness the latest the industry has to offer – from e-bikes\, cars\, buses\, trucks\, scooters\, vans\, eVTOL/UAMs\, home and commercial charging systems to disruptive innovations.
URL:https://www.bodyshopmag.com/events-diary/the-london-ev-show-2022/
LOCATION:ExCel London\, Royal Victoria Dock\, 1 Western Gateway\, London\, E16 1XL\, United Kingdom
CATEGORIES:General Events
END:VEVENT
BEGIN:VEVENT
DTSTART;TZID=Europe/London:20221129T180000
DTEND;TZID=Europe/London:20221129T230000
DTSTAMP:20260425T132525
CREATED:20221017T111659Z
LAST-MODIFIED:20221017T111659Z
UID:40696-1669744800-1669762800@www.bodyshopmag.com
SUMMARY:SMMT Annual Dinner
DESCRIPTION:The 105th SMMT Annual Dinner will be held on 29 November 2022 in the Great Room at Grosvenor House Hotel\, Park Lane. The SMMT Annual Dinner is one of the key events in the automotive calendar\, and is expected to be attended by approximately 1\,000 senior level guests from industry\, government\, and the media.
URL:https://www.bodyshopmag.com/events-diary/smmt-annual-dinner-2/
LOCATION:JW Marriott Grosvenor House\, 86-90 Park Lane\, London\, W1K 7TN\, United Kingdom
CATEGORIES:General Events
ORGANIZER;CN="Society of Motor Manufacturers and Traders (SMMT)":MAILTO:smmtsummit@smmt.co.uk
END:VEVENT
END:VCALENDAR