BEGIN:VCALENDAR
VERSION:2.0
PRODID:-//Bodyshop Magazine - ECPv6.15.18//NONSGML v1.0//EN
CALSCALE:GREGORIAN
METHOD:PUBLISH
X-WR-CALNAME:Bodyshop Magazine
X-ORIGINAL-URL:https://www.bodyshopmag.com
X-WR-CALDESC:Events for Bodyshop Magazine
REFRESH-INTERVAL;VALUE=DURATION:PT1H
X-Robots-Tag:noindex
X-PUBLISHED-TTL:PT1H
BEGIN:VTIMEZONE
TZID:Europe/London
BEGIN:DAYLIGHT
TZOFFSETFROM:+0000
TZOFFSETTO:+0100
TZNAME:BST
DTSTART:20210328T010000
END:DAYLIGHT
BEGIN:STANDARD
TZOFFSETFROM:+0100
TZOFFSETTO:+0000
TZNAME:GMT
DTSTART:20211031T010000
END:STANDARD
BEGIN:DAYLIGHT
TZOFFSETFROM:+0000
TZOFFSETTO:+0100
TZNAME:BST
DTSTART:20220327T010000
END:DAYLIGHT
BEGIN:STANDARD
TZOFFSETFROM:+0100
TZOFFSETTO:+0000
TZNAME:GMT
DTSTART:20221030T010000
END:STANDARD
BEGIN:DAYLIGHT
TZOFFSETFROM:+0000
TZOFFSETTO:+0100
TZNAME:BST
DTSTART:20230326T010000
END:DAYLIGHT
BEGIN:STANDARD
TZOFFSETFROM:+0100
TZOFFSETTO:+0000
TZNAME:GMT
DTSTART:20231029T010000
END:STANDARD
END:VTIMEZONE
BEGIN:VEVENT
DTSTART;TZID=Europe/London:20220930T080000
DTEND;TZID=Europe/London:20221001T170000
DTSTAMP:20260423T024641
CREATED:20220909T164448Z
LAST-MODIFIED:20220909T164449Z
UID:40311-1664524800-1664643600@www.bodyshopmag.com
SUMMARY:The Refinishing Trade Show 2022
DESCRIPTION:Organisers of the second edition of the Refinishing Trade Show have confirmed that 28 exhibitors – including bodyshop magazine – have signed up for the event which will take place 30 September-1 October at The Edge in Wigan. Aimed directly at spray painters\, technicians and vehicle refinishers\, the show is expected to attract even more exhibitors and a big turnout on the day. \nTrade Show tickets and meal tickets for the curry night networking dinner on the first day are now available from https://www.myautostore.uk/trade-show-2022/.
URL:https://www.bodyshopmag.com/events-diary/the-refinishing-trade-show-2022/
LOCATION:The Edge Arena\, Riveredge\, Wigan\, WN3 5AB
CATEGORIES:General Events
END:VEVENT
BEGIN:VEVENT
DTSTART;TZID=Europe/London:20221011T080000
DTEND;TZID=Europe/London:20221012T170000
DTSTAMP:20260423T024641
CREATED:20220606T083347Z
LAST-MODIFIED:20220606T083347Z
UID:39365-1665475200-1665594000@www.bodyshopmag.com
SUMMARY:Fleet & Mobility Live
DESCRIPTION:The UK’s biggest and most important show for fleet decision-makers.
URL:https://www.bodyshopmag.com/events-diary/fleet-mobility-live-2/
LOCATION:National Exhibition Centre (NEC)\, North Avenue\, Marston Green\, Birmingham\, B40 1NT\, United Kingdom
CATEGORIES:General Events
END:VEVENT
BEGIN:VEVENT
DTSTART;TZID=Europe/London:20221011T090000
DTEND;TZID=Europe/London:20221014T170000
DTSTAMP:20260423T024641
CREATED:20210113T093529Z
LAST-MODIFIED:20220705T123649Z
UID:34104-1665478800-1665766800@www.bodyshopmag.com
SUMMARY:Automechanika Buenos Aires 2022
DESCRIPTION:Automechanika Buenos Aires has developed into a leading aftermarket event in South America. The show has proved to be a reliable partner for the market even in times of economic difficulty. The biannual trade fair celebrated its 10th edition in 2018\, where about 400 exhibitors and 30\,000 visitors are expected to showcase their products on 35\,000 sqm. \nThis biennial four-day event\, was originally scheduled to run in November 2020 but was delayed due to the coronavirus pandemic.
URL:https://www.bodyshopmag.com/events-diary/automechanika-buenos-aires-2022/
LOCATION:La Rural Trade Center\, Av. Sarmiento 2704\, Buenos Aires\, Caballito\, CABA 1425\, Argentina
CATEGORIES:General Events
END:VEVENT
BEGIN:VEVENT
DTSTART;TZID=Europe/London:20221012T090000
DTEND;TZID=Europe/London:20221013T010000
DTSTAMP:20260423T024641
CREATED:20220203T144733Z
LAST-MODIFIED:20221117T163401Z
UID:37990-1665565200-1665622800@www.bodyshopmag.com
SUMMARY:BODYSHOP LIVE! + EXPO + BODYSHOP AWARDS + 30 UNDER 30: RISING STARS 2022
DESCRIPTION:The 25th edition of the bodyshop Awards and 6th running of #bodyshopmag’s 30 Under 30: Rising Stars will take place along with the bodyshop Expo at bodyshop LIVE 2022 on Wednesday\, 12 October 2022 at ICC Wales near the Celtic Manor Resort.
URL:https://www.bodyshopmag.com/events-diary/bodyshop-awards-2022-30-under-30/
LOCATION:ICC Wales\, The Coldra\, Catsash Road\, Caerleon\, Newport\, Wales\, NP18 1HQ\, United Kingdom
CATEGORIES:Awards,General Events
ORGANIZER;CN="Bodyshop Magazine":MAILTO:info@bodyshopmag.com
END:VEVENT
BEGIN:VEVENT
DTSTART;TZID=Europe/London:20221012T090000
DTEND;TZID=Europe/London:20221017T170000
DTSTAMP:20260423T024641
CREATED:20210203T104826Z
LAST-MODIFIED:20220922T111541Z
UID:34322-1665565200-1666026000@www.bodyshopmag.com
SUMMARY:CANCELLED: WorldSkills Competition 2022 (China)
DESCRIPTION:The 46th WorldSkills Competition\, previously scheduled for September 2021 and then 12–17 October 2022\, has been cancelled because of mainland China Covid restrictions. \nTo ensure that the decision to change the date will not impact participants\, the WorldSkills General Assembly unanimously approved a one-time change in the age eligibility criteria for the competition. If a competitor was age-eligible for the WorldSkills Competition 2021\, then they will also be eligible for 2022. \nIt was also agreed that the WorldSkills Conference\, which runs parallel to the competition bringing together leaders in education\, government\, business\, and industry from around the globe\, will take place 13-14 October.
URL:https://www.bodyshopmag.com/events-diary/worldskills-competition-2022/
LOCATION:National Exhibition and Convention Centre (Shanghai)\, 333 Songze Avenue Road\, Shanghai\, Qingpu District\, China
CATEGORIES:General Events
END:VEVENT
BEGIN:VEVENT
DTSTART;TZID=Europe/London:20221014T090000
DTEND;TZID=Europe/London:20221014T170000
DTSTAMP:20260423T024641
CREATED:20220801T085215Z
LAST-MODIFIED:20220801T085215Z
UID:39997-1665738000-1665766800@www.bodyshopmag.com
SUMMARY:Passive Safety Conference 2022
DESCRIPTION:Tickets for the 2022 Passive Safety Conference are now on sale. Whether you are very familiar with passive safety design in vehicles but need updating\, or you would just like to learn the basics\, this is the conference for you. This event is endorsed by The Institute of Highway Engineers\, the Chartered Institution of Highways & Transportation and by National Highways\, and a full day of CPD credit is available. It will be integrated with a large exhibition of passive safety products and experts from industry will be on hand to explain how their products work.
URL:https://www.bodyshopmag.com/events-diary/passive-safety-conference-2022/
LOCATION:National Exhibition Centre (NEC)\, North Avenue\, Marston Green\, Birmingham\, B40 1NT\, United Kingdom
CATEGORIES:General Events
ORGANIZER;CN="Institute of Traffic Accident Investigators (ITAI)":MAILTO:admin@itai.org
END:VEVENT
BEGIN:VEVENT
DTSTART;TZID=Europe/London:20221015T090000
DTEND;TZID=Europe/London:20221016T170000
DTSTAMP:20260423T024641
CREATED:20220606T083859Z
LAST-MODIFIED:20220812T091348Z
UID:39366-1665824400-1665939600@www.bodyshopmag.com
SUMMARY:Auto Trade EXPO (Ireland)
DESCRIPTION:This year’s Auto Trade EXPO will be a must-visit event for workshops\, motor factors\, bodyshops\, tyre centres and everyone in the auto aftermarket supply-chain and end users of parts\, services\, tools and equipment. Some of the leading parts distributors and workshop tools and equipment firms will participate at this year’s show\, which takes place Saturday and Sunday\, 15-16 October\, at the RDS Simmonscourt in Dublin.
URL:https://www.bodyshopmag.com/events-diary/auto_trade_expo_2022/
LOCATION:RDS Simmonscourt\, Merrion Road\, Ballsbridge\, Dublin 4\, D04 AK83\, Ireland
CATEGORIES:General Events
ORGANIZER;CN="Automotive Publications":MAILTO:ebeisty@autopub.ie
END:VEVENT
BEGIN:VEVENT
DTSTART;TZID=Europe/London:20221017T080000
DTEND;TZID=Europe/London:20221023T170000
DTSTAMP:20260423T024641
CREATED:20220606T090909Z
LAST-MODIFIED:20220606T090909Z
UID:39368-1665993600-1666544400@www.bodyshopmag.com
SUMMARY:Paris Motor Show
DESCRIPTION:One of the major car shows in the world\, the Paris Motor Show\, or Mondial de l’Auto\, will take place 17-23 October this year at the Paris Expo Porte de Versailles exhibition venue.
URL:https://www.bodyshopmag.com/events-diary/paris-motor-show/
LOCATION:Paris Expo Porte de Versailles\, 1 Place de la Porte de Versailles\, Paris\, 15th arrondissement\, 75015 Paris\, France
CATEGORIES:General Events
ORGANIZER;CN="Hopscotch Groupe SA":MAILTO:contactonsnous@hopscotchcongres.com
END:VEVENT
BEGIN:VEVENT
DTSTART;TZID=Europe/London:20221018T080000
DTEND;TZID=Europe/London:20221019T170000
DTSTAMP:20260423T024641
CREATED:20220519T213842Z
LAST-MODIFIED:20220519T213842Z
UID:39147-1666080000-1666198800@www.bodyshopmag.com
SUMMARY:Automotive USA 2022
DESCRIPTION:The year’s Reuters Events: Automotive USA 2022 is its flagship event taking place at Huntington Place (Detroit\, USA) on 18-19 October and is set to deliver a global platform that unites CEOs and board members from leading OEMs to take to the stage where they will set the automotive industry agenda for years to come.
URL:https://www.bodyshopmag.com/events-diary/automotive-usa-2022/
LOCATION:Huntington Place\, 1 Washington Blvd\, Detroit\, MI\, 48226\, United States
CATEGORIES:General Events
END:VEVENT
BEGIN:VEVENT
DTSTART;TZID=Europe/London:20221018T090000
DTEND;TZID=Europe/London:20221021T170000
DTSTAMP:20260423T024641
CREATED:20221017T141902Z
LAST-MODIFIED:20221017T141902Z
UID:40703-1666083600-1666371600@www.bodyshopmag.com
SUMMARY:WorldSkills Competition 2022 Special Edition (Denmark)
DESCRIPTION:Following the cancellation of last week’s 46th WorldSkills Competition in Shanghai because of China’s strict Covid travel bans\, Silkeborg in Denmark will host the Car Painting contest of a WorldSkills Special Edition from 18-21 October . The skills competition will also recognise a Sustainability Award winner\, with the prize going to the paint competitor who completes the Test Project in the most efficient way in terms of the use of materials\, water\, and energy.
URL:https://www.bodyshopmag.com/events-diary/worldskills-competition-2022-special-edition-denmark/
LOCATION:College 360\, Silkeborg\, Denmark
CATEGORIES:General Events
END:VEVENT
BEGIN:VEVENT
DTSTART;TZID=Europe/London:20221020T090000
DTEND;TZID=Europe/London:20221020T170000
DTSTAMP:20260423T024641
CREATED:20210311T091758Z
LAST-MODIFIED:20221117T163457Z
UID:34701-1666256400-1666285200@www.bodyshopmag.com
SUMMARY:IBIS TURKEY 2022
DESCRIPTION:IBIS Turkey returns to a face-to-face event again in October 2022 at a new home in Istanbul – the Sheraton Hotel Levent. Continuing the IBIS 2022 events theme of “Ready\, Steady\, Grow” that shaped and guided IBISConnect Türkiye last year\, Turkish collision repair industry leaders and influencers from all stakeholders and sectors will meet once again to continue the discussion and debate.
URL:https://www.bodyshopmag.com/events-diary/ibis-turkey/
LOCATION:Sheraton Hotel Levent\, Buyukdere Caddesi No 3-4\, 4 Levent\, Istanbul\, Kagithane\, 34330\, Turkey
CATEGORIES:General Events
ORGANIZER;CN="IBIS Worldwide":MAILTO:suzie@ibisworldwide.com
END:VEVENT
BEGIN:VEVENT
DTSTART;TZID=Europe/London:20221020T180000
DTEND;TZID=Europe/London:20221020T230000
DTSTAMP:20260423T024641
CREATED:20220520T093314Z
LAST-MODIFIED:20220707T104413Z
UID:39150-1666288800-1666306800@www.bodyshopmag.com
SUMMARY:NBRA Greener Bodyshop Awards 2022
DESCRIPTION:The NBRA Greener Bodyshop Awards is the perfect opportunity for your business to get recognised for its green initiatives. The NBRA judges are looking for member bodyshops that have implemented creative and innovative ways of reducing their environmental impact.
URL:https://www.bodyshopmag.com/events-diary/nbra-greener-bodyshop-awards-2022/
LOCATION:West Midland Safari Park\, Spring Grove Road\, Bewdley\, Worcestershire\, DY12 1LF\, United Kingdom
CATEGORIES:Awards,General Events
ORGANIZER;CN="National Body Repair Association (NBRA)":MAILTO:bodyshops@rmif.co.uk
END:VEVENT
BEGIN:VEVENT
DTSTART;TZID=Europe/London:20221020T190000
DTEND;TZID=Europe/London:20221020T200000
DTSTAMP:20260423T024641
CREATED:20220930T083313Z
LAST-MODIFIED:20220930T083434Z
UID:40472-1666292400-1666296000@www.bodyshopmag.com
SUMMARY:CIECAST Technical Series (US webinar)
DESCRIPTION:The Collision Industry Electronic Commerce Association (CIECA) has announced that its second standards release of the year\, the 2022R2\, will be available to members on 19 October 2022. \nThis CIECAST Technical Series webinar will be held the following day to discuss the updates made to the 2022R2. The CIECA Architecture Committee will also provide an in-depth analysis of the CIECA API Standards (CAPIS) and how they will be structured.
URL:https://www.bodyshopmag.com/events-diary/ciecast-technical-series-webinar-2/
LOCATION:Webinar
CATEGORIES:General Events
END:VEVENT
BEGIN:VEVENT
DTSTART;TZID=Europe/London:20221026T100000
DTEND;TZID=Europe/London:20221027T170000
DTSTAMP:20260423T024641
CREATED:20220726T161728Z
LAST-MODIFIED:20220726T161831Z
UID:39806-1666778400-1666890000@www.bodyshopmag.com
SUMMARY:AutoTech: Electrification (USA)
DESCRIPTION:AutoTech: Electrification\, previously known as FOCUS: Electrification & Advanced Propulsion\, will be hosted by the industry analysts of Wards Intelligence and aims to showcase deep-dive presentations and panel discussions on electrification strategies and technologies.
URL:https://www.bodyshopmag.com/events-diary/autotech-electrification/
LOCATION:Detroit Marriott\, Renaissance Center\, Detroit\, MI\, 48243\, United States
CATEGORIES:General Events
ORGANIZER;CN="Wards Intelligence":MAILTO:wardsintelligence@informa.com
END:VEVENT
BEGIN:VEVENT
DTSTART;TZID=Europe/London:20221031T100000
DTEND;TZID=Europe/London:20221031T170000
DTSTAMP:20260423T024641
CREATED:20220718T152452Z
LAST-MODIFIED:20221103T083212Z
UID:39752-1667210400-1667235600@www.bodyshopmag.com
SUMMARY:MSO Symposium 2022 (USA)
DESCRIPTION:The 11th annual MSO Symposium will take place in Las Vegas on the Monday (31 October) of SEMA/AAPEX week. The event will begin at 10:00 (PDT) with coffee\, networking\, and a sponsor showcase\, followed by a unique programme\nthat provides executive-level information on the current trends and state of affairs in the economy and the collision repair industry. \nOther topics included in this year’s event are solutions to technician shortages\, environmental\, social and governance matters for business owners\, approaches to electric vehicle repair processes\, and more. The conference will conclude at 17:00 with an evening networking reception.
URL:https://www.bodyshopmag.com/events-diary/mso-symposium/
LOCATION:Las Vegas Convention Centre\, 3150 Paradise Road\, Las Vegas\, NV\, 89109\, United States
CATEGORIES:General Events
ORGANIZER;CN="MSO Symposium":MAILTO:BrianN@msosymposium.com
END:VEVENT
END:VCALENDAR