BEGIN:VCALENDAR
VERSION:2.0
PRODID:-//Bodyshop Magazine - ECPv6.15.18//NONSGML v1.0//EN
CALSCALE:GREGORIAN
METHOD:PUBLISH
X-ORIGINAL-URL:https://www.bodyshopmag.com
X-WR-CALDESC:Events for Bodyshop Magazine
REFRESH-INTERVAL;VALUE=DURATION:PT1H
X-Robots-Tag:noindex
X-PUBLISHED-TTL:PT1H
BEGIN:VTIMEZONE
TZID:Europe/London
BEGIN:DAYLIGHT
TZOFFSETFROM:+0000
TZOFFSETTO:+0100
TZNAME:BST
DTSTART:20210328T010000
END:DAYLIGHT
BEGIN:STANDARD
TZOFFSETFROM:+0100
TZOFFSETTO:+0000
TZNAME:GMT
DTSTART:20211031T010000
END:STANDARD
BEGIN:DAYLIGHT
TZOFFSETFROM:+0000
TZOFFSETTO:+0100
TZNAME:BST
DTSTART:20220327T010000
END:DAYLIGHT
BEGIN:STANDARD
TZOFFSETFROM:+0100
TZOFFSETTO:+0000
TZNAME:GMT
DTSTART:20221030T010000
END:STANDARD
BEGIN:DAYLIGHT
TZOFFSETFROM:+0000
TZOFFSETTO:+0100
TZNAME:BST
DTSTART:20230326T010000
END:DAYLIGHT
BEGIN:STANDARD
TZOFFSETFROM:+0100
TZOFFSETTO:+0000
TZNAME:GMT
DTSTART:20231029T010000
END:STANDARD
END:VTIMEZONE
BEGIN:VEVENT
DTSTART;TZID=Europe/London:20220429T080000
DTEND;TZID=Europe/London:20220501T170000
DTSTAMP:20260420T150412
CREATED:20220125T164343Z
LAST-MODIFIED:20220207T155340Z
UID:37900-1651219200-1651424400@www.bodyshopmag.com
SUMMARY:eCarExpo 2022 (Sweden)
DESCRIPTION:The “charged” meeting with the vehicles of the future\, eCarExpo\, has been postponed from February to 29 April-1 May. The event brings together the majority of all the market’s rechargeable cars under one roof and complements the latest in charging technology and power supply.
URL:https://www.bodyshopmag.com/events-diary/ecarexpo-2022-2/
LOCATION:Friends Arena\, Råsta Strandväg 1\, 169 56 Solna\, Stockholm\, Sweden
CATEGORIES:General Events
END:VEVENT
BEGIN:VEVENT
DTSTART;TZID=Europe/London:20220429T103000
DTEND;TZID=Europe/London:20220501T170000
DTSTAMP:20260420T150412
CREATED:20220215T183635Z
LAST-MODIFIED:20220215T183636Z
UID:38079-1651228200-1651424400@www.bodyshopmag.com
SUMMARY:Fully Charged Live 2022
DESCRIPTION:The UK’s number one clean energy and electric vehicle show is returning to Farnborough in April/May 2022 and is aiming to be bigger and better. The three-day event will showcase a host of quality indoor and outdoor exhibits and attractions including: \n\nHome energy advice hub.\nLive theatres packed with “electrifying” content and speakers.\nMore than 100 EVs of all shapes\, sizes and speeds.\nMore than 200 exhibitors showcasing the latest clean energy and EV-related technologies.\nThousands of electric car test drives.\nFamily Fun Zone.\nLive music.\nConverted classics zone.\nCommercial vehicle zone.
URL:https://www.bodyshopmag.com/events-diary/fully-charged-live-2022/
LOCATION:Farnborough International Exhibition and Conference Centre\, Etps Road\, Farnborough\, GU14 6FD\, United Kingdom
CATEGORIES:General Events
END:VEVENT
BEGIN:VEVENT
DTSTART;TZID=Europe/London:20220503T110000
DTEND;TZID=Europe/London:20220505T183000
DTSTAMP:20260420T150412
CREATED:20220425T133834Z
LAST-MODIFIED:20220425T133834Z
UID:38841-1651575600-1651775400@www.bodyshopmag.com
SUMMARY:CLEPA Materials Regulation Event 2022 (online)
DESCRIPTION:The CLEPA Materials Regulations Event gathers together high-level representatives from across the automotive industry and has been recognised as an ideal platform to discuss technical issues related to materials and the most recent legislative developments at European and international level. \nThe two first days will be dedicated to a deep-dive into the status of the most relevant legislative files affecting the sector\, such as ELV (end-of-life vehicles)\, REACH (registration\, evaluation\, authorisation and restriction of chemicals)\, CSS (chemical strategy for sustainability) and IMDS (international material data system). \nThe final day will be fully dedicated to the topic of sustainability\, evaluating the current strategies and the upcoming legislation that will be shaping the future of the sector.
URL:https://www.bodyshopmag.com/events-diary/clepa-materials-regulation-event-2022-online/
LOCATION:Webinar
CATEGORIES:General Events
ORGANIZER;CN="CLEPA (European Association of Automotive Suppliers)":MAILTO:info@clepa.be
END:VEVENT
BEGIN:VEVENT
DTSTART;TZID=Europe/London:20220504T090000
DTEND;TZID=Europe/London:20220506T170000
DTSTAMP:20260420T150412
CREATED:20210311T090932Z
LAST-MODIFIED:20220425T133003Z
UID:34699-1651654800-1651856400@www.bodyshopmag.com
SUMMARY:IBIS USA 2022
DESCRIPTION:IBIS USA 2022 in Jacksonville\, Florida from 4-6 May 2022. This is an exclusive\, invitation-only three-day event for the North American automotive collision repair industry.
URL:https://www.bodyshopmag.com/events-diary/ibis-usa-2/
LOCATION:Sawgrass Marriott Golf Resort & Spa\, Jacksonville\, FL\, United States
CATEGORIES:General Events
ORGANIZER;CN="IBIS Worldwide":MAILTO:suzie@ibisworldwide.com
END:VEVENT
BEGIN:VEVENT
DTSTART;TZID=Europe/London:20220512T160000
DTEND;TZID=Europe/London:20220512T170000
DTSTAMP:20260420T150412
CREATED:20220414T053421Z
LAST-MODIFIED:20220414T053421Z
UID:38741-1652371200-1652374800@www.bodyshopmag.com
SUMMARY:The Software Defined Vehicle (webinar)
DESCRIPTION:Here are some key concepts you can expect to be addressed in this live webinar panel discussion: \n\nOEMs must adjust to the next generation of car buyers who prioritise personalisation\, convenience\, and immediacy.\nThe shift from hardware to software orientation leaves the question of how automakers will optimise technology and create value by delivering a consumer-centric vehicle that can be an extension of the user’s smartphone.\nEvaluate the different methods OEMs can stay relevant to the consumer: OTA updates\, personalised and connected features\, incorporating software that supports vehicle safety.
URL:https://www.bodyshopmag.com/events-diary/the-software-defined-vehicle-webinar/
LOCATION:Webinar
CATEGORIES:General Events
END:VEVENT
BEGIN:VEVENT
DTSTART;TZID=Europe/London:20220519T090000
DTEND;TZID=Europe/London:20220521T170000
DTSTAMP:20260420T150412
CREATED:20210629T145732Z
LAST-MODIFIED:20220426T104339Z
UID:35701-1652950800-1653152400@www.bodyshopmag.com
SUMMARY:POSTPONED: CAPAS Chengdu International Trade Fair 2022 (China)
DESCRIPTION:The eighth edition of the Chengdu International Trade Fair for the China Automotive Parts and Aftermarket Services (CAPAS) has been postponed because of the coronavirus outbreak in China and will now take place on 18-20 August 2022.
URL:https://www.bodyshopmag.com/events-diary/chengdu-international-trade-fair-for-automotive-parts-and-aftermarket-services-capas-2022/
LOCATION:Chengdu International Exhibition & Convention Center\, No 198 Century City Road\, Shanghai\, Chengdu\, 610041\, China
CATEGORIES:General Events
END:VEVENT
BEGIN:VEVENT
DTSTART;TZID=Europe/London:20220520T090000
DTEND;TZID=Europe/London:20220522T170000
DTSTAMP:20260420T150412
CREATED:20220427T095744Z
LAST-MODIFIED:20220427T095815Z
UID:38863-1653037200-1653238800@www.bodyshopmag.com
SUMMARY:Fully Charged LIVE Europe
DESCRIPTION:Fully Charged LIVE will be bringing its unique blend of entertaining sessions and educational visitor attractions to the RAI in Amsterdam. Visitors will be able to hear from a presenting team that includes Robert Llewellyn\, Jack Scarlett and Helen Czerski\, as well as from dozens of clean energy and e-mobility experts.
URL:https://www.bodyshopmag.com/events-diary/fully-charged-live-europe/
LOCATION:RAI Amsterdam\, Europaplein 24\, Amsterdam\, GZ\, 1078\, Netherlands
CATEGORIES:General Events
END:VEVENT
BEGIN:VEVENT
DTSTART;TZID=Europe/London:20220524T090000
DTEND;TZID=Europe/London:20220526T170000
DTSTAMP:20260420T150412
CREATED:20220211T094614Z
LAST-MODIFIED:20220211T094638Z
UID:38057-1653382800-1653584400@www.bodyshopmag.com
SUMMARY:Commercial Vehicle Show 2022
DESCRIPTION:With all the latest vehicles\, trailers\, equipment and technology on display\, the 2022 CV Show at the NEC will be unmissable for fleet owners\, directors\, senior managers\, and engineers and anyone running or repairing commercial vehicles as part of their business.
URL:https://www.bodyshopmag.com/events-diary/commercial-vehicle-show-2022/
LOCATION:National Exhibition Centre (NEC)\, North Avenue\, Marston Green\, Birmingham\, B40 1NT\, United Kingdom
CATEGORIES:General Events
ORGANIZER;CN="The CV Show":MAILTO:murray@cvshow.com
END:VEVENT
BEGIN:VEVENT
DTSTART;TZID=Europe/London:20220524T190000
DTEND;TZID=Europe/London:20220524T200000
DTSTAMP:20260420T150412
CREATED:20220518T080423Z
LAST-MODIFIED:20220518T080423Z
UID:39110-1653418800-1653422400@www.bodyshopmag.com
SUMMARY:CIECAST Webinar: Data sharing in the collision industry and its unintended consequences
DESCRIPTION:This CIECAST Webinar will feature Pete Tagliapietra\, managing director at DATATOUCH. During the live broadcast\, Tagliapietra will talk about the importance of Personal Identification Information (PII) and repair data privacy along with security trends in the North American collision industry. The discussion will also include the current and future impact on industry stakeholders.
URL:https://www.bodyshopmag.com/events-diary/ciecast-webinar-data-sharing-in-the-collision-industry-and-its-unintended-consequences/
LOCATION:Webinar
CATEGORIES:General Events
END:VEVENT
END:VCALENDAR