BEGIN:VCALENDAR
VERSION:2.0
PRODID:-//Bodyshop Magazine - ECPv6.15.18//NONSGML v1.0//EN
CALSCALE:GREGORIAN
METHOD:PUBLISH
X-ORIGINAL-URL:https://www.bodyshopmag.com
X-WR-CALDESC:Events for Bodyshop Magazine
REFRESH-INTERVAL;VALUE=DURATION:PT1H
X-Robots-Tag:noindex
X-PUBLISHED-TTL:PT1H
BEGIN:VTIMEZONE
TZID:Europe/London
BEGIN:DAYLIGHT
TZOFFSETFROM:+0000
TZOFFSETTO:+0100
TZNAME:BST
DTSTART:20240331T010000
END:DAYLIGHT
BEGIN:STANDARD
TZOFFSETFROM:+0100
TZOFFSETTO:+0000
TZNAME:GMT
DTSTART:20241027T010000
END:STANDARD
BEGIN:DAYLIGHT
TZOFFSETFROM:+0000
TZOFFSETTO:+0100
TZNAME:BST
DTSTART:20250330T010000
END:DAYLIGHT
BEGIN:STANDARD
TZOFFSETFROM:+0100
TZOFFSETTO:+0000
TZNAME:GMT
DTSTART:20251026T010000
END:STANDARD
BEGIN:DAYLIGHT
TZOFFSETFROM:+0000
TZOFFSETTO:+0100
TZNAME:BST
DTSTART:20260329T010000
END:DAYLIGHT
BEGIN:STANDARD
TZOFFSETFROM:+0100
TZOFFSETTO:+0000
TZNAME:GMT
DTSTART:20261025T010000
END:STANDARD
END:VTIMEZONE
BEGIN:VEVENT
DTSTART;TZID=Europe/London:20251014T090000
DTEND;TZID=Europe/London:20251018T170000
DTSTAMP:20260422T073508
CREATED:20250807T085938Z
LAST-MODIFIED:20250807T085938Z
UID:52735-1760432400-1760806800@www.bodyshopmag.com
SUMMARY:EQUIP AUTO Paris 2025
DESCRIPTION:EQUIP AUTO Paris\, the international exhibition for automotive professionals\, is the most acclaimed trade events for the automotive industry\, aftermarket and services sector in France. It places innovation\, expertise and exchange at the heart of its ambition; bringing together experts and know-how in the automotive value chain to reinvent services for mobility. In 2025\, the show celebrates its 50th anniversary.
URL:https://www.bodyshopmag.com/events-diary/equip-auto-paris-2025/
LOCATION:Paris Expo Porte de Versailles\, 1 Place de la Porte de Versailles\, Paris\, 15th arrondissement\, 75015 Paris\, France
CATEGORIES:General Events
ORGANIZER;CN="EQUIP'AUTO SAS":MAILTO:contact@equipauto.com
END:VEVENT
BEGIN:VEVENT
DTSTART;TZID=Europe/London:20251016T083000
DTEND;TZID=Europe/London:20251016T220000
DTSTAMP:20260422T073508
CREATED:20250814T093331Z
LAST-MODIFIED:20250814T093331Z
UID:52840-1760603400-1760652000@www.bodyshopmag.com
SUMMARY:NBRA Northern Regional Event
DESCRIPTION:The 2025 NBRA Northern Regional Event will take place at Bolton Wanderers Football Club on 16 October and includes free daytime “speed-networking” sessions for repairers and supplier partners\, plus panel discussions. There will also be an evening “curry-oke” networking event for all attendees and exhibitors\, which will be charged at £40 (+VAT) per person.
URL:https://www.bodyshopmag.com/events-diary/nbra-northern-regional-event/
LOCATION:Bolton Wanderers FC\, Toughsheet Community Stadium\, Burnden Way\, Bolton\, BL6 6JW\, United Kingdom
CATEGORIES:General Events
ATTACH;FMTTYPE=image/jpeg:https://www.bodyshopmag.com/wp-content/uploads/2024/03/BSM_NBRA_logo_National_Body_Repair_Association_MAR24.jpg
ORGANIZER;CN="National Body Repair Association (NBRA)":MAILTO:bodyshops@rmif.co.uk
END:VEVENT
END:VCALENDAR