BEGIN:VCALENDAR
VERSION:2.0
PRODID:-//Bodyshop Magazine - ECPv6.15.18//NONSGML v1.0//EN
CALSCALE:GREGORIAN
METHOD:PUBLISH
X-WR-CALNAME:Bodyshop Magazine
X-ORIGINAL-URL:https://www.bodyshopmag.com
X-WR-CALDESC:Events for Bodyshop Magazine
REFRESH-INTERVAL;VALUE=DURATION:PT1H
X-Robots-Tag:noindex
X-PUBLISHED-TTL:PT1H
BEGIN:VTIMEZONE
TZID:Europe/London
BEGIN:DAYLIGHT
TZOFFSETFROM:+0000
TZOFFSETTO:+0100
TZNAME:BST
DTSTART:20240331T010000
END:DAYLIGHT
BEGIN:STANDARD
TZOFFSETFROM:+0100
TZOFFSETTO:+0000
TZNAME:GMT
DTSTART:20241027T010000
END:STANDARD
BEGIN:DAYLIGHT
TZOFFSETFROM:+0000
TZOFFSETTO:+0100
TZNAME:BST
DTSTART:20250330T010000
END:DAYLIGHT
BEGIN:STANDARD
TZOFFSETFROM:+0100
TZOFFSETTO:+0000
TZNAME:GMT
DTSTART:20251026T010000
END:STANDARD
BEGIN:DAYLIGHT
TZOFFSETFROM:+0000
TZOFFSETTO:+0100
TZNAME:BST
DTSTART:20260329T010000
END:DAYLIGHT
BEGIN:STANDARD
TZOFFSETFROM:+0100
TZOFFSETTO:+0000
TZNAME:GMT
DTSTART:20261025T010000
END:STANDARD
END:VTIMEZONE
BEGIN:VEVENT
DTSTART;TZID=Europe/London:20250909T090000
DTEND;TZID=Europe/London:20250914T170000
DTSTAMP:20260421T223103
CREATED:20250407T121650Z
LAST-MODIFIED:20250407T121650Z
UID:51328-1757408400-1757869200@www.bodyshopmag.com
SUMMARY:IAA MOBILITY 2025 (Germany)
DESCRIPTION:IAA MOBILITY in Munich (9-12 September) aims to serve as both a forward-looking mobility platform and a dialogue forum for the automotive and sustainability sectors. The IAA Summit and IAA Conference at the Trade Fair Centre Messe München fairgrounds offer a venue for professionals and experts (B2B and B2ESG) from around the world to exchange ideas on innovative mobility solutions. In the free Open Space sessions (9-14 September)\, downtown Munich’s public squares form the backdrop for forums discussing future mobility concepts and stages for experiencing new technologies (B2C).
URL:https://www.bodyshopmag.com/events-diary/iaa-mobility-2025-germany/
LOCATION:Messe München\, Am Messeturm\, Munich\, 81829\, Germany
CATEGORIES:General Events
ORGANIZER;CN="German Association of the Automotive Industry (VDA)":MAILTO:info@vda.de
END:VEVENT
BEGIN:VEVENT
DTSTART;TZID=Europe/London:20250912T180000
DTEND;TZID=Europe/London:20250912T233000
DTSTAMP:20260421T223103
CREATED:20250117T114334Z
LAST-MODIFIED:20250117T114334Z
UID:50040-1757700000-1757719800@www.bodyshopmag.com
SUMMARY:BIG Awards 2025
DESCRIPTION:The Independent Garage Association (IGA) has confirmed that its British Independent Garage (BIG) Awards 2025 will take place at the Hilton Birmingham Metropole\, on Friday\, 12 September. Building on the success of previous years\, the BIG Awards have become one of the premier events that recognise and celebrate excellence within the independent garage sector. 15 categories are available this year.
URL:https://www.bodyshopmag.com/events-diary/big-awards-2025/
LOCATION:Hilton Birmingham Metropole\, Pendigo Way\, Marston Green\, Birmingham\, West Midlands\, B40 1PP
CATEGORIES:Awards,General Events
ORGANIZER;CN="Independent Garage Association (IGA)":MAILTO:enquiries@rmif.co.uk
END:VEVENT
END:VCALENDAR