BEGIN:VCALENDAR
VERSION:2.0
PRODID:-//Bodyshop Magazine - ECPv6.15.18//NONSGML v1.0//EN
CALSCALE:GREGORIAN
METHOD:PUBLISH
X-WR-CALNAME:Bodyshop Magazine
X-ORIGINAL-URL:https://www.bodyshopmag.com
X-WR-CALDESC:Events for Bodyshop Magazine
REFRESH-INTERVAL;VALUE=DURATION:PT1H
X-Robots-Tag:noindex
X-PUBLISHED-TTL:PT1H
BEGIN:VTIMEZONE
TZID:Europe/London
BEGIN:DAYLIGHT
TZOFFSETFROM:+0000
TZOFFSETTO:+0100
TZNAME:BST
DTSTART:20240331T010000
END:DAYLIGHT
BEGIN:STANDARD
TZOFFSETFROM:+0100
TZOFFSETTO:+0000
TZNAME:GMT
DTSTART:20241027T010000
END:STANDARD
BEGIN:DAYLIGHT
TZOFFSETFROM:+0000
TZOFFSETTO:+0100
TZNAME:BST
DTSTART:20250330T010000
END:DAYLIGHT
BEGIN:STANDARD
TZOFFSETFROM:+0100
TZOFFSETTO:+0000
TZNAME:GMT
DTSTART:20251026T010000
END:STANDARD
BEGIN:DAYLIGHT
TZOFFSETFROM:+0000
TZOFFSETTO:+0100
TZNAME:BST
DTSTART:20260329T010000
END:DAYLIGHT
BEGIN:STANDARD
TZOFFSETFROM:+0100
TZOFFSETTO:+0000
TZNAME:GMT
DTSTART:20261025T010000
END:STANDARD
END:VTIMEZONE
BEGIN:VEVENT
DTSTART;TZID=Europe/London:20250909T090000
DTEND;TZID=Europe/London:20250914T170000
DTSTAMP:20260421T223058
CREATED:20250407T121650Z
LAST-MODIFIED:20250407T121650Z
UID:51328-1757408400-1757869200@www.bodyshopmag.com
SUMMARY:IAA MOBILITY 2025 (Germany)
DESCRIPTION:IAA MOBILITY in Munich (9-12 September) aims to serve as both a forward-looking mobility platform and a dialogue forum for the automotive and sustainability sectors. The IAA Summit and IAA Conference at the Trade Fair Centre Messe München fairgrounds offer a venue for professionals and experts (B2B and B2ESG) from around the world to exchange ideas on innovative mobility solutions. In the free Open Space sessions (9-14 September)\, downtown Munich’s public squares form the backdrop for forums discussing future mobility concepts and stages for experiencing new technologies (B2C).
URL:https://www.bodyshopmag.com/events-diary/iaa-mobility-2025-germany/
LOCATION:Messe München\, Am Messeturm\, Munich\, 81829\, Germany
CATEGORIES:General Events
ORGANIZER;CN="German Association of the Automotive Industry (VDA)":MAILTO:info@vda.de
END:VEVENT
BEGIN:VEVENT
DTSTART;TZID=Europe/London:20250910T090000
DTEND;TZID=Europe/London:20250911T170000
DTSTAMP:20260421T223058
CREATED:20250908T084420Z
LAST-MODIFIED:20250908T084420Z
UID:53039-1757494800-1757610000@www.bodyshopmag.com
SUMMARY:UK Metals Expo 2025
DESCRIPTION:The UK Metals Expo is billed as the “leading event that brings the entire metals supply chain together with the worlds of engineering\, manufacturing and construction” – from primary metal manufacturing to supply chain management\, design\, policy\, metal processing\, metalworking\, fabrication\, CNC machinery\, surface finishing\, and recycling.
URL:https://www.bodyshopmag.com/events-diary/uk-metals-expo-2025/
LOCATION:National Exhibition Centre (NEC)\, North Avenue\, Marston Green\, Birmingham\, B40 1NT\, United Kingdom
CATEGORIES:General Events
ORGANIZER;CN="UK Metals Expo":MAILTO:team@ukmetalsexpo.com
END:VEVENT
BEGIN:VEVENT
DTSTART;TZID=Europe/London:20250911T140000
DTEND;TZID=Europe/London:20250911T150000
DTSTAMP:20260421T223058
CREATED:20250808T100321Z
LAST-MODIFIED:20250808T100321Z
UID:52786-1757599200-1757602800@www.bodyshopmag.com
SUMMARY:Selecting the right CVs for your fleet (webinar)
DESCRIPTION:This one-hour session from Fleet News unpacks the decision-making process that leading fleet operators go through to ensure they operate LCVs which are fit for purpose\, control costs\, align with operational needs and sustainability obligations and meet driver needs in terms of design and functionality. It will also examine how combining alternative fuels\, such as biofuels\, HVO\, CNG\, with electric and hydrogen technologies\, can accelerate the journey to decarbonisation while maintaining flexibility and meeting service delivery requirements.
URL:https://www.bodyshopmag.com/events-diary/selecting-the-right-cvs-for-your-fleet-webinar/
LOCATION:Webinar
CATEGORIES:General Events
END:VEVENT
END:VCALENDAR