BEGIN:VCALENDAR
VERSION:2.0
PRODID:-//Bodyshop Magazine - ECPv6.15.18//NONSGML v1.0//EN
CALSCALE:GREGORIAN
METHOD:PUBLISH
X-WR-CALNAME:Bodyshop Magazine
X-ORIGINAL-URL:https://www.bodyshopmag.com
X-WR-CALDESC:Events for Bodyshop Magazine
REFRESH-INTERVAL;VALUE=DURATION:PT1H
X-Robots-Tag:noindex
X-PUBLISHED-TTL:PT1H
BEGIN:VTIMEZONE
TZID:Europe/London
BEGIN:DAYLIGHT
TZOFFSETFROM:+0000
TZOFFSETTO:+0100
TZNAME:BST
DTSTART:20240331T010000
END:DAYLIGHT
BEGIN:STANDARD
TZOFFSETFROM:+0100
TZOFFSETTO:+0000
TZNAME:GMT
DTSTART:20241027T010000
END:STANDARD
BEGIN:DAYLIGHT
TZOFFSETFROM:+0000
TZOFFSETTO:+0100
TZNAME:BST
DTSTART:20250330T010000
END:DAYLIGHT
BEGIN:STANDARD
TZOFFSETFROM:+0100
TZOFFSETTO:+0000
TZNAME:GMT
DTSTART:20251026T010000
END:STANDARD
BEGIN:DAYLIGHT
TZOFFSETFROM:+0000
TZOFFSETTO:+0100
TZNAME:BST
DTSTART:20260329T010000
END:DAYLIGHT
BEGIN:STANDARD
TZOFFSETFROM:+0100
TZOFFSETTO:+0000
TZNAME:GMT
DTSTART:20261025T010000
END:STANDARD
END:VTIMEZONE
BEGIN:VEVENT
DTSTART;TZID=Europe/London:20250905T090000
DTEND;TZID=Europe/London:20250907T170000
DTSTAMP:20260421T173309
CREATED:20250407T120521Z
LAST-MODIFIED:20250407T120533Z
UID:51327-1757062800-1757264400@www.bodyshopmag.com
SUMMARY:Concours of Elegance 2025
DESCRIPTION:The Concours of Elegance at Hampton Court Palace will bring together a selection of 60 of the rarest cars from around the world – many of which will have never been seen before in the UK.
URL:https://www.bodyshopmag.com/events-diary/concours-of-elegance/
LOCATION:Hampton Court Palace\, Hampton Court Way\, East Molesey\, KT8 9AU\, United Kingdom
CATEGORIES:General Events
ORGANIZER;CN="Thorough Events":MAILTO:iain@thoroughevents.co.uk
END:VEVENT
END:VCALENDAR