BEGIN:VCALENDAR
VERSION:2.0
PRODID:-//Bodyshop Magazine - ECPv6.15.18//NONSGML v1.0//EN
CALSCALE:GREGORIAN
METHOD:PUBLISH
X-ORIGINAL-URL:https://www.bodyshopmag.com
X-WR-CALDESC:Events for Bodyshop Magazine
REFRESH-INTERVAL;VALUE=DURATION:PT1H
X-Robots-Tag:noindex
X-PUBLISHED-TTL:PT1H
BEGIN:VTIMEZONE
TZID:Europe/London
BEGIN:DAYLIGHT
TZOFFSETFROM:+0000
TZOFFSETTO:+0100
TZNAME:BST
DTSTART:20230326T010000
END:DAYLIGHT
BEGIN:STANDARD
TZOFFSETFROM:+0100
TZOFFSETTO:+0000
TZNAME:GMT
DTSTART:20231029T010000
END:STANDARD
BEGIN:DAYLIGHT
TZOFFSETFROM:+0000
TZOFFSETTO:+0100
TZNAME:BST
DTSTART:20240331T010000
END:DAYLIGHT
BEGIN:STANDARD
TZOFFSETFROM:+0100
TZOFFSETTO:+0000
TZNAME:GMT
DTSTART:20241027T010000
END:STANDARD
BEGIN:DAYLIGHT
TZOFFSETFROM:+0000
TZOFFSETTO:+0100
TZNAME:BST
DTSTART:20250330T010000
END:DAYLIGHT
BEGIN:STANDARD
TZOFFSETFROM:+0100
TZOFFSETTO:+0000
TZNAME:GMT
DTSTART:20251026T010000
END:STANDARD
END:VTIMEZONE
BEGIN:VEVENT
DTSTART;TZID=Europe/London:20240124T100000
DTEND;TZID=Europe/London:20240124T110000
DTSTAMP:20260419T153202
CREATED:20240117T130037Z
LAST-MODIFIED:20240117T130037Z
UID:45741-1706090400-1706094000@www.bodyshopmag.com
SUMMARY:Automotive Industry Priorities (SMMT webinar)
DESCRIPTION:The Society of Motor Manufacturers and Traders’ chief executive Mike Hawes will discuss the automotive industry’s priorities for 2024 and outline the SMMT business plan and priorities in response to some of the key issues it expects in the coming year.
URL:https://www.bodyshopmag.com/events-diary/automotive-industry-priorities-smmt-webinar/
LOCATION:Webinar
CATEGORIES:General Events
ORGANIZER;CN="Society of Motor Manufacturers and Traders (SMMT)":MAILTO:smmtsummit@smmt.co.uk
END:VEVENT
END:VCALENDAR