BEGIN:VCALENDAR
VERSION:2.0
PRODID:-//Bodyshop Magazine - ECPv6.15.18//NONSGML v1.0//EN
CALSCALE:GREGORIAN
METHOD:PUBLISH
X-WR-CALNAME:Bodyshop Magazine
X-ORIGINAL-URL:https://www.bodyshopmag.com
X-WR-CALDESC:Events for Bodyshop Magazine
REFRESH-INTERVAL;VALUE=DURATION:PT1H
X-Robots-Tag:noindex
X-PUBLISHED-TTL:PT1H
BEGIN:VTIMEZONE
TZID:Europe/London
BEGIN:DAYLIGHT
TZOFFSETFROM:+0000
TZOFFSETTO:+0100
TZNAME:BST
DTSTART:20220327T010000
END:DAYLIGHT
BEGIN:STANDARD
TZOFFSETFROM:+0100
TZOFFSETTO:+0000
TZNAME:GMT
DTSTART:20221030T010000
END:STANDARD
BEGIN:DAYLIGHT
TZOFFSETFROM:+0000
TZOFFSETTO:+0100
TZNAME:BST
DTSTART:20230326T010000
END:DAYLIGHT
BEGIN:STANDARD
TZOFFSETFROM:+0100
TZOFFSETTO:+0000
TZNAME:GMT
DTSTART:20231029T010000
END:STANDARD
BEGIN:DAYLIGHT
TZOFFSETFROM:+0000
TZOFFSETTO:+0100
TZNAME:BST
DTSTART:20240331T010000
END:DAYLIGHT
BEGIN:STANDARD
TZOFFSETFROM:+0100
TZOFFSETTO:+0000
TZNAME:GMT
DTSTART:20241027T010000
END:STANDARD
END:VTIMEZONE
BEGIN:VEVENT
DTSTART;TZID=Europe/London:20231129T090000
DTEND;TZID=Europe/London:20231202T170000
DTSTAMP:20260421T162314
CREATED:20230104T113151Z
LAST-MODIFIED:20231030T140324Z
UID:41729-1701248400-1701536400@www.bodyshopmag.com
SUMMARY:Automechanika Shanghai 2023 (China)
DESCRIPTION:Automechanika Shanghai – one of the most influential global trade fairs in the automotive industry and the biggest aftermarket show in eastern Asia – returns to Shanghai after the 2022 show’s Covid-enforced move to Shenzhen in southern China. A big part of this year’s trade event will be the International Automotive Industry Conference 2023\, which takes centre stage at Automechanika Shanghai 2023. The event stream will explore the rising influence of new energy vehicles (NEV)\, electrification and digitalisation\, and how the industrial chain\, market\, policies and regulations are adapting to these trends. \nInternational Automotive Industry Conference 2023 (29 November)\nDr Qing Ding\, founding partner of Shentou Capital\, will moderate the conference\, bringing together leading auto parts companies and sharing an analysis of the import and export of vehicles and automotive parts and components. \nOther topics include: \n\nThe global business strategies of leading tier one suppliers and perspectives on the China market.\nHow parts and components suppliers can upgrade their businesses efficiently under electrification and digitalisation.\nA long-term outlook of transformation in the global automotive supply chain.\n\nNEV Sustainable Development Forum 2023 (29 November) \nAudiences can stay ahead in the ever-evolving automotive industry from this line up of future-focused topics\, including: \n\nThe applications and innovations of lithium batteries in new energy vehicles.\nA blueprint of the hydrogen vehicle value chain.\nAn update on the development of charging stations in Europe.\nThe influence of the new EU Batteries Regulation in new energy vehicles and batteries.\nA new energy future: hydrogen versus lithium batteries.\nThe adoption of low-carbon strategies for the sustainable development of the automotive industry.\n\nAutomotive Aftermarket Summit 2023 (30 November)\nWith the technological and mechanical differences in NEVs (compared to ICE vehicles)\, it is only natural that industry-wide transformations are unfolding across the supply chain. Panellists will delve into: \n\nAn analysis of key global automotive aftermarkets.\nChanges in automotive parts distribution channels across Europe.\nThe evolution of digitalisation driving growth in aftermarket parts sales.\nNavigating the development of China’s automotive parts distribution.\nThe integration of traditional maintenance and the new energy vehicle aftermarket.\n\nUsed Car Strategy and Development Forum 2023 (1 December)\nExperts will weigh in on business opportunities from the circulation of used cars. Key topics include: \n\nA review and forecast of China’s used car export market.\nTrends in the Middle East and African automotive markets; the advantages and challenges of exporting used cars to these markets.\nEstablishing overseas warehouses to facilitate exporting activities.
URL:https://www.bodyshopmag.com/events-diary/automechanika-shanghai-2023/
LOCATION:National Exhibition and Convention Centre (Shanghai)\, 333 Songze Avenue Road\, Shanghai\, Qingpu District\, China
CATEGORIES:General Events
END:VEVENT
BEGIN:VEVENT
DTSTART;TZID=Europe/London:20231201T090000
DTEND;TZID=Europe/London:20231201T170000
DTSTAMP:20260421T162314
CREATED:20231009T104413Z
LAST-MODIFIED:20231009T104414Z
UID:44933-1701421200-1701450000@www.bodyshopmag.com
SUMMARY:ENTRIES OPEN FOR BODYSHOP AWARDS 2024 + 30 UNDER 30
DESCRIPTION:Nominations open on this date for the Bodyshop Awards 2024 and 30 Under 30: Rising Stars. We will accept entries in all awards categories and the 30 Under 30 until 31 March 2024. Visit www.bodyshopmag.com for more information.
URL:https://www.bodyshopmag.com/events-diary/entries-open-for-bodyshop-awards-2024-30-under-30/
LOCATION:Online Event
CATEGORIES:Awards,General Events
ORGANIZER;CN="Bodyshop Magazine":MAILTO:info@bodyshopmag.com
END:VEVENT
END:VCALENDAR