BEGIN:VCALENDAR
VERSION:2.0
PRODID:-//Bodyshop Magazine - ECPv6.15.18//NONSGML v1.0//EN
CALSCALE:GREGORIAN
METHOD:PUBLISH
X-ORIGINAL-URL:https://www.bodyshopmag.com
X-WR-CALDESC:Events for Bodyshop Magazine
REFRESH-INTERVAL;VALUE=DURATION:PT1H
X-Robots-Tag:noindex
X-PUBLISHED-TTL:PT1H
BEGIN:VTIMEZONE
TZID:Europe/London
BEGIN:DAYLIGHT
TZOFFSETFROM:+0000
TZOFFSETTO:+0100
TZNAME:BST
DTSTART:20220327T010000
END:DAYLIGHT
BEGIN:STANDARD
TZOFFSETFROM:+0100
TZOFFSETTO:+0000
TZNAME:GMT
DTSTART:20221030T010000
END:STANDARD
BEGIN:DAYLIGHT
TZOFFSETFROM:+0000
TZOFFSETTO:+0100
TZNAME:BST
DTSTART:20230326T010000
END:DAYLIGHT
BEGIN:STANDARD
TZOFFSETFROM:+0100
TZOFFSETTO:+0000
TZNAME:GMT
DTSTART:20231029T010000
END:STANDARD
BEGIN:DAYLIGHT
TZOFFSETFROM:+0000
TZOFFSETTO:+0100
TZNAME:BST
DTSTART:20240331T010000
END:DAYLIGHT
BEGIN:STANDARD
TZOFFSETFROM:+0100
TZOFFSETTO:+0000
TZNAME:GMT
DTSTART:20241027T010000
END:STANDARD
END:VTIMEZONE
BEGIN:VEVENT
DTSTART;TZID=Europe/London:20231128T090000
DTEND;TZID=Europe/London:20231130T170000
DTSTAMP:20260421T181353
CREATED:20230922T085605Z
LAST-MODIFIED:20231012T105539Z
UID:44277-1701162000-1701363600@www.bodyshopmag.com
SUMMARY:London EV Show 2023
DESCRIPTION:Bringing together the leading manufacturers\, suppliers\, engineers\, thought leaders and decision-makers from across the global automotive value chain\, the London EV Show is Europe’s largest international tradeshow and conference focused on the electric vehicle industry.
URL:https://www.bodyshopmag.com/events-diary/london-ev-show-2023/
LOCATION:ExCel London\, Royal Victoria Dock\, 1 Western Gateway\, London\, E16 1XL\, United Kingdom
CATEGORIES:General Events
END:VEVENT
BEGIN:VEVENT
DTSTART;TZID=Europe/London:20231128T180000
DTEND;TZID=Europe/London:20231128T233000
DTSTAMP:20260421T181353
CREATED:20230922T085138Z
LAST-MODIFIED:20230922T085138Z
UID:44276-1701194400-1701214200@www.bodyshopmag.com
SUMMARY:SMMT Annual Dinner 2023
DESCRIPTION:The 106th SMMT Annual Dinner will be held on Tuesday\, 28 November 2023. The dinner is one of the most prestigious events in the automotive calendar\, due to be attended by approximately 1\,000 guests from industry\, government and the media. SMMT president Alison Jones will deliver the keynote address in front of senior executives from across the automotive industry.
URL:https://www.bodyshopmag.com/events-diary/smmt-annual-dinner-2023/
LOCATION:JW Marriott Grosvenor House\, 86-90 Park Lane\, London\, W1K 7TN\, United Kingdom
CATEGORIES:General Events
ORGANIZER;CN="Society of Motor Manufacturers and Traders (SMMT)":MAILTO:smmtsummit@smmt.co.uk
END:VEVENT
END:VCALENDAR