BEGIN:VCALENDAR
VERSION:2.0
PRODID:-//Bodyshop Magazine - ECPv6.15.18//NONSGML v1.0//EN
CALSCALE:GREGORIAN
METHOD:PUBLISH
X-WR-CALNAME:Bodyshop Magazine
X-ORIGINAL-URL:https://www.bodyshopmag.com
X-WR-CALDESC:Events for Bodyshop Magazine
REFRESH-INTERVAL;VALUE=DURATION:PT1H
X-Robots-Tag:noindex
X-PUBLISHED-TTL:PT1H
BEGIN:VTIMEZONE
TZID:Europe/London
BEGIN:DAYLIGHT
TZOFFSETFROM:+0000
TZOFFSETTO:+0100
TZNAME:BST
DTSTART:20220327T010000
END:DAYLIGHT
BEGIN:STANDARD
TZOFFSETFROM:+0100
TZOFFSETTO:+0000
TZNAME:GMT
DTSTART:20221030T010000
END:STANDARD
BEGIN:DAYLIGHT
TZOFFSETFROM:+0000
TZOFFSETTO:+0100
TZNAME:BST
DTSTART:20230326T010000
END:DAYLIGHT
BEGIN:STANDARD
TZOFFSETFROM:+0100
TZOFFSETTO:+0000
TZNAME:GMT
DTSTART:20231029T010000
END:STANDARD
BEGIN:DAYLIGHT
TZOFFSETFROM:+0000
TZOFFSETTO:+0100
TZNAME:BST
DTSTART:20240331T010000
END:DAYLIGHT
BEGIN:STANDARD
TZOFFSETFROM:+0100
TZOFFSETTO:+0000
TZNAME:GMT
DTSTART:20241027T010000
END:STANDARD
END:VTIMEZONE
BEGIN:VEVENT
DTSTART;TZID=Europe/London:20231121T080000
DTEND;TZID=Europe/London:20231121T170000
DTSTAMP:20260421T224854
CREATED:20231030T144858Z
LAST-MODIFIED:20231030T153930Z
UID:45115-1700553600-1700586000@www.bodyshopmag.com
SUMMARY:Delivering Decarbonisation - Logistics UK Business Conference
DESCRIPTION:Logistics UK will hold its Delivering Decarbonisation conference on 21 November at America Square Conference Centre in London. Bringing together senior leaders and industry experts\, the business group’s Delivering Decarbonisation conference is designed to equip logistics professionals with the knowledge and information needed to plan their business strategy and explores the roadmap to net zero\, delving into the plans\, initiatives and ongoing projects that are shaping the decarbonisation journey for transportation and logistics businesses. 
URL:https://www.bodyshopmag.com/events-diary/delivering-decarbonisation-logistics-uk-business-conference/
LOCATION:America Square Conference Centre\, One America Square\, 17 Crosswall\, London\, EC3N 2LB\, United Kingdom
CATEGORIES:General Events
END:VEVENT
BEGIN:VEVENT
DTSTART;TZID=Europe/London:20231121T090000
DTEND;TZID=Europe/London:20231121T160000
DTSTAMP:20260421T224854
CREATED:20230913T081419Z
LAST-MODIFIED:20231030T154024Z
UID:44160-1700557200-1700582400@www.bodyshopmag.com
SUMMARY:2024: The Year Ahead in Automotive Remarketing
DESCRIPTION:The Vehicle Remarketing Association’s annual seminar at The Slate\, Warwick University\, will look at current and new issues affecting the sector in 2024. This year’s VRA seminar will feature three main sessions: \n\nThe macroeconomic picture and motor industry market analysis.\nCurrent challenges facing the remarketing and auto retail sector.\nFuture trends and new thinking.
URL:https://www.bodyshopmag.com/events-diary/2024-the-year-ahead-in-automotive-remarketing/
LOCATION:The Slate\, Warwick University\, Coventry\, Warwickshire\, CV4 7SH\, United Kingdom
CATEGORIES:General Events
ORGANIZER;CN="Vehicle Remarketing Association (VRA)":MAILTO:contact@thevra.co.uk
END:VEVENT
BEGIN:VEVENT
DTSTART;TZID=Europe/London:20231121T090000
DTEND;TZID=Europe/London:20231122T170000
DTSTAMP:20260421T224854
CREATED:20231018T132902Z
LAST-MODIFIED:20231018T132903Z
UID:45060-1700557200-1700672400@www.bodyshopmag.com
SUMMARY:Smart Transport National Conference 2023
DESCRIPTION:What will future transport systems look like in the UK\,  what are the trends and issues that will reshape the sector and how do we radically rethink legacy systems and drive fundamental changes? The Smart Transport National Conference aims to take a deep dive into future trends and tech innovation in a series of panel discussions which give attendees an opportunity to hear from the experts and gain invaluable knowledge for future decisions.
URL:https://www.bodyshopmag.com/events-diary/smart-transport-national-conference-2023/
LOCATION:The Eastside Rooms\, Woodcock Street\, Birmingham\, B7 4BL\, United Kingdom
CATEGORIES:General Events
END:VEVENT
END:VCALENDAR