BEGIN:VCALENDAR
VERSION:2.0
PRODID:-//Bodyshop Magazine - ECPv6.15.18//NONSGML v1.0//EN
CALSCALE:GREGORIAN
METHOD:PUBLISH
X-ORIGINAL-URL:https://www.bodyshopmag.com
X-WR-CALDESC:Events for Bodyshop Magazine
REFRESH-INTERVAL;VALUE=DURATION:PT1H
X-Robots-Tag:noindex
X-PUBLISHED-TTL:PT1H
BEGIN:VTIMEZONE
TZID:Europe/London
BEGIN:DAYLIGHT
TZOFFSETFROM:+0000
TZOFFSETTO:+0100
TZNAME:BST
DTSTART:20220327T010000
END:DAYLIGHT
BEGIN:STANDARD
TZOFFSETFROM:+0100
TZOFFSETTO:+0000
TZNAME:GMT
DTSTART:20221030T010000
END:STANDARD
BEGIN:DAYLIGHT
TZOFFSETFROM:+0000
TZOFFSETTO:+0100
TZNAME:BST
DTSTART:20230326T010000
END:DAYLIGHT
BEGIN:STANDARD
TZOFFSETFROM:+0100
TZOFFSETTO:+0000
TZNAME:GMT
DTSTART:20231029T010000
END:STANDARD
BEGIN:DAYLIGHT
TZOFFSETFROM:+0000
TZOFFSETTO:+0100
TZNAME:BST
DTSTART:20240331T010000
END:DAYLIGHT
BEGIN:STANDARD
TZOFFSETFROM:+0100
TZOFFSETTO:+0000
TZNAME:GMT
DTSTART:20241027T010000
END:STANDARD
END:VTIMEZONE
BEGIN:VEVENT
DTSTART;TZID=Europe/London:20231114T090000
DTEND;TZID=Europe/London:20231117T170000
DTSTAMP:20260421T212127
CREATED:20230922T083900Z
LAST-MODIFIED:20230922T083900Z
UID:44274-1699952400-1700240400@www.bodyshopmag.com
SUMMARY:WorldSkills UK National Finals
DESCRIPTION:The WorldSkills UK / IMI National Finals will take place 14-17 November at colleges\, independent training providers\, colleges and universities across Greater Manchester. The categories include Automotive Body Repair\, Automotive Refinishing\, and Automotive Technology. WorldSkills UK competition-based training programmes are designed by industry experts and develop participants’ technical and employability skills\, including building resilience\, self-confidence and communications skills. The finalists from this year’s National Finals could be invited to join the WorldSkills UK International Development Programme for the WorldSkills Competition in 2026.
URL:https://www.bodyshopmag.com/events-diary/worldskills-uk-national-finals/
LOCATION:Various
CATEGORIES:Awards,General Events
ORGANIZER;CN="WorldSkills UK":MAILTO:enquiries@worldskillsuk.org
END:VEVENT
BEGIN:VEVENT
DTSTART;TZID=Europe/London:20231116T090000
DTEND;TZID=Europe/London:20231118T170000
DTSTAMP:20260421T212127
CREATED:20231030T142530Z
LAST-MODIFIED:20231030T142530Z
UID:45112-1700125200-1700326800@www.bodyshopmag.com
SUMMARY:Futurmotive - Expo & Talks (Italy)
DESCRIPTION:Autopromotec is organising Futurmotive – Expo & Talks\, on 16-18 November in Bologna – a brand new event focused on energy and ecology transition and new business models in the automotive sector\, devoted to manufacturers\, component suppliers and manufacturers and buyers.
URL:https://www.bodyshopmag.com/events-diary/futurmotive-expo-talks-italy/
LOCATION:Bologna Fair District (Fiera di Bologna)\, Viale della Fiera\, 20\, Bologna\, 40128\, Italy
CATEGORIES:General Events
ORGANIZER;CN="Promotec":MAILTO:info@autopromotec.it
END:VEVENT
END:VCALENDAR