BEGIN:VCALENDAR
VERSION:2.0
PRODID:-//Bodyshop Magazine - ECPv6.15.18//NONSGML v1.0//EN
CALSCALE:GREGORIAN
METHOD:PUBLISH
X-WR-CALNAME:Bodyshop Magazine
X-ORIGINAL-URL:https://www.bodyshopmag.com
X-WR-CALDESC:Events for Bodyshop Magazine
REFRESH-INTERVAL;VALUE=DURATION:PT1H
X-Robots-Tag:noindex
X-PUBLISHED-TTL:PT1H
BEGIN:VTIMEZONE
TZID:Europe/London
BEGIN:DAYLIGHT
TZOFFSETFROM:+0000
TZOFFSETTO:+0100
TZNAME:BST
DTSTART:20220327T010000
END:DAYLIGHT
BEGIN:STANDARD
TZOFFSETFROM:+0100
TZOFFSETTO:+0000
TZNAME:GMT
DTSTART:20221030T010000
END:STANDARD
BEGIN:DAYLIGHT
TZOFFSETFROM:+0000
TZOFFSETTO:+0100
TZNAME:BST
DTSTART:20230326T010000
END:DAYLIGHT
BEGIN:STANDARD
TZOFFSETFROM:+0100
TZOFFSETTO:+0000
TZNAME:GMT
DTSTART:20231029T010000
END:STANDARD
BEGIN:DAYLIGHT
TZOFFSETFROM:+0000
TZOFFSETTO:+0100
TZNAME:BST
DTSTART:20240331T010000
END:DAYLIGHT
BEGIN:STANDARD
TZOFFSETFROM:+0100
TZOFFSETTO:+0000
TZNAME:GMT
DTSTART:20241027T010000
END:STANDARD
END:VTIMEZONE
BEGIN:VEVENT
DTSTART;TZID=Europe/London:20231107T100000
DTEND;TZID=Europe/London:20231108T160000
DTSTAMP:20260421T211914
CREATED:20231009T095423Z
LAST-MODIFIED:20231009T095633Z
UID:44926-1699351200-1699459200@www.bodyshopmag.com
SUMMARY:MECHANEX 2023
DESCRIPTION:This expo for the automotive aftermarket\, in partnership with PMM magazine\, regularly attracts several industry leading brands and offers a free seminar programme discussing essential technical and business information. Live demonstrations of the latest products and tech and on-stand presentations\, are combined with exclusive show offers\, networking\, competitions and giveaways.
URL:https://www.bodyshopmag.com/events-diary/mechanex-2023/
LOCATION:Sandown Park Racecourse\, Portsmouth Road\, Esher\, Surrey\, KT10 9AJ\, United Kingdom
CATEGORIES:General Events
ORGANIZER;CN="Hamerville (PMM magazine)":MAILTO:circulation@hamerville.co.uk
END:VEVENT
BEGIN:VEVENT
DTSTART;VALUE=DATE:20231108
DTEND;VALUE=DATE:20231110
DTSTAMP:20260421T211914
CREATED:20230104T162424Z
LAST-MODIFIED:20231012T102543Z
UID:41740-1699401600-1699574399@www.bodyshopmag.com
SUMMARY:Automotive USA 2023
DESCRIPTION:Reuters Events: Automotive USA is the industry gathering to unite senior level OEM leaders who will address how they will build software-defined electric vehicles\, reshape the OEM business model and plan for an autonomous future. Reaching a North American audience\, this event will shape the future strategies across business-critical topics including electrification\, connectivity\, autonomous vehicles\, sustainability\, supply chain and customer-first strategies.
URL:https://www.bodyshopmag.com/events-diary/reuters-events-automotive-usa-2023/
LOCATION:Huntington Place\, 1 Washington Blvd\, Detroit\, MI\, 48226\, United States
CATEGORIES:General Events
END:VEVENT
BEGIN:VEVENT
DTSTART;TZID=Europe/London:20231108T090000
DTEND;TZID=Europe/London:20231108T170000
DTSTAMP:20260421T211914
CREATED:20230331T094306Z
LAST-MODIFIED:20231012T103407Z
UID:42862-1699434000-1699462800@www.bodyshopmag.com
SUMMARY:IBIS SAUDI ARABIA 2023 (Riyadh)
DESCRIPTION:This one-day event is part of IBIS Worldwide’s National Forums series. Delegates will include industry thought leaders\, influencers and stakeholders who are business owners and senior executives from Saudi Arabia-based vehicle manufacturers\, product manufacturers\, agencies\, insurance companies\, bodyshops\, supply chains\, consultants\, training organisations and others.
URL:https://www.bodyshopmag.com/events-diary/ibis-saudi-arabia-2023/
LOCATION:Sheraton Riyadh Hotel & Towers\, Junction of King Fahad and King Abdullah Road\, Riyadh\, 11623\, Saudi Arabia
CATEGORIES:General Events
ORGANIZER;CN="IBIS Worldwide":MAILTO:suzie@ibisworldwide.com
END:VEVENT
END:VCALENDAR