BEGIN:VCALENDAR
VERSION:2.0
PRODID:-//Bodyshop Magazine - ECPv6.15.18//NONSGML v1.0//EN
CALSCALE:GREGORIAN
METHOD:PUBLISH
X-ORIGINAL-URL:https://www.bodyshopmag.com
X-WR-CALDESC:Events for Bodyshop Magazine
REFRESH-INTERVAL;VALUE=DURATION:PT1H
X-Robots-Tag:noindex
X-PUBLISHED-TTL:PT1H
BEGIN:VTIMEZONE
TZID:Europe/London
BEGIN:DAYLIGHT
TZOFFSETFROM:+0000
TZOFFSETTO:+0100
TZNAME:BST
DTSTART:20220327T010000
END:DAYLIGHT
BEGIN:STANDARD
TZOFFSETFROM:+0100
TZOFFSETTO:+0000
TZNAME:GMT
DTSTART:20221030T010000
END:STANDARD
BEGIN:DAYLIGHT
TZOFFSETFROM:+0000
TZOFFSETTO:+0100
TZNAME:BST
DTSTART:20230326T010000
END:DAYLIGHT
BEGIN:STANDARD
TZOFFSETFROM:+0100
TZOFFSETTO:+0000
TZNAME:GMT
DTSTART:20231029T010000
END:STANDARD
BEGIN:DAYLIGHT
TZOFFSETFROM:+0000
TZOFFSETTO:+0100
TZNAME:BST
DTSTART:20240331T010000
END:DAYLIGHT
BEGIN:STANDARD
TZOFFSETFROM:+0100
TZOFFSETTO:+0000
TZNAME:GMT
DTSTART:20241027T010000
END:STANDARD
END:VTIMEZONE
BEGIN:VEVENT
DTSTART;TZID=Europe/London:20231031T080000
DTEND;TZID=Europe/London:20231031T170000
DTSTAMP:20260421T212124
CREATED:20221124T142124Z
LAST-MODIFIED:20230922T093857Z
UID:41344-1698739200-1698771600@www.bodyshopmag.com
SUMMARY:Collision Industry Conference 2023 (USA)
DESCRIPTION:The Collision Industry Conference (CIC) is a forum made up of participants from all US bodyshop industry sectors for the express purpose of discussing and exploring today’s issues. The meetings are open to all interested individuals from the collision repair industry\, including repairers\, insurers\, paint and materials companies\, equipment and vehicle manufacturers\, data providers\, representatives of trade associations\, and anyone with an interest in creating a more professional industry.
URL:https://www.bodyshopmag.com/events-diary/collision-industry-conference-2023-las-vegas-usa/
LOCATION:Westgate Las Vegas Resort & Casino\, 3000 Paradise Road\, Las Vegas\, NV\, 89109\, United States
CATEGORIES:General Events
ORGANIZER;CN="Collision Industry Conference (CIC)":MAILTO:info@ciclink.com
END:VEVENT
BEGIN:VEVENT
DTSTART;TZID=Europe/London:20231031T080000
DTEND;TZID=Europe/London:20231103T170000
DTSTAMP:20260421T212124
CREATED:20221103T083056Z
LAST-MODIFIED:20230113T171025Z
UID:41099-1698739200-1699030800@www.bodyshopmag.com
SUMMARY:The SEMA Show 2023 (USA)
DESCRIPTION:The SEMA Show takes place 31 October-3 November 2023 at the Las Vegas Convention Centre. On show will be thousands of product innovations \, the latest product and custom vehicle trends\, 70-plus free professional skill-enhancing education sessions\, and the opportunity to connect with peers\, leaders\, and celebrities at the industry’s most anticipated in-person networking event.
URL:https://www.bodyshopmag.com/events-diary/the-sema-show-2023-usa/
LOCATION:Las Vegas Convention Centre\, 3150 Paradise Road\, Las Vegas\, NV\, 89109\, United States
CATEGORIES:General Events
ORGANIZER;CN="Specialty Equipment Market Association (SEMA)":MAILTO:semashow@sema.org
END:VEVENT
BEGIN:VEVENT
DTSTART;TZID=Europe/London:20231031T090000
DTEND;TZID=Europe/London:20231102T170000
DTSTAMP:20260421T212124
CREATED:20221103T082740Z
LAST-MODIFIED:20221114T090714Z
UID:41098-1698742800-1698944400@www.bodyshopmag.com
SUMMARY:AAPEX 2023 (USA)
DESCRIPTION:AAPEX is a trade-only event for the automotive aftermarket. AAPEX is co-owned by the Auto Care Association and AASA\, the Light Vehicle Aftermarket Division of MEMA.
URL:https://www.bodyshopmag.com/events-diary/aapex-2023/
LOCATION:The Venetian Expo\, 201 Sands Avenue\, Las Vegas\, NV\, 89169\, United States
CATEGORIES:General Events
END:VEVENT
END:VCALENDAR