BEGIN:VCALENDAR
VERSION:2.0
PRODID:-//Bodyshop Magazine - ECPv6.15.18//NONSGML v1.0//EN
CALSCALE:GREGORIAN
METHOD:PUBLISH
X-ORIGINAL-URL:https://www.bodyshopmag.com
X-WR-CALDESC:Events for Bodyshop Magazine
REFRESH-INTERVAL;VALUE=DURATION:PT1H
X-Robots-Tag:noindex
X-PUBLISHED-TTL:PT1H
BEGIN:VTIMEZONE
TZID:Europe/London
BEGIN:DAYLIGHT
TZOFFSETFROM:+0000
TZOFFSETTO:+0100
TZNAME:BST
DTSTART:20220327T010000
END:DAYLIGHT
BEGIN:STANDARD
TZOFFSETFROM:+0100
TZOFFSETTO:+0000
TZNAME:GMT
DTSTART:20221030T010000
END:STANDARD
BEGIN:DAYLIGHT
TZOFFSETFROM:+0000
TZOFFSETTO:+0100
TZNAME:BST
DTSTART:20230326T010000
END:DAYLIGHT
BEGIN:STANDARD
TZOFFSETFROM:+0100
TZOFFSETTO:+0000
TZNAME:GMT
DTSTART:20231029T010000
END:STANDARD
BEGIN:DAYLIGHT
TZOFFSETFROM:+0000
TZOFFSETTO:+0100
TZNAME:BST
DTSTART:20240331T010000
END:DAYLIGHT
BEGIN:STANDARD
TZOFFSETFROM:+0100
TZOFFSETTO:+0000
TZNAME:GMT
DTSTART:20241027T010000
END:STANDARD
END:VTIMEZONE
BEGIN:VEVENT
DTSTART;TZID=Europe/London:20231030T090000
DTEND;TZID=Europe/London:20231030T173000
DTSTAMP:20260421T212125
CREATED:20230801T120301Z
LAST-MODIFIED:20230801T120301Z
UID:43854-1698656400-1698687000@www.bodyshopmag.com
SUMMARY:MSO Symposium 2023 (USA)
DESCRIPTION:The 12th annual MSO Symposium offers a unique programme of content surrounding current trends in the collision repair industry along with micro- and macro-economic impacts. Taking place in Las Vegas on the Monday of SEMA/AAPEX week at the Mirage Convention Centre\, the MSO Symposium is a great opportunity to meet the best and brightest of the US collision industry.
URL:https://www.bodyshopmag.com/events-diary/mso-symposium-2023-usa/
LOCATION:Mirage Convention Centre\, 3400 Las Vegas Boulevard South\, Las Vegas\, NV\, 89109\, United States
CATEGORIES:General Events
ORGANIZER;CN="MSO Symposium":MAILTO:BrianN@msosymposium.com
END:VEVENT
END:VCALENDAR