BEGIN:VCALENDAR
VERSION:2.0
PRODID:-//Bodyshop Magazine - ECPv6.15.18//NONSGML v1.0//EN
CALSCALE:GREGORIAN
METHOD:PUBLISH
X-ORIGINAL-URL:https://www.bodyshopmag.com
X-WR-CALDESC:Events for Bodyshop Magazine
REFRESH-INTERVAL;VALUE=DURATION:PT1H
X-Robots-Tag:noindex
X-PUBLISHED-TTL:PT1H
BEGIN:VTIMEZONE
TZID:Europe/London
BEGIN:DAYLIGHT
TZOFFSETFROM:+0000
TZOFFSETTO:+0100
TZNAME:BST
DTSTART:20220327T010000
END:DAYLIGHT
BEGIN:STANDARD
TZOFFSETFROM:+0100
TZOFFSETTO:+0000
TZNAME:GMT
DTSTART:20221030T010000
END:STANDARD
BEGIN:DAYLIGHT
TZOFFSETFROM:+0000
TZOFFSETTO:+0100
TZNAME:BST
DTSTART:20230326T010000
END:DAYLIGHT
BEGIN:STANDARD
TZOFFSETFROM:+0100
TZOFFSETTO:+0000
TZNAME:GMT
DTSTART:20231029T010000
END:STANDARD
BEGIN:DAYLIGHT
TZOFFSETFROM:+0000
TZOFFSETTO:+0100
TZNAME:BST
DTSTART:20240331T010000
END:DAYLIGHT
BEGIN:STANDARD
TZOFFSETFROM:+0100
TZOFFSETTO:+0000
TZNAME:GMT
DTSTART:20241027T010000
END:STANDARD
END:VTIMEZONE
BEGIN:VEVENT
DTSTART;TZID=Europe/London:20231016T090000
DTEND;TZID=Europe/London:20231020T170000
DTSTAMP:20260422T033242
CREATED:20230328T101446Z
LAST-MODIFIED:20230328T101446Z
UID:42727-1697446800-1697821200@www.bodyshopmag.com
SUMMARY:Video Analysis in Collision Reconstruction (ITAI online training)
DESCRIPTION:The Institute of Traffic Accident Investigators (ITAI) will provide a five-day training course on the subject of Video Analysis in Collision Reconstruction\, presented by FCIR. This course is aimed at collision investigators who routinely handle CCTV footage from numerous sources. This course will discuss the fundamentals of image capture\, image compression\, image handling and artefacts relevant to the collision investigator. Techniques for establishing frame time intervals and subject positioning using photogrammetry are also covered within this training. Image presentation is also discussed within this course\, with example case studies. A competency examination will also feature at the end of the course with a certificate issued upon successful completion.
URL:https://www.bodyshopmag.com/events-diary/video-analysis-in-collision-reconstruction-itai-online-training/
LOCATION:Webinar
CATEGORIES:General Events
ORGANIZER;CN="Institute of Traffic Accident Investigators (ITAI)":MAILTO:admin@itai.org
END:VEVENT
BEGIN:VEVENT
DTSTART;TZID=Europe/London:20231019T090000
DTEND;TZID=Europe/London:20231019T170000
DTSTAMP:20260422T033242
CREATED:20231009T103257Z
LAST-MODIFIED:20231009T104056Z
UID:44931-1697706000-1697734800@www.bodyshopmag.com
SUMMARY:Digital Transformation in Logistics 2023
DESCRIPTION:This conference aims to bring together senior leaders and industry experts to delve into the latest trends and strategies driving the future of logistics through innovation and digitalisation. Other sessions include a focus on the strategic utilisation of technology to help businesses gain a competitive edge via increased margins and improved market performance; the 2025 UK Border Strategy and the pivotal role IT solutions will play in facilitating seamless trade processes; a workshop on digital solutions for transport decarbonisation; and a panel discussion surrounding innovative concepts and which of the emerging technologies are likely to deliver the most value to supply chains.  
URL:https://www.bodyshopmag.com/events-diary/digital-transformation-in-logistics-2023/
LOCATION:The Studio\, 7 Cannon Street\, Birmingham\, B2 5EP\, United Kingdom
CATEGORIES:General Events
END:VEVENT
BEGIN:VEVENT
DTSTART;TZID=Europe/London:20231019T150000
DTEND;TZID=Europe/London:20231019T160000
DTSTAMP:20260422T033242
CREATED:20231009T105417Z
LAST-MODIFIED:20231009T105417Z
UID:44935-1697727600-1697731200@www.bodyshopmag.com
SUMMARY:Building an architecture fit for the future (Insurance Innovators webinar)
DESCRIPTION:As the economic state of play remains unstable\, innovation will be more crucial than ever within the insurance industry to ensure resilience. This Insurance Innovators webinar will look at everything from automation to cloud and open APIs\, as  insurers increasingly have to focus their investment priorities to build a successful transformation strategy.
URL:https://www.bodyshopmag.com/events-diary/building-an-architecture-fit-for-the-future-insurance-innovators-webinar/
LOCATION:Webinar
CATEGORIES:General Events
END:VEVENT
BEGIN:VEVENT
DTSTART;TZID=Europe/London:20231019T180000
DTEND;TZID=Europe/London:20231019T190000
DTSTAMP:20260422T033242
CREATED:20231011T141123Z
LAST-MODIFIED:20231011T141123Z
UID:44983-1697738400-1697742000@www.bodyshopmag.com
SUMMARY:Accelerating your path to autonomy with precise\, absolute positioning (Wards Auto webinar)
DESCRIPTION:In this webinar\, Trimble Navigation will provide an overview of the Trimble Positioning Ecosystem. This ecosystem encompasses end-to-end precise positioning solutions\, ranging from reference systems to in-car positioning engines\, delivering reliable absolute positioning for in-lane vehicle performance.
URL:https://www.bodyshopmag.com/events-diary/accelerating-your-path-to-autonomy-with-precise-absolute-positioning-wards-auto-webinar/
LOCATION:Webinar
CATEGORIES:General Events
ORGANIZER;CN="Wards Auto":MAILTO:maria.conrado@informa.com
END:VEVENT
BEGIN:VEVENT
DTSTART;TZID=Europe/London:20231019T184500
DTEND;TZID=Europe/London:20231019T234500
DTSTAMP:20260422T033242
CREATED:20231009T153838Z
LAST-MODIFIED:20231009T153841Z
UID:44953-1697741100-1697759100@www.bodyshopmag.com
SUMMARY:BCF Awards 2023
DESCRIPTION:The BCF (British Coatings Federation) Awards celebrate excellence and recognise innovation in the UK coatings industry. Tis year’s winners will be announced on 19 October 2023 at The Grand Hotel Birmingham.
URL:https://www.bodyshopmag.com/events-diary/bcf-awards-2023/
LOCATION:The Grand Hotel Birmingham\, Colmore Row\, Birmingham\, B3 2BS\, United Kingdom
CATEGORIES:Awards
ORGANIZER;CN="British Coatings Federation (BCF)":MAILTO:info@bcf.co.uk
END:VEVENT
END:VCALENDAR