BEGIN:VCALENDAR
VERSION:2.0
PRODID:-//Bodyshop Magazine - ECPv6.15.18//NONSGML v1.0//EN
CALSCALE:GREGORIAN
METHOD:PUBLISH
X-ORIGINAL-URL:https://www.bodyshopmag.com
X-WR-CALDESC:Events for Bodyshop Magazine
REFRESH-INTERVAL;VALUE=DURATION:PT1H
X-Robots-Tag:noindex
X-PUBLISHED-TTL:PT1H
BEGIN:VTIMEZONE
TZID:Europe/London
BEGIN:DAYLIGHT
TZOFFSETFROM:+0000
TZOFFSETTO:+0100
TZNAME:BST
DTSTART:20220327T010000
END:DAYLIGHT
BEGIN:STANDARD
TZOFFSETFROM:+0100
TZOFFSETTO:+0000
TZNAME:GMT
DTSTART:20221030T010000
END:STANDARD
BEGIN:DAYLIGHT
TZOFFSETFROM:+0000
TZOFFSETTO:+0100
TZNAME:BST
DTSTART:20230326T010000
END:DAYLIGHT
BEGIN:STANDARD
TZOFFSETFROM:+0100
TZOFFSETTO:+0000
TZNAME:GMT
DTSTART:20231029T010000
END:STANDARD
BEGIN:DAYLIGHT
TZOFFSETFROM:+0000
TZOFFSETTO:+0100
TZNAME:BST
DTSTART:20240331T010000
END:DAYLIGHT
BEGIN:STANDARD
TZOFFSETFROM:+0100
TZOFFSETTO:+0000
TZNAME:GMT
DTSTART:20241027T010000
END:STANDARD
END:VTIMEZONE
BEGIN:VEVENT
DTSTART;TZID=Europe/London:20231016T090000
DTEND;TZID=Europe/London:20231020T170000
DTSTAMP:20260422T033257
CREATED:20230328T101446Z
LAST-MODIFIED:20230328T101446Z
UID:42727-1697446800-1697821200@www.bodyshopmag.com
SUMMARY:Video Analysis in Collision Reconstruction (ITAI online training)
DESCRIPTION:The Institute of Traffic Accident Investigators (ITAI) will provide a five-day training course on the subject of Video Analysis in Collision Reconstruction\, presented by FCIR. This course is aimed at collision investigators who routinely handle CCTV footage from numerous sources. This course will discuss the fundamentals of image capture\, image compression\, image handling and artefacts relevant to the collision investigator. Techniques for establishing frame time intervals and subject positioning using photogrammetry are also covered within this training. Image presentation is also discussed within this course\, with example case studies. A competency examination will also feature at the end of the course with a certificate issued upon successful completion.
URL:https://www.bodyshopmag.com/events-diary/video-analysis-in-collision-reconstruction-itai-online-training/
LOCATION:Webinar
CATEGORIES:General Events
ORGANIZER;CN="Institute of Traffic Accident Investigators (ITAI)":MAILTO:admin@itai.org
END:VEVENT
BEGIN:VEVENT
DTSTART;TZID=Europe/London:20231017T090000
DTEND;TZID=Europe/London:20231018T170000
DTSTAMP:20260422T033257
CREATED:20230714T130754Z
LAST-MODIFIED:20230714T130754Z
UID:43742-1697533200-1697648400@www.bodyshopmag.com
SUMMARY:AutoTech: Electrification (USA)
DESCRIPTION:AutoTech: Electrification focuses on bringing together decision-makers in the automotive industry to collaborate and find new business models to stay competitive. As EVs are reshaping the automotive ecosystem\, and EV consumers expect a more connected\, autonomous\, and personalised experience\, the industry needs to evolve to predict and prepare for demand. AutoTech: Electrification is hosted by the industry analysts at Wards Intelligence and showcases deep-dive presentations and panel discussions on electrification strategies and technologies.
URL:https://www.bodyshopmag.com/events-diary/autotech-electrification-usa/
LOCATION:Fort Pontchartrain (a Wyndham Hotel)\, 2 Washington Boulevard\, Detroit\, MI\, 48226\, United States
CATEGORIES:General Events
ORGANIZER;CN="Wards Intelligence":MAILTO:wardsintelligence@informa.com
END:VEVENT
BEGIN:VEVENT
DTSTART;TZID=Europe/London:20231018T100000
DTEND;TZID=Europe/London:20231018T150000
DTSTAMP:20260422T033257
CREATED:20231009T101506Z
LAST-MODIFIED:20231009T101755Z
UID:44929-1697623200-1697641200@www.bodyshopmag.com
SUMMARY:SMMT Global Trade Conference 2023
DESCRIPTION:The SMMT’s second Global Trade Conference 2023 will take place virtually on Wednesday\, 18 October. Global trade is of significant importance to the UK automotive industry and its future success. The Conference runs from 10:00-15:00 covering: \n\nThreading the needle: automotive trade in Asia and the Indo-Pacific.\nWinding roads: a trade policy fit for the automotive revolution.\nShifting the dial: new automotive trade priorities for the old world.\nCarrot and stick: automotive trade policy in North America.
URL:https://www.bodyshopmag.com/events-diary/smmt-global-trade-conference-2023/
LOCATION:Webinar
CATEGORIES:General Events
ORGANIZER;CN="Society of Motor Manufacturers and Traders (SMMT)":MAILTO:smmtsummit@smmt.co.uk
END:VEVENT
END:VCALENDAR