BEGIN:VCALENDAR
VERSION:2.0
PRODID:-//Bodyshop Magazine - ECPv6.15.18//NONSGML v1.0//EN
CALSCALE:GREGORIAN
METHOD:PUBLISH
X-WR-CALNAME:Bodyshop Magazine
X-ORIGINAL-URL:https://www.bodyshopmag.com
X-WR-CALDESC:Events for Bodyshop Magazine
REFRESH-INTERVAL;VALUE=DURATION:PT1H
X-Robots-Tag:noindex
X-PUBLISHED-TTL:PT1H
BEGIN:VTIMEZONE
TZID:Europe/London
BEGIN:DAYLIGHT
TZOFFSETFROM:+0000
TZOFFSETTO:+0100
TZNAME:BST
DTSTART:20220327T010000
END:DAYLIGHT
BEGIN:STANDARD
TZOFFSETFROM:+0100
TZOFFSETTO:+0000
TZNAME:GMT
DTSTART:20221030T010000
END:STANDARD
BEGIN:DAYLIGHT
TZOFFSETFROM:+0000
TZOFFSETTO:+0100
TZNAME:BST
DTSTART:20230326T010000
END:DAYLIGHT
BEGIN:STANDARD
TZOFFSETFROM:+0100
TZOFFSETTO:+0000
TZNAME:GMT
DTSTART:20231029T010000
END:STANDARD
BEGIN:DAYLIGHT
TZOFFSETFROM:+0000
TZOFFSETTO:+0100
TZNAME:BST
DTSTART:20240331T010000
END:DAYLIGHT
BEGIN:STANDARD
TZOFFSETFROM:+0100
TZOFFSETTO:+0000
TZNAME:GMT
DTSTART:20241027T010000
END:STANDARD
END:VTIMEZONE
BEGIN:VEVENT
DTSTART;TZID=Europe/London:20231005T090000
DTEND;TZID=Europe/London:20231014T170000
DTSTAMP:20260421T211940
CREATED:20230922T094551Z
LAST-MODIFIED:20230922T094551Z
UID:44285-1696496400-1697302800@www.bodyshopmag.com
SUMMARY:Geneva International Motor Show 2023 (Qatar)
DESCRIPTION:The inaugural GIMS QATAR\, an automotive festival that builds on the Geneva Motor Show’s heritage of excellence in Qatar\, is considered one of the most prestigious and influential icons in the automotive world\, hosting industry-defining events in Geneva and Qatar. Visitors and exhibitors can look forward to a spectacular showcase of luxury\, sports\, exotics\, and classics.
URL:https://www.bodyshopmag.com/events-diary/geneva-international-motor-show-2023-qatar/
LOCATION:Doha Exhibition & Convention Centre (DECC)\, West Bay\, Doha\, Qatar
CATEGORIES:General Events
END:VEVENT
BEGIN:VEVENT
DTSTART;TZID=Europe/London:20231012T090000
DTEND;TZID=Europe/London:20231012T170000
DTSTAMP:20260421T211940
CREATED:20230331T091327Z
LAST-MODIFIED:20230331T094607Z
UID:42858-1697101200-1697130000@www.bodyshopmag.com
SUMMARY:IBIS TÜRKIYE 2023 (Istanbul)
DESCRIPTION:IBIS Türkiye returns to the Sheraton Hotel Levent in Istanbul to continue the IBIS 2023 events theme of “Sustainable Strategies for Success” that is providing solutions and opportunities and helping to shape international collision repair markets. In the Turkish capital this year\, leaders and influencers from all stakeholders and industry sectors will meet once again to continue the debate.
URL:https://www.bodyshopmag.com/events-diary/ibis-turkiye-2023/
LOCATION:Sheraton Hotel Levent\, Buyukdere Caddesi No 3-4\, 4 Levent\, Istanbul\, Kagithane\, 34330\, Turkey
CATEGORIES:General Events
ORGANIZER;CN="IBIS Worldwide":MAILTO:suzie@ibisworldwide.com
END:VEVENT
BEGIN:VEVENT
DTSTART;TZID=Europe/London:20231012T110000
DTEND;TZID=Europe/London:20231012T234500
DTSTAMP:20260421T211940
CREATED:20230921T141133Z
LAST-MODIFIED:20230921T141133Z
UID:44267-1697108400-1697154300@www.bodyshopmag.com
SUMMARY:The CHO Conference 2023
DESCRIPTION:The 2023 Credit Hire Organisation (CHO) conference is taking place at the Voco St John’s Hotel\, Solihull on 12 October. The event is a long-standing fixture in the credit hire industry calendar\, and attracts senior decision makers and practitioners from across the sector for a day’s networking and debate before relaxing at the gala dinner in the evening.
URL:https://www.bodyshopmag.com/events-diary/the-cho-conference-2023/
LOCATION:Voco St John’s\, 651 Warwick Road\, Solihull\, B91 1AT\, United Kingdom
CATEGORIES:General Events
END:VEVENT
END:VCALENDAR