BEGIN:VCALENDAR
VERSION:2.0
PRODID:-//Bodyshop Magazine - ECPv6.15.18//NONSGML v1.0//EN
CALSCALE:GREGORIAN
METHOD:PUBLISH
X-WR-CALNAME:Bodyshop Magazine
X-ORIGINAL-URL:https://www.bodyshopmag.com
X-WR-CALDESC:Events for Bodyshop Magazine
REFRESH-INTERVAL;VALUE=DURATION:PT1H
X-Robots-Tag:noindex
X-PUBLISHED-TTL:PT1H
BEGIN:VTIMEZONE
TZID:Europe/London
BEGIN:DAYLIGHT
TZOFFSETFROM:+0000
TZOFFSETTO:+0100
TZNAME:BST
DTSTART:20220327T010000
END:DAYLIGHT
BEGIN:STANDARD
TZOFFSETFROM:+0100
TZOFFSETTO:+0000
TZNAME:GMT
DTSTART:20221030T010000
END:STANDARD
BEGIN:DAYLIGHT
TZOFFSETFROM:+0000
TZOFFSETTO:+0100
TZNAME:BST
DTSTART:20230326T010000
END:DAYLIGHT
BEGIN:STANDARD
TZOFFSETFROM:+0100
TZOFFSETTO:+0000
TZNAME:GMT
DTSTART:20231029T010000
END:STANDARD
BEGIN:DAYLIGHT
TZOFFSETFROM:+0000
TZOFFSETTO:+0100
TZNAME:BST
DTSTART:20240331T010000
END:DAYLIGHT
BEGIN:STANDARD
TZOFFSETFROM:+0100
TZOFFSETTO:+0000
TZNAME:GMT
DTSTART:20241027T010000
END:STANDARD
END:VTIMEZONE
BEGIN:VEVENT
DTSTART;TZID=Europe/London:20231002T090000
DTEND;TZID=Europe/London:20231004T170000
DTSTAMP:20260421T211936
CREATED:20230104T112402Z
LAST-MODIFIED:20230921T170154Z
UID:41728-1696237200-1696438800@www.bodyshopmag.com
SUMMARY:Automechanika Dubai 2023
DESCRIPTION:The largest international trade exhibition for the automotive aftermarket in the wider Middle East region\, Automechanika Dubai put on a record-breaking show in 2022 with 43\,103 visitors from 153 countries joining 1\,145 exhibitors from 53 countries and 20 official country pavilions.
URL:https://www.bodyshopmag.com/events-diary/automechanika-dubai-2023/
LOCATION:Dubai World Trade Centre\, Sheikh Zayed Road\, Dubai\, Trade Centre 2\, United Arab Emirates
CATEGORIES:General Events
END:VEVENT
END:VCALENDAR