BEGIN:VCALENDAR
VERSION:2.0
PRODID:-//Bodyshop Magazine - ECPv6.15.18//NONSGML v1.0//EN
CALSCALE:GREGORIAN
METHOD:PUBLISH
X-WR-CALNAME:Bodyshop Magazine
X-ORIGINAL-URL:https://www.bodyshopmag.com
X-WR-CALDESC:Events for Bodyshop Magazine
REFRESH-INTERVAL;VALUE=DURATION:PT1H
X-Robots-Tag:noindex
X-PUBLISHED-TTL:PT1H
BEGIN:VTIMEZONE
TZID:Europe/London
BEGIN:DAYLIGHT
TZOFFSETFROM:+0000
TZOFFSETTO:+0100
TZNAME:BST
DTSTART:20220327T010000
END:DAYLIGHT
BEGIN:STANDARD
TZOFFSETFROM:+0100
TZOFFSETTO:+0000
TZNAME:GMT
DTSTART:20221030T010000
END:STANDARD
BEGIN:DAYLIGHT
TZOFFSETFROM:+0000
TZOFFSETTO:+0100
TZNAME:BST
DTSTART:20230326T010000
END:DAYLIGHT
BEGIN:STANDARD
TZOFFSETFROM:+0100
TZOFFSETTO:+0000
TZNAME:GMT
DTSTART:20231029T010000
END:STANDARD
BEGIN:DAYLIGHT
TZOFFSETFROM:+0000
TZOFFSETTO:+0100
TZNAME:BST
DTSTART:20240331T010000
END:DAYLIGHT
BEGIN:STANDARD
TZOFFSETFROM:+0100
TZOFFSETTO:+0000
TZNAME:GMT
DTSTART:20241027T010000
END:STANDARD
END:VTIMEZONE
BEGIN:VEVENT
DTSTART;TZID=Europe/London:20230919T090000
DTEND;TZID=Europe/London:20230919T090000
DTSTAMP:20260423T143927
CREATED:20230331T092045Z
LAST-MODIFIED:20230331T094944Z
UID:42859-1695114000-1695114000@www.bodyshopmag.com
SUMMARY:IBIS IBERIA 2023 (Ávila\, Spain)
DESCRIPTION:The inaugural IBIS Iberia 2023 will be held in Ávila\, west of Madrid\, on 19 September. Continuing the IBIS theme of “Sustainable Strategies for Success”\, this all-day IBIS Worldwide event will offer a packed agenda including a market update on the Spanish and Portuguese collision repair markets\, technical presentations covering the impact of repairing new technology vehicles\, how collision shops need to prepare for the future\, staff shortages and retention\, and much more.
URL:https://www.bodyshopmag.com/events-diary/ibis-iberia-2023/
LOCATION:Lienzo Norte Conference and Exhibition Centre\, Avenue de Madrid\, 102\, Ávila\, 05001\, Spain
CATEGORIES:General Events
ORGANIZER;CN="IBIS Worldwide":MAILTO:suzie@ibisworldwide.com
END:VEVENT
BEGIN:VEVENT
DTSTART;TZID=Europe/London:20230919T093000
DTEND;TZID=Europe/London:20230921T163000
DTSTAMP:20260423T143927
CREATED:20221110T151118Z
LAST-MODIFIED:20221110T151213Z
UID:41199-1695115800-1695313800@www.bodyshopmag.com
SUMMARY:Professional Recovery Tow Show 2023
DESCRIPTION:The Professional Recovery Tow Show will take place at the Telford International Centre in September 2023. The Tow Show has become the focus of the vehicle recovery industry with around 1\,200 visitors attending from all parts of the UK. It has become a showcase for manufacturers and suppliers to the industry and it is where the vehicle recovery community converges. The show starts with a Business Seminar sponsored by National Highways on set-up day (Tuesday\, 19 September – 11:00 start) when more than a hundred delegates meet to discuss the issues of the day.
URL:https://www.bodyshopmag.com/events-diary/professional-recovery-tow-show-2023/
LOCATION:Telford International Centre\, International Way\, Telford\, TF3 4JH\, Telford\, Shropshire\, TF3 4JH\, United Kingdom
CATEGORIES:General Events
ORGANIZER;CN="PPMedia":MAILTO:nick.phipps@ppmedia.co.uk
END:VEVENT
END:VCALENDAR