BEGIN:VCALENDAR
VERSION:2.0
PRODID:-//Bodyshop Magazine - ECPv6.15.18//NONSGML v1.0//EN
CALSCALE:GREGORIAN
METHOD:PUBLISH
X-WR-CALNAME:Bodyshop Magazine
X-ORIGINAL-URL:https://www.bodyshopmag.com
X-WR-CALDESC:Events for Bodyshop Magazine
REFRESH-INTERVAL;VALUE=DURATION:PT1H
X-Robots-Tag:noindex
X-PUBLISHED-TTL:PT1H
BEGIN:VTIMEZONE
TZID:Europe/London
BEGIN:DAYLIGHT
TZOFFSETFROM:+0000
TZOFFSETTO:+0100
TZNAME:BST
DTSTART:20220327T010000
END:DAYLIGHT
BEGIN:STANDARD
TZOFFSETFROM:+0100
TZOFFSETTO:+0000
TZNAME:GMT
DTSTART:20221030T010000
END:STANDARD
BEGIN:DAYLIGHT
TZOFFSETFROM:+0000
TZOFFSETTO:+0100
TZNAME:BST
DTSTART:20230326T010000
END:DAYLIGHT
BEGIN:STANDARD
TZOFFSETFROM:+0100
TZOFFSETTO:+0000
TZNAME:GMT
DTSTART:20231029T010000
END:STANDARD
BEGIN:DAYLIGHT
TZOFFSETFROM:+0000
TZOFFSETTO:+0100
TZNAME:BST
DTSTART:20240331T010000
END:DAYLIGHT
BEGIN:STANDARD
TZOFFSETFROM:+0100
TZOFFSETTO:+0000
TZNAME:GMT
DTSTART:20241027T010000
END:STANDARD
END:VTIMEZONE
BEGIN:VEVENT
DTSTART;TZID=Europe/London:20230830T090000
DTEND;TZID=Europe/London:20230902T170000
DTSTAMP:20260421T224720
CREATED:20230615T100347Z
LAST-MODIFIED:20230615T101252Z
UID:43547-1693386000-1693674000@www.bodyshopmag.com
SUMMARY:Salon Privé Concours 2023
DESCRIPTION:Salon Privé will curate 75 of the rarest and most desirable collector cars in the world\, all vying for the Best of Show adjudged by our esteemed ICJAG Jury. The show field will feature treasures from Edwardian era as well as some of the rarest and most valuable grand tourers\, classic sports racers\, era-defining icons and racing legends\, alongside the world’s latest and greatest supercars and concepts from the present and future.
URL:https://www.bodyshopmag.com/events-diary/salon-prive-concours-2023/
LOCATION:Blenheim Palace\, Woodstock\, Oxfordshire\, OX20 1UL\, United Kingdom
CATEGORIES:General Events
ORGANIZER;CN="Performance Events":MAILTO:enquiries@salonprivelondon.com
END:VEVENT
END:VCALENDAR